Workbook

Sheet لوحة الفصل
A1: لوحة الفصل الدراسي: الدرجات والمعدل والحضور والمواعيد
A3: أدخل درجاتك كلما ظهرت؛ يحسب الشيت درجتك الحالية والدرجة المطلوبة في النهائي لتحقق هدفك ومعدلك المتوقع وخطر الحرمان
A4: المعدل المتوقع | B4: الساعات المعتمدة | E4: مقررات في خطر | I4: متوسط الحضور | M4: ساعات المذاكرة | Y4: الحرف | Z4: من % | AA4: نقاط
A5: =IFERROR(SUMPRODUCT(R13:R20,B13:B20)/SUM(B13:B20),0) | B5: =SUM(B13:B20) | E5: =COUNTIF(P13:P20,"صعب")+COUNTIF(P13:P20,"مستحيل") | I5: =IFERROR(SUM(T13:T20)/SUM(S13:S20),0) | M5: =SUM('ساعات المذاكرة'!$S$5:$S$12) | Y5: F | Z5: 0 | AA5: 0
Y6: D | Z6: 60 | AA6: 2
A7: أعلى درجة حالية | B7: أدنى درجة % | E7: أقرب موعد (يوم) | I7: مقررات بالحرمان | M7: ساعات مذاكرة/ساعة معتمدة/أسبوع | Y7: D+ | Z7: 65 | AA7: 2.5
A8: =IFERROR(INDEX(A13:A20,MATCH(MAX(N13:N20),N13:N20,0)),"") | B8: =IFERROR(MIN(N13:N20),0) | E8: =IFERROR(_xlfn.MINIFS(E25:E36,F25:F36,"<>✔",E25:E36,">=0"),"—") | I8: =COUNTIF(V13:V20,"حرمان") | M8: =IFERROR(SUM('ساعات المذاكرة'!$S$5:$S$12)/(SUM(B13:B20)*$Z$16),0) | Y8: C | Z8: 70 | AA8: 3
Y9: C+ | Z9: 75 | AA9: 3.5
Y10: B | Z10: 80 | AA10: 4
Y11: B+ | Z11: 85 | AA11: 4.5
A12: المقرر | B12: ساعات | C12: الهدف % | D12: واجبات % | E12: اختبارات % | F12: نصفي % | G12: نهائي % | H12: درجة الواجبات | I12: درجة الاختبارات | J12: درجة النصفي | K12: درجة النهائي | L12: وزن منجز | M12: نقاط محققة | N12: الحالية % | O12: المطلوب في النهائي | P12: الحالة | Q12: الحرف | R12: نقاط GPA | S12: محاضرات | T12: حضور | U12: غياب % | V12: حالة الحضور | Y12: A | Z12: 90 | AA12: 4.75
A13: التفاضل والتكامل 2 | B13: 4 | C13: 88 | D13: 15 | E13: 10 | F13: 30 | G13: 45 | H13: 92 | I13: 85 | J13: 78 | L13: =IF($A13="","",SUMPRODUCT(--ISNUMBER(H13:K13),D13:G13)) | M13: =IF($A13="","",(IF(ISNUMBER(H13),H13*D13,0)+IF(ISNUMBER(I13),I13*E13,0)+IF(ISNUMBER(J13),J13*F13,0)+IF(ISNUMBER(K13),K13*G13,0))/100) | N13: =IF($A13="","",IF(L13=0,0,M13/L13*100)) | O13: =IF($A13="","",IF(ISNUMBER(K13),"—",IF(G13=0,"—",(C13-M13)/G13*100))) | P13: =IF($A13="","",IF(ISNUMBER(K13),IF(M13>=C13,"حققت الهدف","دون الهدف"),IF(O13>100,"مستحيل",IF(O13>90,"صعب",IF(O13>75,"ممكن","مريح"))))) | Q13: =IF($A13="","",INDEX($Y$5:$Y$13,MATCH(IF(ISNUMBER(K13),M13,N13),$Z$5:$Z$13,1))) | R13: =IF($A13="","",INDEX($AA$5:$AA$13,MATCH(IF(ISNUMBER(K13),M13,N13),$Z$5:$Z$13,1))) | S13: 36 | T13: 34 | U13: =IF($A13="","",IF(N(S13)=0,0,1-T13/S13)) | V13: =IF($A13="","",IF(U13>$Z$15,"حرمان",IF(U13>=$Z$15*0.8,"خطر","OK"))) | Y13: A+ | Z13: 95 | AA13: 5
A14: الدوائر الكهربائية | B14: 3 | C14: 90 | D14: 20 | E14: 10 | F14: 30 | G14: 40 | H14: 95 | I14: 90 | J14: 88 | L14: =IF($A14="","",SUMPRODUCT(--ISNUMBER(H14:K14),D14:G14)) | M14: =IF($A14="","",(IF(ISNUMBER(H14),H14*D14,0)+IF(ISNUMBER(I14),I14*E14,0)+IF(ISNUMBER(J14),J14*F14,0)+IF(ISNUMBER(K14),K14*G14,0))/100) | N14: =IF($A14="","",IF(L14=0,0,M14/L14*100)) | O14: =IF($A14="","",IF(ISNUMBER(K14),"—",IF(G14=0,"—",(C14-M14)/G14*100))) | P14: =IF($A14="","",IF(ISNUMBER(K14),IF(M14>=C14,"حققت الهدف","دون الهدف"),IF(O14>100,"مستحيل",IF(O14>90,"صعب",IF(O14>75,"ممكن","مريح"))))) | Q14: =IF($A14="","",INDEX($Y$5:$Y$13,MATCH(IF(ISNUMBER(K14),M14,N14),$Z$5:$Z$13,1))) | R14: =IF($A14="","",INDEX($AA$5:$AA$13,MATCH(IF(ISNUMBER(K14),M14,N14),$Z$5:$Z$13,1))) | S14: 27 | T14: 27 | U14: =IF($A14="","",IF(N(S14)=0,0,1-T14/S14)) | V14: =IF($A14="","",IF(U14>$Z$15,"حرمان",IF(U14>=$Z$15*0.8,"خطر","OK")))
A15: البرمجة | B15: 3 | C15: 85 | D15: 30 | E15: 10 | F15: 25 | G15: 35 | H15: 88 | I15: 70 | J15: 74 | L15: =IF($A15="","",SUMPRODUCT(--ISNUMBER(H15:K15),D15:G15)) | M15: =IF($A15="","",(IF(ISNUMBER(H15),H15*D15,0)+IF(ISNUMBER(I15),I15*E15,0)+IF(ISNUMBER(J15),J15*F15,0)+IF(ISNUMBER(K15),K15*G15,0))/100) | N15: =IF($A15="","",IF(L15=0,0,M15/L15*100)) | O15: =IF($A15="","",IF(ISNUMBER(K15),"—",IF(G15=0,"—",(C15-M15)/G15*100))) | P15: =IF($A15="","",IF(ISNUMBER(K15),IF(M15>=C15,"حققت الهدف","دون الهدف"),IF(O15>100,"مستحيل",IF(O15>90,"صعب",IF(O15>75,"ممكن","مريح"))))) | Q15: =IF($A15="","",INDEX($Y$5:$Y$13,MATCH(IF(ISNUMBER(K15),M15,N15),$Z$5:$Z$13,1))) | R15: =IF($A15="","",INDEX($AA$5:$AA$13,MATCH(IF(ISNUMBER(K15),M15,N15),$Z$5:$Z$13,1))) | S15: 27 | T15: 24 | U15: =IF($A15="","",IF(N(S15)=0,0,1-T15/S15)) | V15: =IF($A15="","",IF(U15>$Z$15,"حرمان",IF(U15>=$Z$15*0.8,"خطر","OK"))) | Y15: الحد الأقصى للغياب % | Z15: 0.25
A16: الفيزياء العامة | B16: 3 | C16: 80 | D16: 10 | E16: 15 | F16: 30 | G16: 45 | H16: 70 | I16: 62 | J16: 58 | L16: =IF($A16="","",SUMPRODUCT(--ISNUMBER(H16:K16),D16:G16)) | M16: =IF($A16="","",(IF(ISNUMBER(H16),H16*D16,0)+IF(ISNUMBER(I16),I16*E16,0)+IF(ISNUMBER(J16),J16*F16,0)+IF(ISNUMBER(K16),K16*G16,0))/100) | N16: =IF($A16="","",IF(L16=0,0,M16/L16*100)) | O16: =IF($A16="","",IF(ISNUMBER(K16),"—",IF(G16=0,"—",(C16-M16)/G16*100))) | P16: =IF($A16="","",IF(ISNUMBER(K16),IF(M16>=C16,"حققت الهدف","دون الهدف"),IF(O16>100,"مستحيل",IF(O16>90,"صعب",IF(O16>75,"ممكن","مريح"))))) | Q16: =IF($A16="","",INDEX($Y$5:$Y$13,MATCH(IF(ISNUMBER(K16),M16,N16),$Z$5:$Z$13,1))) | R16: =IF($A16="","",INDEX($AA$5:$AA$13,MATCH(IF(ISNUMBER(K16),M16,N16),$Z$5:$Z$13,1))) | S16: 27 | T16: 21 | U16: =IF($A16="","",IF(N(S16)=0,0,1-T16/S16)) | V16: =IF($A16="","",IF(U16>$Z$15,"حرمان",IF(U16>=$Z$15*0.8,"خطر","OK"))) | Y16: الأسبوع الحالي | Z16: 9
A17: الكتابة الفنية | B17: 2 | C17: 90 | D17: 40 | E17: 10 | F17: 20 | G17: 30 | H17: 96 | I17: 92 | J17: 90 | L17: =IF($A17="","",SUMPRODUCT(--ISNUMBER(H17:K17),D17:G17)) | M17: =IF($A17="","",(IF(ISNUMBER(H17),H17*D17,0)+IF(ISNUMBER(I17),I17*E17,0)+IF(ISNUMBER(J17),J17*F17,0)+IF(ISNUMBER(K17),K17*G17,0))/100) | N17: =IF($A17="","",IF(L17=0,0,M17/L17*100)) | O17: =IF($A17="","",IF(ISNUMBER(K17),"—",IF(G17=0,"—",(C17-M17)/G17*100))) | P17: =IF($A17="","",IF(ISNUMBER(K17),IF(M17>=C17,"حققت الهدف","دون الهدف"),IF(O17>100,"مستحيل",IF(O17>90,"صعب",IF(O17>75,"ممكن","مريح"))))) | Q17: =IF($A17="","",INDEX($Y$5:$Y$13,MATCH(IF(ISNUMBER(K17),M17,N17),$Z$5:$Z$13,1))) | R17: =IF($A17="","",INDEX($AA$5:$AA$13,MATCH(IF(ISNUMBER(K17),M17,N17),$Z$5:$Z$13,1))) | S17: 18 | T17: 17 | U17: =IF($A17="","",IF(N(S17)=0,0,1-T17/S17)) | V17: =IF($A17="","",IF(U17>$Z$15,"حرمان",IF(U17>=$Z$15*0.8,"خطر","OK"))) | Y17: تاريخ اليوم | Z17: 46318
A18: الإحصاء | B18: 3 | C18: 85 | D18: 20 | E18: 10 | F18: 30 | G18: 40 | H18: 82 | I18: 88 | J18: 81 | L18: =IF($A18="","",SUMPRODUCT(--ISNUMBER(H18:K18),D18:G18)) | M18: =IF($A18="","",(IF(ISNUMBER(H18),H18*D18,0)+IF(ISNUMBER(I18),I18*E18,0)+IF(ISNUMBER(J18),J18*F18,0)+IF(ISNUMBER(K18),K18*G18,0))/100) | N18: =IF($A18="","",IF(L18=0,0,M18/L18*100)) | O18: =IF($A18="","",IF(ISNUMBER(K18),"—",IF(G18=0,"—",(C18-M18)/G18*100))) | P18: =IF($A18="","",IF(ISNUMBER(K18),IF(M18>=C18,"حققت الهدف","دون الهدف"),IF(O18>100,"مستحيل",IF(O18>90,"صعب",IF(O18>75,"ممكن","مريح"))))) | Q18: =IF($A18="","",INDEX($Y$5:$Y$13,MATCH(IF(ISNUMBER(K18),M18,N18),$Z$5:$Z$13,1))) | R18: =IF($A18="","",INDEX($AA$5:$AA$13,MATCH(IF(ISNUMBER(K18),M18,N18),$Z$5:$Z$13,1))) | S18: 27 | T18: 25 | U18: =IF($A18="","",IF(N(S18)=0,0,1-T18/S18)) | V18: =IF($A18="","",IF(U18>$Z$15,"حرمان",IF(U18>=$Z$15*0.8,"خطر","OK")))
L19: =IF($A19="","",SUMPRODUCT(--ISNUMBER(H19:K19),D19:G19)) | M19: =IF($A19="","",(IF(ISNUMBER(H19),H19*D19,0)+IF(ISNUMBER(I19),I19*E19,0)+IF(ISNUMBER(J19),J19*F19,0)+IF(ISNUMBER(K19),K19*G19,0))/100) | N19: =IF($A19="","",IF(L19=0,0,M19/L19*100)) | O19: =IF($A19="","",IF(ISNUMBER(K19),"—",IF(G19=0,"—",(C19-M19)/G19*100))) | P19: =IF($A19="","",IF(ISNUMBER(K19),IF(M19>=C19,"حققت الهدف","دون الهدف"),IF(O19>100,"مستحيل",IF(O19>90,"صعب",IF(O19>75,"ممكن","مريح"))))) | Q19: =IF($A19="","",INDEX($Y$5:$Y$13,MATCH(IF(ISNUMBER(K19),M19,N19),$Z$5:$Z$13,1))) | R19: =IF($A19="","",INDEX($AA$5:$AA$13,MATCH(IF(ISNUMBER(K19),M19,N19),$Z$5:$Z$13,1))) | U19: =IF($A19="","",IF(N(S19)=0,0,1-T19/S19)) | V19: =IF($A19="","",IF(U19>$Z$15,"حرمان",IF(U19>=$Z$15*0.8,"خطر","OK")))
L20: =IF($A20="","",SUMPRODUCT(--ISNUMBER(H20:K20),D20:G20)) | M20: =IF($A20="","",(IF(ISNUMBER(H20),H20*D20,0)+IF(ISNUMBER(I20),I20*E20,0)+IF(ISNUMBER(J20),J20*F20,0)+IF(ISNUMBER(K20),K20*G20,0))/100) | N20: =IF($A20="","",IF(L20=0,0,M20/L20*100)) | O20: =IF($A20="","",IF(ISNUMBER(K20),"—",IF(G20=0,"—",(C20-M20)/G20*100))) | P20: =IF($A20="","",IF(ISNUMBER(K20),IF(M20>=C20,"حققت الهدف","دون الهدف"),IF(O20>100,"مستحيل",IF(O20>90,"صعب",IF(O20>75,"ممكن","مريح"))))) | Q20: =IF($A20="","",INDEX($Y$5:$Y$13,MATCH(IF(ISNUMBER(K20),M20,N20),$Z$5:$Z$13,1))) | R20: =IF($A20="","",INDEX($AA$5:$AA$13,MATCH(IF(ISNUMBER(K20),M20,N20),$Z$5:$Z$13,1))) | U20: =IF($A20="","",IF(N(S20)=0,0,1-T20/S20)) | V20: =IF($A20="","",IF(U20>$Z$15,"حرمان",IF(U20>=$Z$15*0.8,"خطر","OK")))
A24: المواعيد والتسليمات | B24: المقرر # | C24: الموعد | E24: بعد (يوم) | F24: تم | G24: الحالة
A25: تسليم واجب التفاضل 5 | B25: 1 | C25: 46321 | E25: =IF(C25="","",C25-$Z$17) | G25: =IF(A25="","",IF(F25="✔","تم",IF(E25<0,"متأخر",IF(E25<=7,"هذا الأسبوع","قادم"))))
A26: اختبار قصير الدوائر | B26: 2 | C26: 46324 | E26: =IF(C26="","",C26-$Z$17) | G26: =IF(A26="","",IF(F26="✔","تم",IF(E26<0,"متأخر",IF(E26<=7,"هذا الأسبوع","قادم"))))
A27: مشروع البرمجة | B27: 3 | C27: 46330 | E27: =IF(C27="","",C27-$Z$17) | G27: =IF(A27="","",IF(F27="✔","تم",IF(E27<0,"متأخر",IF(E27<=7,"هذا الأسبوع","قادم"))))
A28: تقرير مختبر الفيزياء | B28: 4 | C28: 46326 | E28: =IF(C28="","",C28-$Z$17) | G28: =IF(A28="","",IF(F28="✔","تم",IF(E28<0,"متأخر",IF(E28<=7,"هذا الأسبوع","قادم"))))
A29: مقال الكتابة الفنية | B29: 5 | C29: 46333 | E29: =IF(C29="","",C29-$Z$17) | G29: =IF(A29="","",IF(F29="✔","تم",IF(E29<0,"متأخر",IF(E29<=7,"هذا الأسبوع","قادم"))))
A30: اختبار الإحصاء النهائي | B30: 6 | C30: 46356 | E30: =IF(C30="","",C30-$Z$17) | G30: =IF(A30="","",IF(F30="✔","تم",IF(E30<0,"متأخر",IF(E30<=7,"هذا الأسبوع","قادم"))))
A31: اختبار البرمجة النهائي | B31: 3 | C31: 46359 | E31: =IF(C31="","",C31-$Z$17) | G31: =IF(A31="","",IF(F31="✔","تم",IF(E31<0,"متأخر",IF(E31<=7,"هذا الأسبوع","قادم"))))
A32: اختبار الدوائر النهائي | B32: 2 | C32: 46362 | E32: =IF(C32="","",C32-$Z$17) | G32: =IF(A32="","",IF(F32="✔","تم",IF(E32<0,"متأخر",IF(E32<=7,"هذا الأسبوع","قادم"))))
E33: =IF(C33="","",C33-$Z$17) | G33: =IF(A33="","",IF(F33="✔","تم",IF(E33<0,"متأخر",IF(E33<=7,"هذا الأسبوع","قادم"))))
E34: =IF(C34="","",C34-$Z$17) | G34: =IF(A34="","",IF(F34="✔","تم",IF(E34<0,"متأخر",IF(E34<=7,"هذا الأسبوع","قادم"))))
E35: =IF(C35="","",C35-$Z$17) | G35: =IF(A35="","",IF(F35="✔","تم",IF(E35<0,"متأخر",IF(E35<=7,"هذا الأسبوع","قادم"))))
E36: =IF(C36="","",C36-$Z$17) | G36: =IF(A36="","",IF(F36="✔","تم",IF(E36<0,"متأخر",IF(E36<=7,"هذا الأسبوع","قادم"))))

Sheet ساعات المذاكرة
A1: ساعات المذاكرة الأسبوعية
A2: سجّل ساعات مذاكرتك لكل مقرر في كل أسبوع
A4: المقرر | B4: ساعات | C4: 1 | D4: 2 | E4: 3 | F4: 4 | G4: 5 | H4: 6 | I4: 7 | J4: 8 | K4: 9 | L4: 10 | M4: 11 | N4: 12 | O4: 13 | P4: 14 | Q4: 15 | R4: 16 | S4: المجموع | T4: أسبوعيًا
A5: =IF('لوحة الفصل'!$A$13="","",'لوحة الفصل'!$A$13) | B5: =IF('لوحة الفصل'!$B$13="","",'لوحة الفصل'!$B$13) | C5: 8 | D5: 10 | E5: 9 | F5: 11 | G5: 11 | H5: 7 | I5: 7 | J5: 12 | K5: 8 | S5: =IF(A5="","",SUM(C5:R5)) | T5: =IF(OR(A5="",'لوحة الفصل'!$Z$16=0),"",S5/'لوحة الفصل'!$Z$16)
A6: =IF('لوحة الفصل'!$A$14="","",'لوحة الفصل'!$A$14) | B6: =IF('لوحة الفصل'!$B$14="","",'لوحة الفصل'!$B$14) | C6: 6 | D6: 10 | E6: 7 | F6: 9 | G6: 7 | H6: 8 | I6: 6 | J6: 8 | K6: 9 | S6: =IF(A6="","",SUM(C6:R6)) | T6: =IF(OR(A6="",'لوحة الفصل'!$Z$16=0),"",S6/'لوحة الفصل'!$Z$16)
A7: =IF('لوحة الفصل'!$A$15="","",'لوحة الفصل'!$A$15) | B7: =IF('لوحة الفصل'!$B$15="","",'لوحة الفصل'!$B$15) | C7: 8 | D7: 9 | E7: 8 | F7: 5 | G7: 9 | H7: 8 | I7: 7 | J7: 5 | K7: 9 | S7: =IF(A7="","",SUM(C7:R7)) | T7: =IF(OR(A7="",'لوحة الفصل'!$Z$16=0),"",S7/'لوحة الفصل'!$Z$16)
A8: =IF('لوحة الفصل'!$A$16="","",'لوحة الفصل'!$A$16) | B8: =IF('لوحة الفصل'!$B$16="","",'لوحة الفصل'!$B$16) | C8: 7 | D8: 9 | E8: 9 | F8: 9 | G8: 10 | H8: 7 | I8: 9 | J8: 7 | K8: 10 | S8: =IF(A8="","",SUM(C8:R8)) | T8: =IF(OR(A8="",'لوحة الفصل'!$Z$16=0),"",S8/'لوحة الفصل'!$Z$16)
A9: =IF('لوحة الفصل'!$A$17="","",'لوحة الفصل'!$A$17) | B9: =IF('لوحة الفصل'!$B$17="","",'لوحة الفصل'!$B$17) | C9: 6 | D9: 4 | E9: 4 | F9: 4 | G9: 6 | H9: 5 | I9: 5 | J9: 4 | K9: 5 | S9: =IF(A9="","",SUM(C9:R9)) | T9: =IF(OR(A9="",'لوحة الفصل'!$Z$16=0),"",S9/'لوحة الفصل'!$Z$16)
A10: =IF('لوحة الفصل'!$A$18="","",'لوحة الفصل'!$A$18) | B10: =IF('لوحة الفصل'!$B$18="","",'لوحة الفصل'!$B$18) | C10: 7 | D10: 7 | E10: 8 | F10: 8 | G10: 9 | H10: 8 | I10: 10 | J10: 9 | K10: 10 | S10: =IF(A10="","",SUM(C10:R10)) | T10: =IF(OR(A10="",'لوحة الفصل'!$Z$16=0),"",S10/'لوحة الفصل'!$Z$16)
A11: =IF('لوحة الفصل'!$A$19="","",'لوحة الفصل'!$A$19) | B11: =IF('لوحة الفصل'!$B$19="","",'لوحة الفصل'!$B$19) | S11: =IF(A11="","",SUM(C11:R11)) | T11: =IF(OR(A11="",'لوحة الفصل'!$Z$16=0),"",S11/'لوحة الفصل'!$Z$16)
A12: =IF('لوحة الفصل'!$A$20="","",'لوحة الفصل'!$A$20) | B12: =IF('لوحة الفصل'!$B$20="","",'لوحة الفصل'!$B$20) | S12: =IF(A12="","",SUM(C12:R12)) | T12: =IF(OR(A12="",'لوحة الفصل'!$Z$16=0),"",S12/'لوحة الفصل'!$Z$16)

Sheet دليل الاستخدام
A1: دليل استخدام: لوحة الفصل
A2: Sheetaky.com · شيتات إكسل جاهزة بالعربي والإنجليزي
A4: ما هذا الشيت؟
A5: تتبع درجاتك في كل مقرر بأوزان الواجبات والاختبارات والنصفي والنهائي، وتعرف الدرجة المطلوبة في النهائي لبلوغ هدفك، ومعدلك المتوقع، وحضورك وخطر الحرمان، ومواعيدك.
A7: خطوات الاستخدام
A8: 1 | B8: أدخل مقرراتك وساعاتها وهدفك وأوزان التقييم (المجموع 100%).
A9: 2 | B9: اكتب درجاتك كلما ظهرت واترك النهائي فارغًا حتى يصدر.
A10: 3 | B10: سجّل المحاضرات والحضور وساعات المذاكرة والمواعيد.
A11: 4 | B11: عدّل جدول الدرجات والنقاط ليطابق جامعتك.
A13: دليل الألوان
B14: خلية إدخال: اكتب أو اختر قيمتك هنا (خط أزرق على خلفية صفراء).
B15: خلية محسوبة: معادلة تلقائية، محمية من المسح بالخطأ.
B16: عناوين الجداول والأقسام.
A18: ملاحظات مهمة
A19: • | B19: الدرجة الحالية = النقاط المحققة ÷ الوزن المنجز.
A20: • | B20: المطلوب في النهائي = (الهدف − النقاط المحققة) ÷ وزن النهائي.
A21: • | B21: المعدل = مجموع (نقاط المقرر × ساعاته) ÷ مجموع الساعات.
A22: • | B22: نسبة الغياب المسموحة وسلّم الدرجات تختلف بين الجامعات فعدّلها.
A23: • | B23: الأوراق محمية بدون كلمة مرور لحماية المعادلات. لإلغاء الحماية: مراجعة ← إلغاء حماية الورقة.
A24: • | B24: البيانات الموجودة مثال توضيحي، امسحها واكتب بياناتك في الخلايا الصفراء فقط.
A25: • | B25: المزيد من الشيتات المجانية بالعربي والإنجليزي على Sheetaky.com
