Workbook

Sheet Takeoff
A1: Structural Steel Weight Takeoff: Sections, Plates and Cost per Ton
A2: Pick the section, enter quantity and length; the sheet gives weight in kg and tons, adds waste and cost
A4: Rolled sections (beams, columns, channels, angles)
A5: Mark | B5: Section | C5: Qty | D5: Length (m) | E5: Custom kg/m | F5: kg/m used | G5: Weight (kg) | H5: Group | J5: Totals
A6: B1 | B6: IPE 300 | C6: 6 | D6: 8 | F6: =IF(ISNUMBER(E6),E6,IFERROR(INDEX('Sections table'!$C$5:$C$57,MATCH(B6,'Sections table'!$A$5:$A$57,0)),0)) | G6: =IF(AND(ISNUMBER(C6),ISNUMBER(D6)),ROUND(C6*D6*F6,2),0) | H6: =IF(ISNUMBER(E6),"Custom",IFERROR(INDEX('Sections table'!$B$5:$B$57,MATCH(B6,'Sections table'!$A$5:$A$57,0)),"")) | J6: Weight: IPE (kg) | K6: =SUMIF($H$6:$H$45,"IPE",$G$6:$G$45)
A7: B2 | B7: IPE 200 | C7: 14 | D7: 6 | F7: =IF(ISNUMBER(E7),E7,IFERROR(INDEX('Sections table'!$C$5:$C$57,MATCH(B7,'Sections table'!$A$5:$A$57,0)),0)) | G7: =IF(AND(ISNUMBER(C7),ISNUMBER(D7)),ROUND(C7*D7*F7,2),0) | H7: =IF(ISNUMBER(E7),"Custom",IFERROR(INDEX('Sections table'!$B$5:$B$57,MATCH(B7,'Sections table'!$A$5:$A$57,0)),"")) | J7: Weight: HEA (kg) | K7: =SUMIF($H$6:$H$45,"HEA",$G$6:$G$45)
A8: C1 | B8: HEA 200 | C8: 12 | D8: 4.2 | F8: =IF(ISNUMBER(E8),E8,IFERROR(INDEX('Sections table'!$C$5:$C$57,MATCH(B8,'Sections table'!$A$5:$A$57,0)),0)) | G8: =IF(AND(ISNUMBER(C8),ISNUMBER(D8)),ROUND(C8*D8*F8,2),0) | H8: =IF(ISNUMBER(E8),"Custom",IFERROR(INDEX('Sections table'!$B$5:$B$57,MATCH(B8,'Sections table'!$A$5:$A$57,0)),"")) | J8: Weight: HEB (kg) | K8: =SUMIF($H$6:$H$45,"HEB",$G$6:$G$45)
A9: P1 | B9: UPN 120 | C9: 8 | D9: 3 | F9: =IF(ISNUMBER(E9),E9,IFERROR(INDEX('Sections table'!$C$5:$C$57,MATCH(B9,'Sections table'!$A$5:$A$57,0)),0)) | G9: =IF(AND(ISNUMBER(C9),ISNUMBER(D9)),ROUND(C9*D9*F9,2),0) | H9: =IF(ISNUMBER(E9),"Custom",IFERROR(INDEX('Sections table'!$B$5:$B$57,MATCH(B9,'Sections table'!$A$5:$A$57,0)),"")) | J9: Weight: UPN (kg) | K9: =SUMIF($H$6:$H$45,"UPN",$G$6:$G$45)
A10: BR1 | B10: L 70×70×7 | C10: 20 | D10: 2.5 | F10: =IF(ISNUMBER(E10),E10,IFERROR(INDEX('Sections table'!$C$5:$C$57,MATCH(B10,'Sections table'!$A$5:$A$57,0)),0)) | G10: =IF(AND(ISNUMBER(C10),ISNUMBER(D10)),ROUND(C10*D10*F10,2),0) | H10: =IF(ISNUMBER(E10),"Custom",IFERROR(INDEX('Sections table'!$B$5:$B$57,MATCH(B10,'Sections table'!$A$5:$A$57,0)),"")) | J10: Weight: L (kg) | K10: =SUMIF($H$6:$H$45,"L",$G$6:$G$45)
A11: T1 | B11: Custom | C11: 10 | D11: 6 | E11: 14.9 | F11: =IF(ISNUMBER(E11),E11,IFERROR(INDEX('Sections table'!$C$5:$C$57,MATCH(B11,'Sections table'!$A$5:$A$57,0)),0)) | G11: =IF(AND(ISNUMBER(C11),ISNUMBER(D11)),ROUND(C11*D11*F11,2),0) | H11: =IF(ISNUMBER(E11),"Custom",IFERROR(INDEX('Sections table'!$B$5:$B$57,MATCH(B11,'Sections table'!$A$5:$A$57,0)),"")) | J11: Weight: Custom (kg) | K11: =SUMIF($H$6:$H$45,"Custom",$G$6:$G$45)
F12: =IF(ISNUMBER(E12),E12,IFERROR(INDEX('Sections table'!$C$5:$C$57,MATCH(B12,'Sections table'!$A$5:$A$57,0)),0)) | G12: =IF(AND(ISNUMBER(C12),ISNUMBER(D12)),ROUND(C12*D12*F12,2),0) | H12: =IF(ISNUMBER(E12),"Custom",IFERROR(INDEX('Sections table'!$B$5:$B$57,MATCH(B12,'Sections table'!$A$5:$A$57,0)),"")) | J12: Total sections (kg) | K12: =SUM($G$6:$G$45)
F13: =IF(ISNUMBER(E13),E13,IFERROR(INDEX('Sections table'!$C$5:$C$57,MATCH(B13,'Sections table'!$A$5:$A$57,0)),0)) | G13: =IF(AND(ISNUMBER(C13),ISNUMBER(D13)),ROUND(C13*D13*F13,2),0) | H13: =IF(ISNUMBER(E13),"Custom",IFERROR(INDEX('Sections table'!$B$5:$B$57,MATCH(B13,'Sections table'!$A$5:$A$57,0)),"")) | J13: Total plates (kg) | K13: ='Plates'!$G$25
F14: =IF(ISNUMBER(E14),E14,IFERROR(INDEX('Sections table'!$C$5:$C$57,MATCH(B14,'Sections table'!$A$5:$A$57,0)),0)) | G14: =IF(AND(ISNUMBER(C14),ISNUMBER(D14)),ROUND(C14*D14*F14,2),0) | H14: =IF(ISNUMBER(E14),"Custom",IFERROR(INDEX('Sections table'!$B$5:$B$57,MATCH(B14,'Sections table'!$A$5:$A$57,0)),"")) | J14: Net total (kg) | K14: =$K$12+$K$13
F15: =IF(ISNUMBER(E15),E15,IFERROR(INDEX('Sections table'!$C$5:$C$57,MATCH(B15,'Sections table'!$A$5:$A$57,0)),0)) | G15: =IF(AND(ISNUMBER(C15),ISNUMBER(D15)),ROUND(C15*D15*F15,2),0) | H15: =IF(ISNUMBER(E15),"Custom",IFERROR(INDEX('Sections table'!$B$5:$B$57,MATCH(B15,'Sections table'!$A$5:$A$57,0)),"")) | J15: Waste and cutting % | K15: 0.05
F16: =IF(ISNUMBER(E16),E16,IFERROR(INDEX('Sections table'!$C$5:$C$57,MATCH(B16,'Sections table'!$A$5:$A$57,0)),0)) | G16: =IF(AND(ISNUMBER(C16),ISNUMBER(D16)),ROUND(C16*D16*F16,2),0) | H16: =IF(ISNUMBER(E16),"Custom",IFERROR(INDEX('Sections table'!$B$5:$B$57,MATCH(B16,'Sections table'!$A$5:$A$57,0)),"")) | J16: Quantity to order (kg) | K16: =$K$14*(1+$K$15)
F17: =IF(ISNUMBER(E17),E17,IFERROR(INDEX('Sections table'!$C$5:$C$57,MATCH(B17,'Sections table'!$A$5:$A$57,0)),0)) | G17: =IF(AND(ISNUMBER(C17),ISNUMBER(D17)),ROUND(C17*D17*F17,2),0) | H17: =IF(ISNUMBER(E17),"Custom",IFERROR(INDEX('Sections table'!$B$5:$B$57,MATCH(B17,'Sections table'!$A$5:$A$57,0)),"")) | J17: In tons | K17: =$K$16/1000
F18: =IF(ISNUMBER(E18),E18,IFERROR(INDEX('Sections table'!$C$5:$C$57,MATCH(B18,'Sections table'!$A$5:$A$57,0)),0)) | G18: =IF(AND(ISNUMBER(C18),ISNUMBER(D18)),ROUND(C18*D18*F18,2),0) | H18: =IF(ISNUMBER(E18),"Custom",IFERROR(INDEX('Sections table'!$B$5:$B$57,MATCH(B18,'Sections table'!$A$5:$A$57,0)),"")) | J18: Price per ton | K18: 3500
F19: =IF(ISNUMBER(E19),E19,IFERROR(INDEX('Sections table'!$C$5:$C$57,MATCH(B19,'Sections table'!$A$5:$A$57,0)),0)) | G19: =IF(AND(ISNUMBER(C19),ISNUMBER(D19)),ROUND(C19*D19*F19,2),0) | H19: =IF(ISNUMBER(E19),"Custom",IFERROR(INDEX('Sections table'!$B$5:$B$57,MATCH(B19,'Sections table'!$A$5:$A$57,0)),"")) | J19: Cost | K19: =$K$17*$K$18
F20: =IF(ISNUMBER(E20),E20,IFERROR(INDEX('Sections table'!$C$5:$C$57,MATCH(B20,'Sections table'!$A$5:$A$57,0)),0)) | G20: =IF(AND(ISNUMBER(C20),ISNUMBER(D20)),ROUND(C20*D20*F20,2),0) | H20: =IF(ISNUMBER(E20),"Custom",IFERROR(INDEX('Sections table'!$B$5:$B$57,MATCH(B20,'Sections table'!$A$5:$A$57,0)),""))
F21: =IF(ISNUMBER(E21),E21,IFERROR(INDEX('Sections table'!$C$5:$C$57,MATCH(B21,'Sections table'!$A$5:$A$57,0)),0)) | G21: =IF(AND(ISNUMBER(C21),ISNUMBER(D21)),ROUND(C21*D21*F21,2),0) | H21: =IF(ISNUMBER(E21),"Custom",IFERROR(INDEX('Sections table'!$B$5:$B$57,MATCH(B21,'Sections table'!$A$5:$A$57,0)),""))
F22: =IF(ISNUMBER(E22),E22,IFERROR(INDEX('Sections table'!$C$5:$C$57,MATCH(B22,'Sections table'!$A$5:$A$57,0)),0)) | G22: =IF(AND(ISNUMBER(C22),ISNUMBER(D22)),ROUND(C22*D22*F22,2),0) | H22: =IF(ISNUMBER(E22),"Custom",IFERROR(INDEX('Sections table'!$B$5:$B$57,MATCH(B22,'Sections table'!$A$5:$A$57,0)),""))
F23: =IF(ISNUMBER(E23),E23,IFERROR(INDEX('Sections table'!$C$5:$C$57,MATCH(B23,'Sections table'!$A$5:$A$57,0)),0)) | G23: =IF(AND(ISNUMBER(C23),ISNUMBER(D23)),ROUND(C23*D23*F23,2),0) | H23: =IF(ISNUMBER(E23),"Custom",IFERROR(INDEX('Sections table'!$B$5:$B$57,MATCH(B23,'Sections table'!$A$5:$A$57,0)),""))
F24: =IF(ISNUMBER(E24),E24,IFERROR(INDEX('Sections table'!$C$5:$C$57,MATCH(B24,'Sections table'!$A$5:$A$57,0)),0)) | G24: =IF(AND(ISNUMBER(C24),ISNUMBER(D24)),ROUND(C24*D24*F24,2),0) | H24: =IF(ISNUMBER(E24),"Custom",IFERROR(INDEX('Sections table'!$B$5:$B$57,MATCH(B24,'Sections table'!$A$5:$A$57,0)),""))
F25: =IF(ISNUMBER(E25),E25,IFERROR(INDEX('Sections table'!$C$5:$C$57,MATCH(B25,'Sections table'!$A$5:$A$57,0)),0)) | G25: =IF(AND(ISNUMBER(C25),ISNUMBER(D25)),ROUND(C25*D25*F25,2),0) | H25: =IF(ISNUMBER(E25),"Custom",IFERROR(INDEX('Sections table'!$B$5:$B$57,MATCH(B25,'Sections table'!$A$5:$A$57,0)),""))
F26: =IF(ISNUMBER(E26),E26,IFERROR(INDEX('Sections table'!$C$5:$C$57,MATCH(B26,'Sections table'!$A$5:$A$57,0)),0)) | G26: =IF(AND(ISNUMBER(C26),ISNUMBER(D26)),ROUND(C26*D26*F26,2),0) | H26: =IF(ISNUMBER(E26),"Custom",IFERROR(INDEX('Sections table'!$B$5:$B$57,MATCH(B26,'Sections table'!$A$5:$A$57,0)),""))
F27: =IF(ISNUMBER(E27),E27,IFERROR(INDEX('Sections table'!$C$5:$C$57,MATCH(B27,'Sections table'!$A$5:$A$57,0)),0)) | G27: =IF(AND(ISNUMBER(C27),ISNUMBER(D27)),ROUND(C27*D27*F27,2),0) | H27: =IF(ISNUMBER(E27),"Custom",IFERROR(INDEX('Sections table'!$B$5:$B$57,MATCH(B27,'Sections table'!$A$5:$A$57,0)),""))
F28: =IF(ISNUMBER(E28),E28,IFERROR(INDEX('Sections table'!$C$5:$C$57,MATCH(B28,'Sections table'!$A$5:$A$57,0)),0)) | G28: =IF(AND(ISNUMBER(C28),ISNUMBER(D28)),ROUND(C28*D28*F28,2),0) | H28: =IF(ISNUMBER(E28),"Custom",IFERROR(INDEX('Sections table'!$B$5:$B$57,MATCH(B28,'Sections table'!$A$5:$A$57,0)),""))
F29: =IF(ISNUMBER(E29),E29,IFERROR(INDEX('Sections table'!$C$5:$C$57,MATCH(B29,'Sections table'!$A$5:$A$57,0)),0)) | G29: =IF(AND(ISNUMBER(C29),ISNUMBER(D29)),ROUND(C29*D29*F29,2),0) | H29: =IF(ISNUMBER(E29),"Custom",IFERROR(INDEX('Sections table'!$B$5:$B$57,MATCH(B29,'Sections table'!$A$5:$A$57,0)),""))
F30: =IF(ISNUMBER(E30),E30,IFERROR(INDEX('Sections table'!$C$5:$C$57,MATCH(B30,'Sections table'!$A$5:$A$57,0)),0)) | G30: =IF(AND(ISNUMBER(C30),ISNUMBER(D30)),ROUND(C30*D30*F30,2),0) | H30: =IF(ISNUMBER(E30),"Custom",IFERROR(INDEX('Sections table'!$B$5:$B$57,MATCH(B30,'Sections table'!$A$5:$A$57,0)),""))
F31: =IF(ISNUMBER(E31),E31,IFERROR(INDEX('Sections table'!$C$5:$C$57,MATCH(B31,'Sections table'!$A$5:$A$57,0)),0)) | G31: =IF(AND(ISNUMBER(C31),ISNUMBER(D31)),ROUND(C31*D31*F31,2),0) | H31: =IF(ISNUMBER(E31),"Custom",IFERROR(INDEX('Sections table'!$B$5:$B$57,MATCH(B31,'Sections table'!$A$5:$A$57,0)),""))
... F45: =IF(ISNUMBER(E45),E45,IFERROR(INDEX('Sections table'!$C$5:$C$57,MATCH(B45,'Sections table'!$A$5:$A$57,0)),0)) | G45: =IF(AND(ISNUMBER(C45),ISNUMBER(D45)),ROUND(C45*D45*F45,2),0) | H45: =IF(ISNUMBER(E45),"Custom",IFERROR(INDEX('Sections table'!$B$5:$B$57,MATCH(B45,'Sections table'!$A$5:$A$57,0)),""))

Sheet Sections table
A1: Sections table (edit or extend)
A2: Weight per metre in kilograms from standard European tables
A4: Section | B4: Group | C4: kg/m | E4: Hollow section weight per metre
A5: IPE 80 | B5: IPE | C5: 6 | E5: Density kg/m³ | F5: 7850
A6: IPE 100 | B6: IPE | C6: 8.1 | E6: Box width B mm | F6: 100
A7: IPE 120 | B7: IPE | C7: 10.4 | E7: Box height H mm | F7: 100
A8: IPE 140 | B8: IPE | C8: 12.9 | E8: Thickness t mm | F8: 5
A9: IPE 160 | B9: IPE | C9: 15.8 | E9: kg/m of the box section | F9: =ROUND(2*F8*(F6+F7-2*F8)*F5/1000000,2)
A10: IPE 180 | B10: IPE | C10: 18.8
A11: IPE 200 | B11: IPE | C11: 22.4 | E11: Pipe outer diameter D mm | F11: 114.3
A12: IPE 220 | B12: IPE | C12: 26.2 | E12: Thickness t mm | F12: 4
A13: IPE 240 | B13: IPE | C13: 30.7 | E13: kg/m of the pipe | F13: =ROUND(PI()*F12*(F11-F12)*F5/1000000,2)
A14: IPE 270 | B14: IPE | C14: 36.1
A15: IPE 300 | B15: IPE | C15: 42.2 | E15: Corner radii are ignored (a small difference). Type the result in the "Custom kg/m" column of the takeoff.
A16: IPE 330 | B16: IPE | C16: 49.1
A17: IPE 360 | B17: IPE | C17: 57.1
A18: IPE 400 | B18: IPE | C18: 66.3
A19: IPE 450 | B19: IPE | C19: 77.6
A20: IPE 500 | B20: IPE | C20: 90.7
A21: IPE 550 | B21: IPE | C21: 106
A22: IPE 600 | B22: IPE | C22: 122
A23: HEA 100 | B23: HEA | C23: 16.7
A24: HEA 120 | B24: HEA | C24: 19.9
A25: HEA 140 | B25: HEA | C25: 24.7
A26: HEA 160 | B26: HEA | C26: 30.4
A27: HEA 180 | B27: HEA | C27: 35.5
... A57: L 100×100×10 | B57: L | C57: 15.1

Sheet Plates
A1: Plates and sheets
A2: Weight = thickness × width × length × density
A4: Mark | B4: Qty | C4: Thickness mm | D4: Width mm | E4: Length mm | F4: Each (kg) | G4: Total (kg)
A5: PL1 | B5: 24 | C5: 12 | D5: 300 | E5: 450 | F5: =IF(AND(ISNUMBER(C5),ISNUMBER(D5),ISNUMBER(E5)),ROUND(C5*D5*E5*'Sections table'!$F$5/1000000000,3),0) | G5: =ROUND(N(B5)*F5,2)
A6: PL2 | B6: 8 | C6: 16 | D6: 200 | E6: 200 | F6: =IF(AND(ISNUMBER(C6),ISNUMBER(D6),ISNUMBER(E6)),ROUND(C6*D6*E6*'Sections table'!$F$5/1000000000,3),0) | G6: =ROUND(N(B6)*F6,2)
A7: PL3 | B7: 4 | C7: 20 | D7: 500 | E7: 600 | F7: =IF(AND(ISNUMBER(C7),ISNUMBER(D7),ISNUMBER(E7)),ROUND(C7*D7*E7*'Sections table'!$F$5/1000000000,3),0) | G7: =ROUND(N(B7)*F7,2)
F8: =IF(AND(ISNUMBER(C8),ISNUMBER(D8),ISNUMBER(E8)),ROUND(C8*D8*E8*'Sections table'!$F$5/1000000000,3),0) | G8: =ROUND(N(B8)*F8,2)
F9: =IF(AND(ISNUMBER(C9),ISNUMBER(D9),ISNUMBER(E9)),ROUND(C9*D9*E9*'Sections table'!$F$5/1000000000,3),0) | G9: =ROUND(N(B9)*F9,2)
F10: =IF(AND(ISNUMBER(C10),ISNUMBER(D10),ISNUMBER(E10)),ROUND(C10*D10*E10*'Sections table'!$F$5/1000000000,3),0) | G10: =ROUND(N(B10)*F10,2)
F11: =IF(AND(ISNUMBER(C11),ISNUMBER(D11),ISNUMBER(E11)),ROUND(C11*D11*E11*'Sections table'!$F$5/1000000000,3),0) | G11: =ROUND(N(B11)*F11,2)
F12: =IF(AND(ISNUMBER(C12),ISNUMBER(D12),ISNUMBER(E12)),ROUND(C12*D12*E12*'Sections table'!$F$5/1000000000,3),0) | G12: =ROUND(N(B12)*F12,2)
F13: =IF(AND(ISNUMBER(C13),ISNUMBER(D13),ISNUMBER(E13)),ROUND(C13*D13*E13*'Sections table'!$F$5/1000000000,3),0) | G13: =ROUND(N(B13)*F13,2)
F14: =IF(AND(ISNUMBER(C14),ISNUMBER(D14),ISNUMBER(E14)),ROUND(C14*D14*E14*'Sections table'!$F$5/1000000000,3),0) | G14: =ROUND(N(B14)*F14,2)
F15: =IF(AND(ISNUMBER(C15),ISNUMBER(D15),ISNUMBER(E15)),ROUND(C15*D15*E15*'Sections table'!$F$5/1000000000,3),0) | G15: =ROUND(N(B15)*F15,2)
F16: =IF(AND(ISNUMBER(C16),ISNUMBER(D16),ISNUMBER(E16)),ROUND(C16*D16*E16*'Sections table'!$F$5/1000000000,3),0) | G16: =ROUND(N(B16)*F16,2)
F17: =IF(AND(ISNUMBER(C17),ISNUMBER(D17),ISNUMBER(E17)),ROUND(C17*D17*E17*'Sections table'!$F$5/1000000000,3),0) | G17: =ROUND(N(B17)*F17,2)
F18: =IF(AND(ISNUMBER(C18),ISNUMBER(D18),ISNUMBER(E18)),ROUND(C18*D18*E18*'Sections table'!$F$5/1000000000,3),0) | G18: =ROUND(N(B18)*F18,2)
F19: =IF(AND(ISNUMBER(C19),ISNUMBER(D19),ISNUMBER(E19)),ROUND(C19*D19*E19*'Sections table'!$F$5/1000000000,3),0) | G19: =ROUND(N(B19)*F19,2)
... F24: =IF(AND(ISNUMBER(C24),ISNUMBER(D24),ISNUMBER(E24)),ROUND(C24*D24*E24*'Sections table'!$F$5/1000000000,3),0) | G24: =ROUND(N(B24)*F24,2)
A25: Total | G25: =SUM(G5:G24)

Sheet Guide
A1: How to use: Structural Steel Weight Takeoff: Sections, Plates and Cost per Ton
A2: Sheetaky.com · Ready Excel sheets in Arabic and English
A4: What is this sheet?
A5: A sheet to take off the weight of structural steel: pick the section from the standard weight table (IPE, HEA, HEB, UPN and angles) or type a custom weight, enter quantity and length to get the weight, add plates by their dimensions, then the sheet adds a waste allowance and gives the quantity to order in tons and its cost.
A7: Steps
A8: 1 | B8: In the "Takeoff" sheet enter the member mark, pick the section and enter quantity and length.
A9: 2 | B9: For a section not in the table choose "Custom" and type its weight per metre (use the hollow section calculator on the sections table sheet).
A10: 3 | B10: In the "Plates" sheet enter the thickness, width and length of each plate (dimensions in millimetres).
A11: 4 | B11: Enter the waste percentage and price per ton to get the quantity to order and the cost.
A13: Color legend
B14: Input cell: type or choose your value here (blue text on yellow).
B15: Calculated cell: automatic formula, protected from accidental edits.
B16: Table and section headers.
A18: Important notes
A19: • | B19: Weights come from the standard European tables; check your manufacturer’s catalogue since small differences are possible.
A20: • | B20: The takeoff excludes bolts, welding, paint and fireproofing; add them as a percentage or separate item.
A21: • | B21: Red means a section not found in the table (weight zero): pick from the list or type a custom weight.
A22: • | B22: Sheets are protected without a password to keep formulas safe. To unprotect: Review → Unprotect Sheet.
A23: • | B23: The data shown is a worked example. Clear it and type your own data in the yellow cells only.
A24: • | B24: More free sheets in Arabic and English at Sheetaky.com
