Workbook

Sheet تقويم المحتوى
A1: تقويم محتوى السوشيال ميديا: خطة الشهر وأداء المنشورات
A3: سجّل منشوراتك في ورقة المنشورات فيظهر الشهر في تقويم ملوّن مع أداء كل منصة ونوع محتوى وتوازن محاور المحتوى
A4: أول يوم في الشهر | C4: 46296 | D4: منشورات الشهر | F4: منشورة | I4: أيام بلا نشر | K4: المتوسط الأسبوعي مقابل الهدف
A5: تاريخ اليوم | C5: 46318 | D5: =COUNTIFS('المنشورات'!$A$5:$A$204,">="&$C$4,'المنشورات'!$A$5:$A$204,"<"&EDATE($C$4,1)) | F5: =COUNTIFS('المنشورات'!$A$5:$A$204,">="&$C$4,'المنشورات'!$A$5:$A$204,"<"&EDATE($C$4,1),'المنشورات'!$G$5:$G$204,INDEX('المنشورات'!$R$29:$R$33,5)) | I5: =DAY(EOMONTH($C$4,0))-COUNTIF($A$11:$G$22,"*●*") | K5: =IFERROR(COUNTIFS('المنشورات'!$A$5:$A$204,">="&$C$4,'المنشورات'!$A$5:$A$204,"<"&EDATE($C$4,1))/(DAY(EOMONTH($C$4,0))/7),0)
A6: هدف المنشورات أسبوعيًا | C6: 8
D7: معدل التفاعل | F7: إجمالي الظهور
D8: =IFERROR(SUMIFS('المنشورات'!$N$5:$N$204,'المنشورات'!$A$5:$A$204,">="&$C$4,'المنشورات'!$A$5:$A$204,"<"&EDATE($C$4,1))/SUMIFS('المنشورات'!$H$5:$H$204,'المنشورات'!$A$5:$A$204,">="&$C$4,'المنشورات'!$A$5:$A$204,"<"&EDATE($C$4,1)),0) | F8: =SUMIFS('المنشورات'!$H$5:$H$204,'المنشورات'!$A$5:$A$204,">="&$C$4,'المنشورات'!$A$5:$A$204,"<"&EDATE($C$4,1)) | I8: المنصة | J8: منشورات | K8: الظهور | L8: تفاعل % | M8: مجدولة وجاهزة
I9: =INDEX('المنشورات'!$R$5:$R$11,1) | J9: =COUNTIFS('المنشورات'!$A$5:$A$204,">="&$C$4,'المنشورات'!$A$5:$A$204,"<"&EDATE($C$4,1),'المنشورات'!$C$5:$C$204,$I$9) | K9: =SUMIFS('المنشورات'!$H$5:$H$204,'المنشورات'!$A$5:$A$204,">="&$C$4,'المنشورات'!$A$5:$A$204,"<"&EDATE($C$4,1),'المنشورات'!$C$5:$C$204,$I$9) | L9: =IFERROR(SUMIFS('المنشورات'!$N$5:$N$204,'المنشورات'!$A$5:$A$204,">="&$C$4,'المنشورات'!$A$5:$A$204,"<"&EDATE($C$4,1),'المنشورات'!$C$5:$C$204,$I$9)/K9,"") | M9: =COUNTIFS('المنشورات'!$A$5:$A$204,">="&$C$4,'المنشورات'!$A$5:$A$204,"<"&EDATE($C$4,1),'المنشورات'!$C$5:$C$204,$I$9,'المنشورات'!$G$5:$G$204,INDEX('المنشورات'!$R$29:$R$33,3))+COUNTIFS('المنشورات'!$A$5:$A$204,">="&$C$4,'المنشورات'!$A$5:$A$204,"<"&EDATE($C$4,1),'المنشورات'!$C$5:$C$204,$I$9,'المنشورات'!$G$5:$G$204,INDEX('المنشورات'!$R$29:$R$33,4))
A10: الأحد | B10: الاثنين | C10: الثلاثاء | D10: الأربعاء | E10: الخميس | F10: الجمعة | G10: السبت | I10: =INDEX('المنشورات'!$R$5:$R$11,2) | J10: =COUNTIFS('المنشورات'!$A$5:$A$204,">="&$C$4,'المنشورات'!$A$5:$A$204,"<"&EDATE($C$4,1),'المنشورات'!$C$5:$C$204,$I$10) | K10: =SUMIFS('المنشورات'!$H$5:$H$204,'المنشورات'!$A$5:$A$204,">="&$C$4,'المنشورات'!$A$5:$A$204,"<"&EDATE($C$4,1),'المنشورات'!$C$5:$C$204,$I$10) | L10: =IFERROR(SUMIFS('المنشورات'!$N$5:$N$204,'المنشورات'!$A$5:$A$204,">="&$C$4,'المنشورات'!$A$5:$A$204,"<"&EDATE($C$4,1),'المنشورات'!$C$5:$C$204,$I$10)/K10,"") | M10: =COUNTIFS('المنشورات'!$A$5:$A$204,">="&$C$4,'المنشورات'!$A$5:$A$204,"<"&EDATE($C$4,1),'المنشورات'!$C$5:$C$204,$I$10,'المنشورات'!$G$5:$G$204,INDEX('المنشورات'!$R$29:$R$33,3))+COUNTIFS('المنشورات'!$A$5:$A$204,">="&$C$4,'المنشورات'!$A$5:$A$204,"<"&EDATE($C$4,1),'المنشورات'!$C$5:$C$204,$I$10,'المنشورات'!$G$5:$G$204,INDEX('المنشورات'!$R$29:$R$33,4))
A11: =IF(MONTH((($C$4-(WEEKDAY($C$4,1)-1))+0))<>MONTH($C$4),"",DAY((($C$4-(WEEKDAY($C$4,1)-1))+0))&IF(COUNTIF('المنشورات'!$A$5:$A$204,(($C$4-(WEEKDAY($C$4,1)-1))+0))>0," ● "&COUNTIF('المنشورات'!$A$5:$A$204,(($C$4-(WEEKDAY($C$4,1)-1))+0)),"")) | B11: =IF(MONTH((($C$4-(WEEKDAY($C$4,1)-1))+1))<>MONTH($C$4),"",DAY((($C$4-(WEEKDAY($C$4,1)-1))+1))&IF(COUNTIF('المنشورات'!$A$5:$A$204,(($C$4-(WEEKDAY($C$4,1)-1))+1))>0," ● "&COUNTIF('المنشورات'!$A$5:$A$204,(($C$4-(WEEKDAY($C$4,1)-1))+1)),"")) | C11: =IF(MONTH((($C$4-(WEEKDAY($C$4,1)-1))+2))<>MONTH($C$4),"",DAY((($C$4-(WEEKDAY($C$4,1)-1))+2))&IF(COUNTIF('المنشورات'!$A$5:$A$204,(($C$4-(WEEKDAY($C$4,1)-1))+2))>0," ● "&COUNTIF('المنشورات'!$A$5:$A$204,(($C$4-(WEEKDAY($C$4,1)-1))+2)),"")) | D11: =IF(MONTH((($C$4-(WEEKDAY($C$4,1)-1))+3))<>MONTH($C$4),"",DAY((($C$4-(WEEKDAY($C$4,1)-1))+3))&IF(COUNTIF('المنشورات'!$A$5:$A$204,(($C$4-(WEEKDAY($C$4,1)-1))+3))>0," ● "&COUNTIF('المنشورات'!$A$5:$A$204,(($C$4-(WEEKDAY($C$4,1)-1))+3)),"")) | E11: =IF(MONTH((($C$4-(WEEKDAY($C$4,1)-1))+4))<>MONTH($C$4),"",DAY((($C$4-(WEEKDAY($C$4,1)-1))+4))&IF(COUNTIF('المنشورات'!$A$5:$A$204,(($C$4-(WEEKDAY($C$4,1)-1))+4))>0," ● "&COUNTIF('المنشورات'!$A$5:$A$204,(($C$4-(WEEKDAY($C$4,1)-1))+4)),"")) | F11: =IF(MONTH((($C$4-(WEEKDAY($C$4,1)-1))+5))<>MONTH($C$4),"",DAY((($C$4-(WEEKDAY($C$4,1)-1))+5))&IF(COUNTIF('المنشورات'!$A$5:$A$204,(($C$4-(WEEKDAY($C$4,1)-1))+5))>0," ● "&COUNTIF('المنشورات'!$A$5:$A$204,(($C$4-(WEEKDAY($C$4,1)-1))+5)),"")) | G11: =IF(MONTH((($C$4-(WEEKDAY($C$4,1)-1))+6))<>MONTH($C$4),"",DAY((($C$4-(WEEKDAY($C$4,1)-1))+6))&IF(COUNTIF('المنشورات'!$A$5:$A$204,(($C$4-(WEEKDAY($C$4,1)-1))+6))>0," ● "&COUNTIF('المنشورات'!$A$5:$A$204,(($C$4-(WEEKDAY($C$4,1)-1))+6)),"")) | I11: =INDEX('المنشورات'!$R$5:$R$11,3) | J11: =COUNTIFS('المنشورات'!$A$5:$A$204,">="&$C$4,'المنشورات'!$A$5:$A$204,"<"&EDATE($C$4,1),'المنشورات'!$C$5:$C$204,$I$11) | K11: =SUMIFS('المنشورات'!$H$5:$H$204,'المنشورات'!$A$5:$A$204,">="&$C$4,'المنشورات'!$A$5:$A$204,"<"&EDATE($C$4,1),'المنشورات'!$C$5:$C$204,$I$11) | L11: =IFERROR(SUMIFS('المنشورات'!$N$5:$N$204,'المنشورات'!$A$5:$A$204,">="&$C$4,'المنشورات'!$A$5:$A$204,"<"&EDATE($C$4,1),'المنشورات'!$C$5:$C$204,$I$11)/K11,"") | M11: =COUNTIFS('المنشورات'!$A$5:$A$204,">="&$C$4,'المنشورات'!$A$5:$A$204,"<"&EDATE($C$4,1),'المنشورات'!$C$5:$C$204,$I$11,'المنشورات'!$G$5:$G$204,INDEX('المنشورات'!$R$29:$R$33,3))+COUNTIFS('المنشورات'!$A$5:$A$204,">="&$C$4,'المنشورات'!$A$5:$A$204,"<"&EDATE($C$4,1),'المنشورات'!$C$5:$C$204,$I$11,'المنشورات'!$G$5:$G$204,INDEX('المنشورات'!$R$29:$R$33,4))
A12: =IF(OR(MONTH((($C$4-(WEEKDAY($C$4,1)-1))+0))<>MONTH($C$4),COUNTIF('المنشورات'!$A$5:$A$204,(($C$4-(WEEKDAY($C$4,1)-1))+0))=0),"",INDEX('المنشورات'!$C$5:$C$204,MATCH((($C$4-(WEEKDAY($C$4,1)-1))+0),'المنشورات'!$A$5:$A$204,0))&" · "&INDEX('المنشورات'!$D$5:$D$204,MATCH((($C$4-(WEEKDAY($C$4,1)-1))+0),'المنشورات'!$A$5:$A$204,0))) | B12: =IF(OR(MONTH((($C$4-(WEEKDAY($C$4,1)-1))+1))<>MONTH($C$4),COUNTIF('المنشورات'!$A$5:$A$204,(($C$4-(WEEKDAY($C$4,1)-1))+1))=0),"",INDEX('المنشورات'!$C$5:$C$204,MATCH((($C$4-(WEEKDAY($C$4,1)-1))+1),'المنشورات'!$A$5:$A$204,0))&" · "&INDEX('المنشورات'!$D$5:$D$204,MATCH((($C$4-(WEEKDAY($C$4,1)-1))+1),'المنشورات'!$A$5:$A$204,0))) | C12: =IF(OR(MONTH((($C$4-(WEEKDAY($C$4,1)-1))+2))<>MONTH($C$4),COUNTIF('المنشورات'!$A$5:$A$204,(($C$4-(WEEKDAY($C$4,1)-1))+2))=0),"",INDEX('المنشورات'!$C$5:$C$204,MATCH((($C$4-(WEEKDAY($C$4,1)-1))+2),'المنشورات'!$A$5:$A$204,0))&" · "&INDEX('المنشورات'!$D$5:$D$204,MATCH((($C$4-(WEEKDAY($C$4,1)-1))+2),'المنشورات'!$A$5:$A$204,0))) | D12: =IF(OR(MONTH((($C$4-(WEEKDAY($C$4,1)-1))+3))<>MONTH($C$4),COUNTIF('المنشورات'!$A$5:$A$204,(($C$4-(WEEKDAY($C$4,1)-1))+3))=0),"",INDEX('المنشورات'!$C$5:$C$204,MATCH((($C$4-(WEEKDAY($C$4,1)-1))+3),'المنشورات'!$A$5:$A$204,0))&" · "&INDEX('المنشورات'!$D$5:$D$204,MATCH((($C$4-(WEEKDAY($C$4,1)-1))+3),'المنشورات'!$A$5:$A$204,0))) | E12: =IF(OR(MONTH((($C$4-(WEEKDAY($C$4,1)-1))+4))<>MONTH($C$4),COUNTIF('المنشورات'!$A$5:$A$204,(($C$4-(WEEKDAY($C$4,1)-1))+4))=0),"",INDEX('المنشورات'!$C$5:$C$204,MATCH((($C$4-(WEEKDAY($C$4,1)-1))+4),'المنشورات'!$A$5:$A$204,0))&" · "&INDEX('المنشورات'!$D$5:$D$204,MATCH((($C$4-(WEEKDAY($C$4,1)-1))+4),'المنشورات'!$A$5:$A$204,0))) | F12: =IF(OR(MONTH((($C$4-(WEEKDAY($C$4,1)-1))+5))<>MONTH($C$4),COUNTIF('المنشورات'!$A$5:$A$204,(($C$4-(WEEKDAY($C$4,1)-1))+5))=0),"",INDEX('المنشورات'!$C$5:$C$204,MATCH((($C$4-(WEEKDAY($C$4,1)-1))+5),'المنشورات'!$A$5:$A$204,0))&" · "&INDEX('المنشورات'!$D$5:$D$204,MATCH((($C$4-(WEEKDAY($C$4,1)-1))+5),'المنشورات'!$A$5:$A$204,0))) | G12: =IF(OR(MONTH((($C$4-(WEEKDAY($C$4,1)-1))+6))<>MONTH($C$4),COUNTIF('المنشورات'!$A$5:$A$204,(($C$4-(WEEKDAY($C$4,1)-1))+6))=0),"",INDEX('المنشورات'!$C$5:$C$204,MATCH((($C$4-(WEEKDAY($C$4,1)-1))+6),'المنشورات'!$A$5:$A$204,0))&" · "&INDEX('المنشورات'!$D$5:$D$204,MATCH((($C$4-(WEEKDAY($C$4,1)-1))+6),'المنشورات'!$A$5:$A$204,0))) | I12: =INDEX('المنشورات'!$R$5:$R$11,4) | J12: =COUNTIFS('المنشورات'!$A$5:$A$204,">="&$C$4,'المنشورات'!$A$5:$A$204,"<"&EDATE($C$4,1),'المنشورات'!$C$5:$C$204,$I$12) | K12: =SUMIFS('المنشورات'!$H$5:$H$204,'المنشورات'!$A$5:$A$204,">="&$C$4,'المنشورات'!$A$5:$A$204,"<"&EDATE($C$4,1),'المنشورات'!$C$5:$C$204,$I$12) | L12: =IFERROR(SUMIFS('المنشورات'!$N$5:$N$204,'المنشورات'!$A$5:$A$204,">="&$C$4,'المنشورات'!$A$5:$A$204,"<"&EDATE($C$4,1),'المنشورات'!$C$5:$C$204,$I$12)/K12,"") | M12: =COUNTIFS('المنشورات'!$A$5:$A$204,">="&$C$4,'المنشورات'!$A$5:$A$204,"<"&EDATE($C$4,1),'المنشورات'!$C$5:$C$204,$I$12,'المنشورات'!$G$5:$G$204,INDEX('المنشورات'!$R$29:$R$33,3))+COUNTIFS('المنشورات'!$A$5:$A$204,">="&$C$4,'المنشورات'!$A$5:$A$204,"<"&EDATE($C$4,1),'المنشورات'!$C$5:$C$204,$I$12,'المنشورات'!$G$5:$G$204,INDEX('المنشورات'!$R$29:$R$33,4))
A13: =IF(MONTH((($C$4-(WEEKDAY($C$4,1)-1))+7))<>MONTH($C$4),"",DAY((($C$4-(WEEKDAY($C$4,1)-1))+7))&IF(COUNTIF('المنشورات'!$A$5:$A$204,(($C$4-(WEEKDAY($C$4,1)-1))+7))>0," ● "&COUNTIF('المنشورات'!$A$5:$A$204,(($C$4-(WEEKDAY($C$4,1)-1))+7)),"")) | B13: =IF(MONTH((($C$4-(WEEKDAY($C$4,1)-1))+8))<>MONTH($C$4),"",DAY((($C$4-(WEEKDAY($C$4,1)-1))+8))&IF(COUNTIF('المنشورات'!$A$5:$A$204,(($C$4-(WEEKDAY($C$4,1)-1))+8))>0," ● "&COUNTIF('المنشورات'!$A$5:$A$204,(($C$4-(WEEKDAY($C$4,1)-1))+8)),"")) | C13: =IF(MONTH((($C$4-(WEEKDAY($C$4,1)-1))+9))<>MONTH($C$4),"",DAY((($C$4-(WEEKDAY($C$4,1)-1))+9))&IF(COUNTIF('المنشورات'!$A$5:$A$204,(($C$4-(WEEKDAY($C$4,1)-1))+9))>0," ● "&COUNTIF('المنشورات'!$A$5:$A$204,(($C$4-(WEEKDAY($C$4,1)-1))+9)),"")) | D13: =IF(MONTH((($C$4-(WEEKDAY($C$4,1)-1))+10))<>MONTH($C$4),"",DAY((($C$4-(WEEKDAY($C$4,1)-1))+10))&IF(COUNTIF('المنشورات'!$A$5:$A$204,(($C$4-(WEEKDAY($C$4,1)-1))+10))>0," ● "&COUNTIF('المنشورات'!$A$5:$A$204,(($C$4-(WEEKDAY($C$4,1)-1))+10)),"")) | E13: =IF(MONTH((($C$4-(WEEKDAY($C$4,1)-1))+11))<>MONTH($C$4),"",DAY((($C$4-(WEEKDAY($C$4,1)-1))+11))&IF(COUNTIF('المنشورات'!$A$5:$A$204,(($C$4-(WEEKDAY($C$4,1)-1))+11))>0," ● "&COUNTIF('المنشورات'!$A$5:$A$204,(($C$4-(WEEKDAY($C$4,1)-1))+11)),"")) | F13: =IF(MONTH((($C$4-(WEEKDAY($C$4,1)-1))+12))<>MONTH($C$4),"",DAY((($C$4-(WEEKDAY($C$4,1)-1))+12))&IF(COUNTIF('المنشورات'!$A$5:$A$204,(($C$4-(WEEKDAY($C$4,1)-1))+12))>0," ● "&COUNTIF('المنشورات'!$A$5:$A$204,(($C$4-(WEEKDAY($C$4,1)-1))+12)),"")) | G13: =IF(MONTH((($C$4-(WEEKDAY($C$4,1)-1))+13))<>MONTH($C$4),"",DAY((($C$4-(WEEKDAY($C$4,1)-1))+13))&IF(COUNTIF('المنشورات'!$A$5:$A$204,(($C$4-(WEEKDAY($C$4,1)-1))+13))>0," ● "&COUNTIF('المنشورات'!$A$5:$A$204,(($C$4-(WEEKDAY($C$4,1)-1))+13)),"")) | I13: =INDEX('المنشورات'!$R$5:$R$11,5) | J13: =COUNTIFS('المنشورات'!$A$5:$A$204,">="&$C$4,'المنشورات'!$A$5:$A$204,"<"&EDATE($C$4,1),'المنشورات'!$C$5:$C$204,$I$13) | K13: =SUMIFS('المنشورات'!$H$5:$H$204,'المنشورات'!$A$5:$A$204,">="&$C$4,'المنشورات'!$A$5:$A$204,"<"&EDATE($C$4,1),'المنشورات'!$C$5:$C$204,$I$13) | L13: =IFERROR(SUMIFS('المنشورات'!$N$5:$N$204,'المنشورات'!$A$5:$A$204,">="&$C$4,'المنشورات'!$A$5:$A$204,"<"&EDATE($C$4,1),'المنشورات'!$C$5:$C$204,$I$13)/K13,"") | M13: =COUNTIFS('المنشورات'!$A$5:$A$204,">="&$C$4,'المنشورات'!$A$5:$A$204,"<"&EDATE($C$4,1),'المنشورات'!$C$5:$C$204,$I$13,'المنشورات'!$G$5:$G$204,INDEX('المنشورات'!$R$29:$R$33,3))+COUNTIFS('المنشورات'!$A$5:$A$204,">="&$C$4,'المنشورات'!$A$5:$A$204,"<"&EDATE($C$4,1),'المنشورات'!$C$5:$C$204,$I$13,'المنشورات'!$G$5:$G$204,INDEX('المنشورات'!$R$29:$R$33,4))
A14: =IF(OR(MONTH((($C$4-(WEEKDAY($C$4,1)-1))+7))<>MONTH($C$4),COUNTIF('المنشورات'!$A$5:$A$204,(($C$4-(WEEKDAY($C$4,1)-1))+7))=0),"",INDEX('المنشورات'!$C$5:$C$204,MATCH((($C$4-(WEEKDAY($C$4,1)-1))+7),'المنشورات'!$A$5:$A$204,0))&" · "&INDEX('المنشورات'!$D$5:$D$204,MATCH((($C$4-(WEEKDAY($C$4,1)-1))+7),'المنشورات'!$A$5:$A$204,0))) | B14: =IF(OR(MONTH((($C$4-(WEEKDAY($C$4,1)-1))+8))<>MONTH($C$4),COUNTIF('المنشورات'!$A$5:$A$204,(($C$4-(WEEKDAY($C$4,1)-1))+8))=0),"",INDEX('المنشورات'!$C$5:$C$204,MATCH((($C$4-(WEEKDAY($C$4,1)-1))+8),'المنشورات'!$A$5:$A$204,0))&" · "&INDEX('المنشورات'!$D$5:$D$204,MATCH((($C$4-(WEEKDAY($C$4,1)-1))+8),'المنشورات'!$A$5:$A$204,0))) | C14: =IF(OR(MONTH((($C$4-(WEEKDAY($C$4,1)-1))+9))<>MONTH($C$4),COUNTIF('المنشورات'!$A$5:$A$204,(($C$4-(WEEKDAY($C$4,1)-1))+9))=0),"",INDEX('المنشورات'!$C$5:$C$204,MATCH((($C$4-(WEEKDAY($C$4,1)-1))+9),'المنشورات'!$A$5:$A$204,0))&" · "&INDEX('المنشورات'!$D$5:$D$204,MATCH((($C$4-(WEEKDAY($C$4,1)-1))+9),'المنشورات'!$A$5:$A$204,0))) | D14: =IF(OR(MONTH((($C$4-(WEEKDAY($C$4,1)-1))+10))<>MONTH($C$4),COUNTIF('المنشورات'!$A$5:$A$204,(($C$4-(WEEKDAY($C$4,1)-1))+10))=0),"",INDEX('المنشورات'!$C$5:$C$204,MATCH((($C$4-(WEEKDAY($C$4,1)-1))+10),'المنشورات'!$A$5:$A$204,0))&" · "&INDEX('المنشورات'!$D$5:$D$204,MATCH((($C$4-(WEEKDAY($C$4,1)-1))+10),'المنشورات'!$A$5:$A$204,0))) | E14: =IF(OR(MONTH((($C$4-(WEEKDAY($C$4,1)-1))+11))<>MONTH($C$4),COUNTIF('المنشورات'!$A$5:$A$204,(($C$4-(WEEKDAY($C$4,1)-1))+11))=0),"",INDEX('المنشورات'!$C$5:$C$204,MATCH((($C$4-(WEEKDAY($C$4,1)-1))+11),'المنشورات'!$A$5:$A$204,0))&" · "&INDEX('المنشورات'!$D$5:$D$204,MATCH((($C$4-(WEEKDAY($C$4,1)-1))+11),'المنشورات'!$A$5:$A$204,0))) | F14: =IF(OR(MONTH((($C$4-(WEEKDAY($C$4,1)-1))+12))<>MONTH($C$4),COUNTIF('المنشورات'!$A$5:$A$204,(($C$4-(WEEKDAY($C$4,1)-1))+12))=0),"",INDEX('المنشورات'!$C$5:$C$204,MATCH((($C$4-(WEEKDAY($C$4,1)-1))+12),'المنشورات'!$A$5:$A$204,0))&" · "&INDEX('المنشورات'!$D$5:$D$204,MATCH((($C$4-(WEEKDAY($C$4,1)-1))+12),'المنشورات'!$A$5:$A$204,0))) | G14: =IF(OR(MONTH((($C$4-(WEEKDAY($C$4,1)-1))+13))<>MONTH($C$4),COUNTIF('المنشورات'!$A$5:$A$204,(($C$4-(WEEKDAY($C$4,1)-1))+13))=0),"",INDEX('المنشورات'!$C$5:$C$204,MATCH((($C$4-(WEEKDAY($C$4,1)-1))+13),'المنشورات'!$A$5:$A$204,0))&" · "&INDEX('المنشورات'!$D$5:$D$204,MATCH((($C$4-(WEEKDAY($C$4,1)-1))+13),'المنشورات'!$A$5:$A$204,0))) | I14: =INDEX('المنشورات'!$R$5:$R$11,6) | J14: =COUNTIFS('المنشورات'!$A$5:$A$204,">="&$C$4,'المنشورات'!$A$5:$A$204,"<"&EDATE($C$4,1),'المنشورات'!$C$5:$C$204,$I$14) | K14: =SUMIFS('المنشورات'!$H$5:$H$204,'المنشورات'!$A$5:$A$204,">="&$C$4,'المنشورات'!$A$5:$A$204,"<"&EDATE($C$4,1),'المنشورات'!$C$5:$C$204,$I$14) | L14: =IFERROR(SUMIFS('المنشورات'!$N$5:$N$204,'المنشورات'!$A$5:$A$204,">="&$C$4,'المنشورات'!$A$5:$A$204,"<"&EDATE($C$4,1),'المنشورات'!$C$5:$C$204,$I$14)/K14,"") | M14: =COUNTIFS('المنشورات'!$A$5:$A$204,">="&$C$4,'المنشورات'!$A$5:$A$204,"<"&EDATE($C$4,1),'المنشورات'!$C$5:$C$204,$I$14,'المنشورات'!$G$5:$G$204,INDEX('المنشورات'!$R$29:$R$33,3))+COUNTIFS('المنشورات'!$A$5:$A$204,">="&$C$4,'المنشورات'!$A$5:$A$204,"<"&EDATE($C$4,1),'المنشورات'!$C$5:$C$204,$I$14,'المنشورات'!$G$5:$G$204,INDEX('المنشورات'!$R$29:$R$33,4))
A15: =IF(MONTH((($C$4-(WEEKDAY($C$4,1)-1))+14))<>MONTH($C$4),"",DAY((($C$4-(WEEKDAY($C$4,1)-1))+14))&IF(COUNTIF('المنشورات'!$A$5:$A$204,(($C$4-(WEEKDAY($C$4,1)-1))+14))>0," ● "&COUNTIF('المنشورات'!$A$5:$A$204,(($C$4-(WEEKDAY($C$4,1)-1))+14)),"")) | B15: =IF(MONTH((($C$4-(WEEKDAY($C$4,1)-1))+15))<>MONTH($C$4),"",DAY((($C$4-(WEEKDAY($C$4,1)-1))+15))&IF(COUNTIF('المنشورات'!$A$5:$A$204,(($C$4-(WEEKDAY($C$4,1)-1))+15))>0," ● "&COUNTIF('المنشورات'!$A$5:$A$204,(($C$4-(WEEKDAY($C$4,1)-1))+15)),"")) | C15: =IF(MONTH((($C$4-(WEEKDAY($C$4,1)-1))+16))<>MONTH($C$4),"",DAY((($C$4-(WEEKDAY($C$4,1)-1))+16))&IF(COUNTIF('المنشورات'!$A$5:$A$204,(($C$4-(WEEKDAY($C$4,1)-1))+16))>0," ● "&COUNTIF('المنشورات'!$A$5:$A$204,(($C$4-(WEEKDAY($C$4,1)-1))+16)),"")) | D15: =IF(MONTH((($C$4-(WEEKDAY($C$4,1)-1))+17))<>MONTH($C$4),"",DAY((($C$4-(WEEKDAY($C$4,1)-1))+17))&IF(COUNTIF('المنشورات'!$A$5:$A$204,(($C$4-(WEEKDAY($C$4,1)-1))+17))>0," ● "&COUNTIF('المنشورات'!$A$5:$A$204,(($C$4-(WEEKDAY($C$4,1)-1))+17)),"")) | E15: =IF(MONTH((($C$4-(WEEKDAY($C$4,1)-1))+18))<>MONTH($C$4),"",DAY((($C$4-(WEEKDAY($C$4,1)-1))+18))&IF(COUNTIF('المنشورات'!$A$5:$A$204,(($C$4-(WEEKDAY($C$4,1)-1))+18))>0," ● "&COUNTIF('المنشورات'!$A$5:$A$204,(($C$4-(WEEKDAY($C$4,1)-1))+18)),"")) | F15: =IF(MONTH((($C$4-(WEEKDAY($C$4,1)-1))+19))<>MONTH($C$4),"",DAY((($C$4-(WEEKDAY($C$4,1)-1))+19))&IF(COUNTIF('المنشورات'!$A$5:$A$204,(($C$4-(WEEKDAY($C$4,1)-1))+19))>0," ● "&COUNTIF('المنشورات'!$A$5:$A$204,(($C$4-(WEEKDAY($C$4,1)-1))+19)),"")) | G15: =IF(MONTH((($C$4-(WEEKDAY($C$4,1)-1))+20))<>MONTH($C$4),"",DAY((($C$4-(WEEKDAY($C$4,1)-1))+20))&IF(COUNTIF('المنشورات'!$A$5:$A$204,(($C$4-(WEEKDAY($C$4,1)-1))+20))>0," ● "&COUNTIF('المنشورات'!$A$5:$A$204,(($C$4-(WEEKDAY($C$4,1)-1))+20)),"")) | I15: =INDEX('المنشورات'!$R$5:$R$11,7) | J15: =COUNTIFS('المنشورات'!$A$5:$A$204,">="&$C$4,'المنشورات'!$A$5:$A$204,"<"&EDATE($C$4,1),'المنشورات'!$C$5:$C$204,$I$15) | K15: =SUMIFS('المنشورات'!$H$5:$H$204,'المنشورات'!$A$5:$A$204,">="&$C$4,'المنشورات'!$A$5:$A$204,"<"&EDATE($C$4,1),'المنشورات'!$C$5:$C$204,$I$15) | L15: =IFERROR(SUMIFS('المنشورات'!$N$5:$N$204,'المنشورات'!$A$5:$A$204,">="&$C$4,'المنشورات'!$A$5:$A$204,"<"&EDATE($C$4,1),'المنشورات'!$C$5:$C$204,$I$15)/K15,"") | M15: =COUNTIFS('المنشورات'!$A$5:$A$204,">="&$C$4,'المنشورات'!$A$5:$A$204,"<"&EDATE($C$4,1),'المنشورات'!$C$5:$C$204,$I$15,'المنشورات'!$G$5:$G$204,INDEX('المنشورات'!$R$29:$R$33,3))+COUNTIFS('المنشورات'!$A$5:$A$204,">="&$C$4,'المنشورات'!$A$5:$A$204,"<"&EDATE($C$4,1),'المنشورات'!$C$5:$C$204,$I$15,'المنشورات'!$G$5:$G$204,INDEX('المنشورات'!$R$29:$R$33,4))
A16: =IF(OR(MONTH((($C$4-(WEEKDAY($C$4,1)-1))+14))<>MONTH($C$4),COUNTIF('المنشورات'!$A$5:$A$204,(($C$4-(WEEKDAY($C$4,1)-1))+14))=0),"",INDEX('المنشورات'!$C$5:$C$204,MATCH((($C$4-(WEEKDAY($C$4,1)-1))+14),'المنشورات'!$A$5:$A$204,0))&" · "&INDEX('المنشورات'!$D$5:$D$204,MATCH((($C$4-(WEEKDAY($C$4,1)-1))+14),'المنشورات'!$A$5:$A$204,0))) | B16: =IF(OR(MONTH((($C$4-(WEEKDAY($C$4,1)-1))+15))<>MONTH($C$4),COUNTIF('المنشورات'!$A$5:$A$204,(($C$4-(WEEKDAY($C$4,1)-1))+15))=0),"",INDEX('المنشورات'!$C$5:$C$204,MATCH((($C$4-(WEEKDAY($C$4,1)-1))+15),'المنشورات'!$A$5:$A$204,0))&" · "&INDEX('المنشورات'!$D$5:$D$204,MATCH((($C$4-(WEEKDAY($C$4,1)-1))+15),'المنشورات'!$A$5:$A$204,0))) | C16: =IF(OR(MONTH((($C$4-(WEEKDAY($C$4,1)-1))+16))<>MONTH($C$4),COUNTIF('المنشورات'!$A$5:$A$204,(($C$4-(WEEKDAY($C$4,1)-1))+16))=0),"",INDEX('المنشورات'!$C$5:$C$204,MATCH((($C$4-(WEEKDAY($C$4,1)-1))+16),'المنشورات'!$A$5:$A$204,0))&" · "&INDEX('المنشورات'!$D$5:$D$204,MATCH((($C$4-(WEEKDAY($C$4,1)-1))+16),'المنشورات'!$A$5:$A$204,0))) | D16: =IF(OR(MONTH((($C$4-(WEEKDAY($C$4,1)-1))+17))<>MONTH($C$4),COUNTIF('المنشورات'!$A$5:$A$204,(($C$4-(WEEKDAY($C$4,1)-1))+17))=0),"",INDEX('المنشورات'!$C$5:$C$204,MATCH((($C$4-(WEEKDAY($C$4,1)-1))+17),'المنشورات'!$A$5:$A$204,0))&" · "&INDEX('المنشورات'!$D$5:$D$204,MATCH((($C$4-(WEEKDAY($C$4,1)-1))+17),'المنشورات'!$A$5:$A$204,0))) | E16: =IF(OR(MONTH((($C$4-(WEEKDAY($C$4,1)-1))+18))<>MONTH($C$4),COUNTIF('المنشورات'!$A$5:$A$204,(($C$4-(WEEKDAY($C$4,1)-1))+18))=0),"",INDEX('المنشورات'!$C$5:$C$204,MATCH((($C$4-(WEEKDAY($C$4,1)-1))+18),'المنشورات'!$A$5:$A$204,0))&" · "&INDEX('المنشورات'!$D$5:$D$204,MATCH((($C$4-(WEEKDAY($C$4,1)-1))+18),'المنشورات'!$A$5:$A$204,0))) | F16: =IF(OR(MONTH((($C$4-(WEEKDAY($C$4,1)-1))+19))<>MONTH($C$4),COUNTIF('المنشورات'!$A$5:$A$204,(($C$4-(WEEKDAY($C$4,1)-1))+19))=0),"",INDEX('المنشورات'!$C$5:$C$204,MATCH((($C$4-(WEEKDAY($C$4,1)-1))+19),'المنشورات'!$A$5:$A$204,0))&" · "&INDEX('المنشورات'!$D$5:$D$204,MATCH((($C$4-(WEEKDAY($C$4,1)-1))+19),'المنشورات'!$A$5:$A$204,0))) | G16: =IF(OR(MONTH((($C$4-(WEEKDAY($C$4,1)-1))+20))<>MONTH($C$4),COUNTIF('المنشورات'!$A$5:$A$204,(($C$4-(WEEKDAY($C$4,1)-1))+20))=0),"",INDEX('المنشورات'!$C$5:$C$204,MATCH((($C$4-(WEEKDAY($C$4,1)-1))+20),'المنشورات'!$A$5:$A$204,0))&" · "&INDEX('المنشورات'!$D$5:$D$204,MATCH((($C$4-(WEEKDAY($C$4,1)-1))+20),'المنشورات'!$A$5:$A$204,0)))
A17: =IF(MONTH((($C$4-(WEEKDAY($C$4,1)-1))+21))<>MONTH($C$4),"",DAY((($C$4-(WEEKDAY($C$4,1)-1))+21))&IF(COUNTIF('المنشورات'!$A$5:$A$204,(($C$4-(WEEKDAY($C$4,1)-1))+21))>0," ● "&COUNTIF('المنشورات'!$A$5:$A$204,(($C$4-(WEEKDAY($C$4,1)-1))+21)),"")) | B17: =IF(MONTH((($C$4-(WEEKDAY($C$4,1)-1))+22))<>MONTH($C$4),"",DAY((($C$4-(WEEKDAY($C$4,1)-1))+22))&IF(COUNTIF('المنشورات'!$A$5:$A$204,(($C$4-(WEEKDAY($C$4,1)-1))+22))>0," ● "&COUNTIF('المنشورات'!$A$5:$A$204,(($C$4-(WEEKDAY($C$4,1)-1))+22)),"")) | C17: =IF(MONTH((($C$4-(WEEKDAY($C$4,1)-1))+23))<>MONTH($C$4),"",DAY((($C$4-(WEEKDAY($C$4,1)-1))+23))&IF(COUNTIF('المنشورات'!$A$5:$A$204,(($C$4-(WEEKDAY($C$4,1)-1))+23))>0," ● "&COUNTIF('المنشورات'!$A$5:$A$204,(($C$4-(WEEKDAY($C$4,1)-1))+23)),"")) | D17: =IF(MONTH((($C$4-(WEEKDAY($C$4,1)-1))+24))<>MONTH($C$4),"",DAY((($C$4-(WEEKDAY($C$4,1)-1))+24))&IF(COUNTIF('المنشورات'!$A$5:$A$204,(($C$4-(WEEKDAY($C$4,1)-1))+24))>0," ● "&COUNTIF('المنشورات'!$A$5:$A$204,(($C$4-(WEEKDAY($C$4,1)-1))+24)),"")) | E17: =IF(MONTH((($C$4-(WEEKDAY($C$4,1)-1))+25))<>MONTH($C$4),"",DAY((($C$4-(WEEKDAY($C$4,1)-1))+25))&IF(COUNTIF('المنشورات'!$A$5:$A$204,(($C$4-(WEEKDAY($C$4,1)-1))+25))>0," ● "&COUNTIF('المنشورات'!$A$5:$A$204,(($C$4-(WEEKDAY($C$4,1)-1))+25)),"")) | F17: =IF(MONTH((($C$4-(WEEKDAY($C$4,1)-1))+26))<>MONTH($C$4),"",DAY((($C$4-(WEEKDAY($C$4,1)-1))+26))&IF(COUNTIF('المنشورات'!$A$5:$A$204,(($C$4-(WEEKDAY($C$4,1)-1))+26))>0," ● "&COUNTIF('المنشورات'!$A$5:$A$204,(($C$4-(WEEKDAY($C$4,1)-1))+26)),"")) | G17: =IF(MONTH((($C$4-(WEEKDAY($C$4,1)-1))+27))<>MONTH($C$4),"",DAY((($C$4-(WEEKDAY($C$4,1)-1))+27))&IF(COUNTIF('المنشورات'!$A$5:$A$204,(($C$4-(WEEKDAY($C$4,1)-1))+27))>0," ● "&COUNTIF('المنشورات'!$A$5:$A$204,(($C$4-(WEEKDAY($C$4,1)-1))+27)),"")) | I17: نوع المحتوى | J17: منشورات | K17: الظهور | L17: تفاعل %
A18: =IF(OR(MONTH((($C$4-(WEEKDAY($C$4,1)-1))+21))<>MONTH($C$4),COUNTIF('المنشورات'!$A$5:$A$204,(($C$4-(WEEKDAY($C$4,1)-1))+21))=0),"",INDEX('المنشورات'!$C$5:$C$204,MATCH((($C$4-(WEEKDAY($C$4,1)-1))+21),'المنشورات'!$A$5:$A$204,0))&" · "&INDEX('المنشورات'!$D$5:$D$204,MATCH((($C$4-(WEEKDAY($C$4,1)-1))+21),'المنشورات'!$A$5:$A$204,0))) | B18: =IF(OR(MONTH((($C$4-(WEEKDAY($C$4,1)-1))+22))<>MONTH($C$4),COUNTIF('المنشورات'!$A$5:$A$204,(($C$4-(WEEKDAY($C$4,1)-1))+22))=0),"",INDEX('المنشورات'!$C$5:$C$204,MATCH((($C$4-(WEEKDAY($C$4,1)-1))+22),'المنشورات'!$A$5:$A$204,0))&" · "&INDEX('المنشورات'!$D$5:$D$204,MATCH((($C$4-(WEEKDAY($C$4,1)-1))+22),'المنشورات'!$A$5:$A$204,0))) | C18: =IF(OR(MONTH((($C$4-(WEEKDAY($C$4,1)-1))+23))<>MONTH($C$4),COUNTIF('المنشورات'!$A$5:$A$204,(($C$4-(WEEKDAY($C$4,1)-1))+23))=0),"",INDEX('المنشورات'!$C$5:$C$204,MATCH((($C$4-(WEEKDAY($C$4,1)-1))+23),'المنشورات'!$A$5:$A$204,0))&" · "&INDEX('المنشورات'!$D$5:$D$204,MATCH((($C$4-(WEEKDAY($C$4,1)-1))+23),'المنشورات'!$A$5:$A$204,0))) | D18: =IF(OR(MONTH((($C$4-(WEEKDAY($C$4,1)-1))+24))<>MONTH($C$4),COUNTIF('المنشورات'!$A$5:$A$204,(($C$4-(WEEKDAY($C$4,1)-1))+24))=0),"",INDEX('المنشورات'!$C$5:$C$204,MATCH((($C$4-(WEEKDAY($C$4,1)-1))+24),'المنشورات'!$A$5:$A$204,0))&" · "&INDEX('المنشورات'!$D$5:$D$204,MATCH((($C$4-(WEEKDAY($C$4,1)-1))+24),'المنشورات'!$A$5:$A$204,0))) | E18: =IF(OR(MONTH((($C$4-(WEEKDAY($C$4,1)-1))+25))<>MONTH($C$4),COUNTIF('المنشورات'!$A$5:$A$204,(($C$4-(WEEKDAY($C$4,1)-1))+25))=0),"",INDEX('المنشورات'!$C$5:$C$204,MATCH((($C$4-(WEEKDAY($C$4,1)-1))+25),'المنشورات'!$A$5:$A$204,0))&" · "&INDEX('المنشورات'!$D$5:$D$204,MATCH((($C$4-(WEEKDAY($C$4,1)-1))+25),'المنشورات'!$A$5:$A$204,0))) | F18: =IF(OR(MONTH((($C$4-(WEEKDAY($C$4,1)-1))+26))<>MONTH($C$4),COUNTIF('المنشورات'!$A$5:$A$204,(($C$4-(WEEKDAY($C$4,1)-1))+26))=0),"",INDEX('المنشورات'!$C$5:$C$204,MATCH((($C$4-(WEEKDAY($C$4,1)-1))+26),'المنشورات'!$A$5:$A$204,0))&" · "&INDEX('المنشورات'!$D$5:$D$204,MATCH((($C$4-(WEEKDAY($C$4,1)-1))+26),'المنشورات'!$A$5:$A$204,0))) | G18: =IF(OR(MONTH((($C$4-(WEEKDAY($C$4,1)-1))+27))<>MONTH($C$4),COUNTIF('المنشورات'!$A$5:$A$204,(($C$4-(WEEKDAY($C$4,1)-1))+27))=0),"",INDEX('المنشورات'!$C$5:$C$204,MATCH((($C$4-(WEEKDAY($C$4,1)-1))+27),'المنشورات'!$A$5:$A$204,0))&" · "&INDEX('المنشورات'!$D$5:$D$204,MATCH((($C$4-(WEEKDAY($C$4,1)-1))+27),'المنشورات'!$A$5:$A$204,0))) | I18: =INDEX('المنشورات'!$R$14:$R$19,1) | J18: =COUNTIFS('المنشورات'!$A$5:$A$204,">="&$C$4,'المنشورات'!$A$5:$A$204,"<"&EDATE($C$4,1),'المنشورات'!$D$5:$D$204,$I$18) | K18: =SUMIFS('المنشورات'!$H$5:$H$204,'المنشورات'!$A$5:$A$204,">="&$C$4,'المنشورات'!$A$5:$A$204,"<"&EDATE($C$4,1),'المنشورات'!$D$5:$D$204,$I$18) | L18: =IFERROR(SUMIFS('المنشورات'!$N$5:$N$204,'المنشورات'!$A$5:$A$204,">="&$C$4,'المنشورات'!$A$5:$A$204,"<"&EDATE($C$4,1),'المنشورات'!$D$5:$D$204,$I$18)/K18,"")
A19: =IF(MONTH((($C$4-(WEEKDAY($C$4,1)-1))+28))<>MONTH($C$4),"",DAY((($C$4-(WEEKDAY($C$4,1)-1))+28))&IF(COUNTIF('المنشورات'!$A$5:$A$204,(($C$4-(WEEKDAY($C$4,1)-1))+28))>0," ● "&COUNTIF('المنشورات'!$A$5:$A$204,(($C$4-(WEEKDAY($C$4,1)-1))+28)),"")) | B19: =IF(MONTH((($C$4-(WEEKDAY($C$4,1)-1))+29))<>MONTH($C$4),"",DAY((($C$4-(WEEKDAY($C$4,1)-1))+29))&IF(COUNTIF('المنشورات'!$A$5:$A$204,(($C$4-(WEEKDAY($C$4,1)-1))+29))>0," ● "&COUNTIF('المنشورات'!$A$5:$A$204,(($C$4-(WEEKDAY($C$4,1)-1))+29)),"")) | C19: =IF(MONTH((($C$4-(WEEKDAY($C$4,1)-1))+30))<>MONTH($C$4),"",DAY((($C$4-(WEEKDAY($C$4,1)-1))+30))&IF(COUNTIF('المنشورات'!$A$5:$A$204,(($C$4-(WEEKDAY($C$4,1)-1))+30))>0," ● "&COUNTIF('المنشورات'!$A$5:$A$204,(($C$4-(WEEKDAY($C$4,1)-1))+30)),"")) | D19: =IF(MONTH((($C$4-(WEEKDAY($C$4,1)-1))+31))<>MONTH($C$4),"",DAY((($C$4-(WEEKDAY($C$4,1)-1))+31))&IF(COUNTIF('المنشورات'!$A$5:$A$204,(($C$4-(WEEKDAY($C$4,1)-1))+31))>0," ● "&COUNTIF('المنشورات'!$A$5:$A$204,(($C$4-(WEEKDAY($C$4,1)-1))+31)),"")) | E19: =IF(MONTH((($C$4-(WEEKDAY($C$4,1)-1))+32))<>MONTH($C$4),"",DAY((($C$4-(WEEKDAY($C$4,1)-1))+32))&IF(COUNTIF('المنشورات'!$A$5:$A$204,(($C$4-(WEEKDAY($C$4,1)-1))+32))>0," ● "&COUNTIF('المنشورات'!$A$5:$A$204,(($C$4-(WEEKDAY($C$4,1)-1))+32)),"")) | F19: =IF(MONTH((($C$4-(WEEKDAY($C$4,1)-1))+33))<>MONTH($C$4),"",DAY((($C$4-(WEEKDAY($C$4,1)-1))+33))&IF(COUNTIF('المنشورات'!$A$5:$A$204,(($C$4-(WEEKDAY($C$4,1)-1))+33))>0," ● "&COUNTIF('المنشورات'!$A$5:$A$204,(($C$4-(WEEKDAY($C$4,1)-1))+33)),"")) | G19: =IF(MONTH((($C$4-(WEEKDAY($C$4,1)-1))+34))<>MONTH($C$4),"",DAY((($C$4-(WEEKDAY($C$4,1)-1))+34))&IF(COUNTIF('المنشورات'!$A$5:$A$204,(($C$4-(WEEKDAY($C$4,1)-1))+34))>0," ● "&COUNTIF('المنشورات'!$A$5:$A$204,(($C$4-(WEEKDAY($C$4,1)-1))+34)),"")) | I19: =INDEX('المنشورات'!$R$14:$R$19,2) | J19: =COUNTIFS('المنشورات'!$A$5:$A$204,">="&$C$4,'المنشورات'!$A$5:$A$204,"<"&EDATE($C$4,1),'المنشورات'!$D$5:$D$204,$I$19) | K19: =SUMIFS('المنشورات'!$H$5:$H$204,'المنشورات'!$A$5:$A$204,">="&$C$4,'المنشورات'!$A$5:$A$204,"<"&EDATE($C$4,1),'المنشورات'!$D$5:$D$204,$I$19) | L19: =IFERROR(SUMIFS('المنشورات'!$N$5:$N$204,'المنشورات'!$A$5:$A$204,">="&$C$4,'المنشورات'!$A$5:$A$204,"<"&EDATE($C$4,1),'المنشورات'!$D$5:$D$204,$I$19)/K19,"")
A20: =IF(OR(MONTH((($C$4-(WEEKDAY($C$4,1)-1))+28))<>MONTH($C$4),COUNTIF('المنشورات'!$A$5:$A$204,(($C$4-(WEEKDAY($C$4,1)-1))+28))=0),"",INDEX('المنشورات'!$C$5:$C$204,MATCH((($C$4-(WEEKDAY($C$4,1)-1))+28),'المنشورات'!$A$5:$A$204,0))&" · "&INDEX('المنشورات'!$D$5:$D$204,MATCH((($C$4-(WEEKDAY($C$4,1)-1))+28),'المنشورات'!$A$5:$A$204,0))) | B20: =IF(OR(MONTH((($C$4-(WEEKDAY($C$4,1)-1))+29))<>MONTH($C$4),COUNTIF('المنشورات'!$A$5:$A$204,(($C$4-(WEEKDAY($C$4,1)-1))+29))=0),"",INDEX('المنشورات'!$C$5:$C$204,MATCH((($C$4-(WEEKDAY($C$4,1)-1))+29),'المنشورات'!$A$5:$A$204,0))&" · "&INDEX('المنشورات'!$D$5:$D$204,MATCH((($C$4-(WEEKDAY($C$4,1)-1))+29),'المنشورات'!$A$5:$A$204,0))) | C20: =IF(OR(MONTH((($C$4-(WEEKDAY($C$4,1)-1))+30))<>MONTH($C$4),COUNTIF('المنشورات'!$A$5:$A$204,(($C$4-(WEEKDAY($C$4,1)-1))+30))=0),"",INDEX('المنشورات'!$C$5:$C$204,MATCH((($C$4-(WEEKDAY($C$4,1)-1))+30),'المنشورات'!$A$5:$A$204,0))&" · "&INDEX('المنشورات'!$D$5:$D$204,MATCH((($C$4-(WEEKDAY($C$4,1)-1))+30),'المنشورات'!$A$5:$A$204,0))) | D20: =IF(OR(MONTH((($C$4-(WEEKDAY($C$4,1)-1))+31))<>MONTH($C$4),COUNTIF('المنشورات'!$A$5:$A$204,(($C$4-(WEEKDAY($C$4,1)-1))+31))=0),"",INDEX('المنشورات'!$C$5:$C$204,MATCH((($C$4-(WEEKDAY($C$4,1)-1))+31),'المنشورات'!$A$5:$A$204,0))&" · "&INDEX('المنشورات'!$D$5:$D$204,MATCH((($C$4-(WEEKDAY($C$4,1)-1))+31),'المنشورات'!$A$5:$A$204,0))) | E20: =IF(OR(MONTH((($C$4-(WEEKDAY($C$4,1)-1))+32))<>MONTH($C$4),COUNTIF('المنشورات'!$A$5:$A$204,(($C$4-(WEEKDAY($C$4,1)-1))+32))=0),"",INDEX('المنشورات'!$C$5:$C$204,MATCH((($C$4-(WEEKDAY($C$4,1)-1))+32),'المنشورات'!$A$5:$A$204,0))&" · "&INDEX('المنشورات'!$D$5:$D$204,MATCH((($C$4-(WEEKDAY($C$4,1)-1))+32),'المنشورات'!$A$5:$A$204,0))) | F20: =IF(OR(MONTH((($C$4-(WEEKDAY($C$4,1)-1))+33))<>MONTH($C$4),COUNTIF('المنشورات'!$A$5:$A$204,(($C$4-(WEEKDAY($C$4,1)-1))+33))=0),"",INDEX('المنشورات'!$C$5:$C$204,MATCH((($C$4-(WEEKDAY($C$4,1)-1))+33),'المنشورات'!$A$5:$A$204,0))&" · "&INDEX('المنشورات'!$D$5:$D$204,MATCH((($C$4-(WEEKDAY($C$4,1)-1))+33),'المنشورات'!$A$5:$A$204,0))) | G20: =IF(OR(MONTH((($C$4-(WEEKDAY($C$4,1)-1))+34))<>MONTH($C$4),COUNTIF('المنشورات'!$A$5:$A$204,(($C$4-(WEEKDAY($C$4,1)-1))+34))=0),"",INDEX('المنشورات'!$C$5:$C$204,MATCH((($C$4-(WEEKDAY($C$4,1)-1))+34),'المنشورات'!$A$5:$A$204,0))&" · "&INDEX('المنشورات'!$D$5:$D$204,MATCH((($C$4-(WEEKDAY($C$4,1)-1))+34),'المنشورات'!$A$5:$A$204,0))) | I20: =INDEX('المنشورات'!$R$14:$R$19,3) | J20: =COUNTIFS('المنشورات'!$A$5:$A$204,">="&$C$4,'المنشورات'!$A$5:$A$204,"<"&EDATE($C$4,1),'المنشورات'!$D$5:$D$204,$I$20) | K20: =SUMIFS('المنشورات'!$H$5:$H$204,'المنشورات'!$A$5:$A$204,">="&$C$4,'المنشورات'!$A$5:$A$204,"<"&EDATE($C$4,1),'المنشورات'!$D$5:$D$204,$I$20) | L20: =IFERROR(SUMIFS('المنشورات'!$N$5:$N$204,'المنشورات'!$A$5:$A$204,">="&$C$4,'المنشورات'!$A$5:$A$204,"<"&EDATE($C$4,1),'المنشورات'!$D$5:$D$204,$I$20)/K20,"")
A21: =IF(MONTH((($C$4-(WEEKDAY($C$4,1)-1))+35))<>MONTH($C$4),"",DAY((($C$4-(WEEKDAY($C$4,1)-1))+35))&IF(COUNTIF('المنشورات'!$A$5:$A$204,(($C$4-(WEEKDAY($C$4,1)-1))+35))>0," ● "&COUNTIF('المنشورات'!$A$5:$A$204,(($C$4-(WEEKDAY($C$4,1)-1))+35)),"")) | B21: =IF(MONTH((($C$4-(WEEKDAY($C$4,1)-1))+36))<>MONTH($C$4),"",DAY((($C$4-(WEEKDAY($C$4,1)-1))+36))&IF(COUNTIF('المنشورات'!$A$5:$A$204,(($C$4-(WEEKDAY($C$4,1)-1))+36))>0," ● "&COUNTIF('المنشورات'!$A$5:$A$204,(($C$4-(WEEKDAY($C$4,1)-1))+36)),"")) | C21: =IF(MONTH((($C$4-(WEEKDAY($C$4,1)-1))+37))<>MONTH($C$4),"",DAY((($C$4-(WEEKDAY($C$4,1)-1))+37))&IF(COUNTIF('المنشورات'!$A$5:$A$204,(($C$4-(WEEKDAY($C$4,1)-1))+37))>0," ● "&COUNTIF('المنشورات'!$A$5:$A$204,(($C$4-(WEEKDAY($C$4,1)-1))+37)),"")) | D21: =IF(MONTH((($C$4-(WEEKDAY($C$4,1)-1))+38))<>MONTH($C$4),"",DAY((($C$4-(WEEKDAY($C$4,1)-1))+38))&IF(COUNTIF('المنشورات'!$A$5:$A$204,(($C$4-(WEEKDAY($C$4,1)-1))+38))>0," ● "&COUNTIF('المنشورات'!$A$5:$A$204,(($C$4-(WEEKDAY($C$4,1)-1))+38)),"")) | E21: =IF(MONTH((($C$4-(WEEKDAY($C$4,1)-1))+39))<>MONTH($C$4),"",DAY((($C$4-(WEEKDAY($C$4,1)-1))+39))&IF(COUNTIF('المنشورات'!$A$5:$A$204,(($C$4-(WEEKDAY($C$4,1)-1))+39))>0," ● "&COUNTIF('المنشورات'!$A$5:$A$204,(($C$4-(WEEKDAY($C$4,1)-1))+39)),"")) | F21: =IF(MONTH((($C$4-(WEEKDAY($C$4,1)-1))+40))<>MONTH($C$4),"",DAY((($C$4-(WEEKDAY($C$4,1)-1))+40))&IF(COUNTIF('المنشورات'!$A$5:$A$204,(($C$4-(WEEKDAY($C$4,1)-1))+40))>0," ● "&COUNTIF('المنشورات'!$A$5:$A$204,(($C$4-(WEEKDAY($C$4,1)-1))+40)),"")) | G21: =IF(MONTH((($C$4-(WEEKDAY($C$4,1)-1))+41))<>MONTH($C$4),"",DAY((($C$4-(WEEKDAY($C$4,1)-1))+41))&IF(COUNTIF('المنشورات'!$A$5:$A$204,(($C$4-(WEEKDAY($C$4,1)-1))+41))>0," ● "&COUNTIF('المنشورات'!$A$5:$A$204,(($C$4-(WEEKDAY($C$4,1)-1))+41)),"")) | I21: =INDEX('المنشورات'!$R$14:$R$19,4) | J21: =COUNTIFS('المنشورات'!$A$5:$A$204,">="&$C$4,'المنشورات'!$A$5:$A$204,"<"&EDATE($C$4,1),'المنشورات'!$D$5:$D$204,$I$21) | K21: =SUMIFS('المنشورات'!$H$5:$H$204,'المنشورات'!$A$5:$A$204,">="&$C$4,'المنشورات'!$A$5:$A$204,"<"&EDATE($C$4,1),'المنشورات'!$D$5:$D$204,$I$21) | L21: =IFERROR(SUMIFS('المنشورات'!$N$5:$N$204,'المنشورات'!$A$5:$A$204,">="&$C$4,'المنشورات'!$A$5:$A$204,"<"&EDATE($C$4,1),'المنشورات'!$D$5:$D$204,$I$21)/K21,"")
A22: =IF(OR(MONTH((($C$4-(WEEKDAY($C$4,1)-1))+35))<>MONTH($C$4),COUNTIF('المنشورات'!$A$5:$A$204,(($C$4-(WEEKDAY($C$4,1)-1))+35))=0),"",INDEX('المنشورات'!$C$5:$C$204,MATCH((($C$4-(WEEKDAY($C$4,1)-1))+35),'المنشورات'!$A$5:$A$204,0))&" · "&INDEX('المنشورات'!$D$5:$D$204,MATCH((($C$4-(WEEKDAY($C$4,1)-1))+35),'المنشورات'!$A$5:$A$204,0))) | B22: =IF(OR(MONTH((($C$4-(WEEKDAY($C$4,1)-1))+36))<>MONTH($C$4),COUNTIF('المنشورات'!$A$5:$A$204,(($C$4-(WEEKDAY($C$4,1)-1))+36))=0),"",INDEX('المنشورات'!$C$5:$C$204,MATCH((($C$4-(WEEKDAY($C$4,1)-1))+36),'المنشورات'!$A$5:$A$204,0))&" · "&INDEX('المنشورات'!$D$5:$D$204,MATCH((($C$4-(WEEKDAY($C$4,1)-1))+36),'المنشورات'!$A$5:$A$204,0))) | C22: =IF(OR(MONTH((($C$4-(WEEKDAY($C$4,1)-1))+37))<>MONTH($C$4),COUNTIF('المنشورات'!$A$5:$A$204,(($C$4-(WEEKDAY($C$4,1)-1))+37))=0),"",INDEX('المنشورات'!$C$5:$C$204,MATCH((($C$4-(WEEKDAY($C$4,1)-1))+37),'المنشورات'!$A$5:$A$204,0))&" · "&INDEX('المنشورات'!$D$5:$D$204,MATCH((($C$4-(WEEKDAY($C$4,1)-1))+37),'المنشورات'!$A$5:$A$204,0))) | D22: =IF(OR(MONTH((($C$4-(WEEKDAY($C$4,1)-1))+38))<>MONTH($C$4),COUNTIF('المنشورات'!$A$5:$A$204,(($C$4-(WEEKDAY($C$4,1)-1))+38))=0),"",INDEX('المنشورات'!$C$5:$C$204,MATCH((($C$4-(WEEKDAY($C$4,1)-1))+38),'المنشورات'!$A$5:$A$204,0))&" · "&INDEX('المنشورات'!$D$5:$D$204,MATCH((($C$4-(WEEKDAY($C$4,1)-1))+38),'المنشورات'!$A$5:$A$204,0))) | E22: =IF(OR(MONTH((($C$4-(WEEKDAY($C$4,1)-1))+39))<>MONTH($C$4),COUNTIF('المنشورات'!$A$5:$A$204,(($C$4-(WEEKDAY($C$4,1)-1))+39))=0),"",INDEX('المنشورات'!$C$5:$C$204,MATCH((($C$4-(WEEKDAY($C$4,1)-1))+39),'المنشورات'!$A$5:$A$204,0))&" · "&INDEX('المنشورات'!$D$5:$D$204,MATCH((($C$4-(WEEKDAY($C$4,1)-1))+39),'المنشورات'!$A$5:$A$204,0))) | F22: =IF(OR(MONTH((($C$4-(WEEKDAY($C$4,1)-1))+40))<>MONTH($C$4),COUNTIF('المنشورات'!$A$5:$A$204,(($C$4-(WEEKDAY($C$4,1)-1))+40))=0),"",INDEX('المنشورات'!$C$5:$C$204,MATCH((($C$4-(WEEKDAY($C$4,1)-1))+40),'المنشورات'!$A$5:$A$204,0))&" · "&INDEX('المنشورات'!$D$5:$D$204,MATCH((($C$4-(WEEKDAY($C$4,1)-1))+40),'المنشورات'!$A$5:$A$204,0))) | G22: =IF(OR(MONTH((($C$4-(WEEKDAY($C$4,1)-1))+41))<>MONTH($C$4),COUNTIF('المنشورات'!$A$5:$A$204,(($C$4-(WEEKDAY($C$4,1)-1))+41))=0),"",INDEX('المنشورات'!$C$5:$C$204,MATCH((($C$4-(WEEKDAY($C$4,1)-1))+41),'المنشورات'!$A$5:$A$204,0))&" · "&INDEX('المنشورات'!$D$5:$D$204,MATCH((($C$4-(WEEKDAY($C$4,1)-1))+41),'المنشورات'!$A$5:$A$204,0))) | I22: =INDEX('المنشورات'!$R$14:$R$19,5) | J22: =COUNTIFS('المنشورات'!$A$5:$A$204,">="&$C$4,'المنشورات'!$A$5:$A$204,"<"&EDATE($C$4,1),'المنشورات'!$D$5:$D$204,$I$22) | K22: =SUMIFS('المنشورات'!$H$5:$H$204,'المنشورات'!$A$5:$A$204,">="&$C$4,'المنشورات'!$A$5:$A$204,"<"&EDATE($C$4,1),'المنشورات'!$D$5:$D$204,$I$22) | L22: =IFERROR(SUMIFS('المنشورات'!$N$5:$N$204,'المنشورات'!$A$5:$A$204,">="&$C$4,'المنشورات'!$A$5:$A$204,"<"&EDATE($C$4,1),'المنشورات'!$D$5:$D$204,$I$22)/K22,"")
I23: =INDEX('المنشورات'!$R$14:$R$19,6) | J23: =COUNTIFS('المنشورات'!$A$5:$A$204,">="&$C$4,'المنشورات'!$A$5:$A$204,"<"&EDATE($C$4,1),'المنشورات'!$D$5:$D$204,$I$23) | K23: =SUMIFS('المنشورات'!$H$5:$H$204,'المنشورات'!$A$5:$A$204,">="&$C$4,'المنشورات'!$A$5:$A$204,"<"&EDATE($C$4,1),'المنشورات'!$D$5:$D$204,$I$23) | L23: =IFERROR(SUMIFS('المنشورات'!$N$5:$N$204,'المنشورات'!$A$5:$A$204,">="&$C$4,'المنشورات'!$A$5:$A$204,"<"&EDATE($C$4,1),'المنشورات'!$D$5:$D$204,$I$23)/K23,"")
I25: محور المحتوى | J25: منشورات | K25: الفعلي % | L25: الهدف % | M25: الفرق
I26: =INDEX('المنشورات'!$R$22:$R$26,1) | J26: =COUNTIFS('المنشورات'!$A$5:$A$204,">="&$C$4,'المنشورات'!$A$5:$A$204,"<"&EDATE($C$4,1),'المنشورات'!$F$5:$F$204,$I$26) | K26: =IFERROR(J26/SUM($J$26:$J$30),0) | L26: =INDEX('المنشورات'!$S$22:$S$26,1) | M26: =K26-L26
I27: =INDEX('المنشورات'!$R$22:$R$26,2) | J27: =COUNTIFS('المنشورات'!$A$5:$A$204,">="&$C$4,'المنشورات'!$A$5:$A$204,"<"&EDATE($C$4,1),'المنشورات'!$F$5:$F$204,$I$27) | K27: =IFERROR(J27/SUM($J$26:$J$30),0) | L27: =INDEX('المنشورات'!$S$22:$S$26,2) | M27: =K27-L27
I28: =INDEX('المنشورات'!$R$22:$R$26,3) | J28: =COUNTIFS('المنشورات'!$A$5:$A$204,">="&$C$4,'المنشورات'!$A$5:$A$204,"<"&EDATE($C$4,1),'المنشورات'!$F$5:$F$204,$I$28) | K28: =IFERROR(J28/SUM($J$26:$J$30),0) | L28: =INDEX('المنشورات'!$S$22:$S$26,3) | M28: =K28-L28
I29: =INDEX('المنشورات'!$R$22:$R$26,4) | J29: =COUNTIFS('المنشورات'!$A$5:$A$204,">="&$C$4,'المنشورات'!$A$5:$A$204,"<"&EDATE($C$4,1),'المنشورات'!$F$5:$F$204,$I$29) | K29: =IFERROR(J29/SUM($J$26:$J$30),0) | L29: =INDEX('المنشورات'!$S$22:$S$26,4) | M29: =K29-L29
I30: =INDEX('المنشورات'!$R$22:$R$26,5) | J30: =COUNTIFS('المنشورات'!$A$5:$A$204,">="&$C$4,'المنشورات'!$A$5:$A$204,"<"&EDATE($C$4,1),'المنشورات'!$F$5:$F$204,$I$30) | K30: =IFERROR(J30/SUM($J$26:$J$30),0) | L30: =INDEX('المنشورات'!$S$22:$S$26,5) | M30: =K30-L30
I32: خط الإنتاج | J32: عدد
I33: =INDEX('المنشورات'!$R$29:$R$33,1) | J33: =COUNTIFS('المنشورات'!$A$5:$A$204,">="&$C$4,'المنشورات'!$A$5:$A$204,"<"&EDATE($C$4,1),'المنشورات'!$G$5:$G$204,$I$33)
I34: =INDEX('المنشورات'!$R$29:$R$33,2) | J34: =COUNTIFS('المنشورات'!$A$5:$A$204,">="&$C$4,'المنشورات'!$A$5:$A$204,"<"&EDATE($C$4,1),'المنشورات'!$G$5:$G$204,$I$34)
I35: =INDEX('المنشورات'!$R$29:$R$33,3) | J35: =COUNTIFS('المنشورات'!$A$5:$A$204,">="&$C$4,'المنشورات'!$A$5:$A$204,"<"&EDATE($C$4,1),'المنشورات'!$G$5:$G$204,$I$35)
I36: =INDEX('المنشورات'!$R$29:$R$33,4) | J36: =COUNTIFS('المنشورات'!$A$5:$A$204,">="&$C$4,'المنشورات'!$A$5:$A$204,"<"&EDATE($C$4,1),'المنشورات'!$G$5:$G$204,$I$36)
I37: =INDEX('المنشورات'!$R$29:$R$33,5) | J37: =COUNTIFS('المنشورات'!$A$5:$A$204,">="&$C$4,'المنشورات'!$A$5:$A$204,"<"&EDATE($C$4,1),'المنشورات'!$G$5:$G$204,$I$37)
I39: =IFERROR("أفضل نوع محتوى تفاعلًا: "&INDEX($I$18:$I$23,MATCH(MAX($L$18:$L$23),$L$18:$L$23,0))&" ("&TEXT(MAX($L$18:$L$23),"0.0%")&")","")
I40: =IFERROR("أفضل منصة تفاعلًا: "&INDEX($I$9:$I$15,MATCH(MAX($L$9:$L$15),$L$9:$L$15,0))&" ("&TEXT(MAX($L$9:$L$15),"0.0%")&")","")

Sheet المنشورات
A1: المنشورات
A2: سجّل كل منشور بتاريخه ومنصته ونوعه وحالته، وأدخل أرقام الأداء بعد النشر
A4: التاريخ | B4: اليوم | C4: المنصة | D4: النوع | E4: الفكرة / الوصف | F4: المحور | G4: الحالة | H4: الظهور | I4: إعجابات | J4: تعليقات | K4: مشاركات | L4: حفظ | M4: نقرات | N4: تفاعلات | O4: معدل التفاعل | P4: المسؤول | R4: المنصة
A5: 46296 | B5: =IF(A5="","",TEXT(A5,"ddd")) | C5: إنستغرام | D5: ريلز / فيديو قصير | E5: 3 أخطاء شائعة في الموضوع | F5: تعليمي | G5: منشور | H5: 12161 | I5: 377 | J5: 48 | K5: 73 | L5: 111 | M5: 145 | N5: =IF(H5="","",N(I5)+N(J5)+N(K5)+N(L5)) | O5: =IF(N(H5)>0,N5/H5,"") | P5: مها | R5: إنستغرام
A6: 46297 | B6: =IF(A6="","",TEXT(A6,"ddd")) | C6: فيسبوك | D6: نص | E6: كيف تختار المنتج المناسب | F6: تفاعلي | G6: منشور | H6: 4001 | I6: 58 | J6: 7 | K6: 11 | L6: 19 | M6: 48 | N6: =IF(H6="","",N(I6)+N(J6)+N(K6)+N(L6)) | O6: =IF(N(H6)>0,N6/H6,"") | P6: فهد | R6: تيك توك
A7: 46299 | B7: =IF(A7="","",TEXT(A7,"ddd")) | C7: إنستغرام | D7: صورة | E7: قصة نجاح عميل | F7: تعليمي | G7: منشور | H7: 4900 | I7: 166 | J7: 21 | K7: 32 | L7: 50 | M7: 58 | N7: =IF(H7="","",N(I7)+N(J7)+N(K7)+N(L7)) | O7: =IF(N(H7)>0,N7/H7,"") | P7: سارة | R7: فيسبوك
A8: 46300 | B8: =IF(A8="","",TEXT(A8,"ddd")) | C8: تيك توك | D8: ريلز / فيديو قصير | E8: عرض نهاية الأسبوع | F8: خلف الكواليس | G8: منشور | H8: 9945 | I8: 407 | J8: 52 | K8: 78 | L8: 120 | M8: 119 | N8: =IF(H8="","",N(I8)+N(J8)+N(K8)+N(L8)) | O8: =IF(N(H8)>0,N8/H8,"") | P8: مها | R8: لينكدإن
A9: 46301 | B9: =IF(A9="","",TEXT(A9,"ddd")) | C9: إنستغرام | D9: كاروسيل | E9: سؤال الأسبوع للمتابعين | F9: ترويجي | G9: منشور | H9: 5131 | I9: 127 | J9: 16 | K9: 24 | L9: 38 | M9: 61 | N9: =IF(H9="","",N(I9)+N(J9)+N(K9)+N(L9)) | O9: =IF(N(H9)>0,N9/H9,"") | P9: فهد | R9: إكس
A10: 46301 | B10: =IF(A10="","",TEXT(A10,"ddd")) | C10: لينكدإن | D10: كاروسيل | E10: جولة في الورشة | F10: تعليمي | G10: منشور | H10: 2604 | I10: 40 | J10: 5 | K10: 7 | L10: 13 | M10: 31 | N10: =IF(H10="","",N(I10)+N(J10)+N(K10)+N(L10)) | O10: =IF(N(H10)>0,N10/H10,"") | P10: سارة | R10: يوتيوب
A11: 46302 | B11: =IF(A11="","",TEXT(A11,"ddd")) | C11: تيك توك | D11: ريلز / فيديو قصير | E11: نصيحة سريعة في دقيقة | F11: آراء العملاء | G11: منشور | H11: 11799 | I11: 475 | J11: 61 | K11: 92 | L11: 139 | M11: 141 | N11: =IF(H11="","",N(I11)+N(J11)+N(K11)+N(L11)) | O11: =IF(N(H11)>0,N11/H11,"") | P11: مها | R11: سناب شات
A12: 46302 | B12: =IF(A12="","",TEXT(A12,"ddd")) | C12: فيسبوك | D12: نص | E12: قبل وبعد | F12: تفاعلي | G12: منشور | H12: 4621 | I12: 80 | J12: 10 | K12: 15 | L12: 25 | M12: 55 | N12: =IF(H12="","",N(I12)+N(J12)+N(K12)+N(L12)) | O12: =IF(N(H12)>0,N12/H12,"") | P12: فهد
A13: 46303 | B13: =IF(A13="","",TEXT(A13,"ddd")) | C13: إنستغرام | D13: صورة | E13: الأسئلة الشائعة | F13: تعليمي | G13: منشور | H13: 7124 | I13: 284 | J13: 36 | K13: 55 | L13: 84 | M13: 85 | N13: =IF(H13="","",N(I13)+N(J13)+N(K13)+N(L13)) | O13: =IF(N(H13)>0,N13/H13,"") | P13: سارة | R13: نوع المحتوى
A14: 46304 | B14: =IF(A14="","",TEXT(A14,"ddd")) | C14: فيسبوك | D14: نص | E14: معلومة لم تكن تعرفها | F14: تفاعلي | G14: منشور | H14: 3787 | I14: 77 | J14: 10 | K14: 15 | L14: 23 | M14: 45 | N14: =IF(H14="","",N(I14)+N(J14)+N(K14)+N(L14)) | O14: =IF(N(H14)>0,N14/H14,"") | P14: مها | R14: ريلز / فيديو قصير
A15: 46306 | B15: =IF(A15="","",TEXT(A15,"ddd")) | C15: إنستغرام | D15: كاروسيل | E15: تقييم من عميل | F15: تعليمي | G15: منشور | H15: 9565 | I15: 224 | J15: 28 | K15: 43 | L15: 67 | M15: 114 | N15: =IF(H15="","",N(I15)+N(J15)+N(K15)+N(L15)) | O15: =IF(N(H15)>0,N15/H15,"") | P15: فهد | R15: كاروسيل
A16: 46307 | B16: =IF(A16="","",TEXT(A16,"ddd")) | C16: تيك توك | D16: ريلز / فيديو قصير | E16: إعلان منتج جديد | F16: خلف الكواليس | G16: منشور | H16: 10833 | I16: 492 | J16: 63 | K16: 95 | L16: 144 | M16: 129 | N16: =IF(H16="","",N(I16)+N(J16)+N(K16)+N(L16)) | O16: =IF(N(H16)>0,N16/H16,"") | P16: سارة | R16: صورة
A17: 46308 | B17: =IF(A17="","",TEXT(A17,"ddd")) | C17: إنستغرام | D17: ريلز / فيديو قصير | E17: 3 أخطاء شائعة في الموضوع | F17: ترويجي | G17: منشور | H17: 8968 | I17: 239 | J17: 30 | K17: 46 | L17: 72 | M17: 107 | N17: =IF(H17="","",N(I17)+N(J17)+N(K17)+N(L17)) | O17: =IF(N(H17)>0,N17/H17,"") | P17: مها | R17: ستوري
A18: 46308 | B18: =IF(A18="","",TEXT(A18,"ddd")) | C18: لينكدإن | D18: كاروسيل | E18: كيف تختار المنتج المناسب | F18: تعليمي | G18: منشور | H18: 1445 | I18: 30 | J18: 3 | K18: 5 | L18: 11 | M18: 17 | N18: =IF(H18="","",N(I18)+N(J18)+N(K18)+N(L18)) | O18: =IF(N(H18)>0,N18/H18,"") | P18: فهد | R18: نص
A19: 46309 | B19: =IF(A19="","",TEXT(A19,"ddd")) | C19: تيك توك | D19: ريلز / فيديو قصير | E19: قصة نجاح عميل | F19: آراء العملاء | G19: منشور | H19: 20299 | I19: 784 | J19: 101 | K19: 151 | L19: 229 | M19: 243 | N19: =IF(H19="","",N(I19)+N(J19)+N(K19)+N(L19)) | O19: =IF(N(H19)>0,N19/H19,"") | P19: سارة | R19: بث مباشر
A20: 46309 | B20: =IF(A20="","",TEXT(A20,"ddd")) | C20: فيسبوك | D20: نص | E20: عرض نهاية الأسبوع | F20: تفاعلي | G20: منشور | H20: 3926 | I20: 66 | J20: 8 | K20: 12 | L20: 22 | M20: 47 | N20: =IF(H20="","",N(I20)+N(J20)+N(K20)+N(L20)) | O20: =IF(N(H20)>0,N20/H20,"") | P20: مها
A21: 46310 | B21: =IF(A21="","",TEXT(A21,"ddd")) | C21: إنستغرام | D21: كاروسيل | E21: سؤال الأسبوع للمتابعين | F21: تعليمي | G21: منشور | H21: 6440 | I21: 217 | J21: 28 | K21: 42 | L21: 63 | M21: 77 | N21: =IF(H21="","",N(I21)+N(J21)+N(K21)+N(L21)) | O21: =IF(N(H21)>0,N21/H21,"") | P21: فهد | R21: محور المحتوى | S21: هدف %
A22: 46311 | B22: =IF(A22="","",TEXT(A22,"ddd")) | C22: فيسبوك | D22: نص | E22: جولة في الورشة | F22: تفاعلي | G22: منشور | H22: 4464 | I22: 65 | J22: 8 | K22: 12 | L22: 21 | M22: 53 | N22: =IF(H22="","",N(I22)+N(J22)+N(K22)+N(L22)) | O22: =IF(N(H22)>0,N22/H22,"") | P22: سارة | R22: تعليمي | S22: 0.35
A23: 46313 | B23: =IF(A23="","",TEXT(A23,"ddd")) | C23: إنستغرام | D23: ريلز / فيديو قصير | E23: نصيحة سريعة في دقيقة | F23: تعليمي | G23: منشور | H23: 9611 | I23: 374 | J23: 48 | K23: 72 | L23: 110 | M23: 115 | N23: =IF(H23="","",N(I23)+N(J23)+N(K23)+N(L23)) | O23: =IF(N(H23)>0,N23/H23,"") | P23: مها | R23: ترويجي | S23: 0.2
A24: 46314 | B24: =IF(A24="","",TEXT(A24,"ddd")) | C24: تيك توك | D24: ريلز / فيديو قصير | E24: قبل وبعد | F24: خلف الكواليس | G24: منشور | H24: 17970 | I24: 695 | J24: 89 | K24: 134 | L24: 204 | M24: 215 | N24: =IF(H24="","",N(I24)+N(J24)+N(K24)+N(L24)) | O24: =IF(N(H24)>0,N24/H24,"") | P24: فهد | R24: تفاعلي | S24: 0.2
A25: 46315 | B25: =IF(A25="","",TEXT(A25,"ddd")) | C25: إنستغرام | D25: صورة | E25: الأسئلة الشائعة | F25: ترويجي | G25: منشور | H25: 5020 | I25: 125 | J25: 16 | K25: 24 | L25: 38 | M25: 60 | N25: =IF(H25="","",N(I25)+N(J25)+N(K25)+N(L25)) | O25: =IF(N(H25)>0,N25/H25,"") | P25: سارة | R25: خلف الكواليس | S25: 0.15
A26: 46315 | B26: =IF(A26="","",TEXT(A26,"ddd")) | C26: لينكدإن | D26: كاروسيل | E26: معلومة لم تكن تعرفها | F26: تعليمي | G26: منشور | H26: 1500 | I26: 22 | J26: 2 | K26: 4 | L26: 8 | M26: 18 | N26: =IF(H26="","",N(I26)+N(J26)+N(K26)+N(L26)) | O26: =IF(N(H26)>0,N26/H26,"") | P26: مها | R26: آراء العملاء | S26: 0.1
A27: 46316 | B27: =IF(A27="","",TEXT(A27,"ddd")) | C27: تيك توك | D27: ريلز / فيديو قصير | E27: تقييم من عميل | F27: آراء العملاء | G27: منشور | H27: 11405 | I27: 588 | J27: 75 | K27: 113 | L27: 173 | M27: 136 | N27: =IF(H27="","",N(I27)+N(J27)+N(K27)+N(L27)) | O27: =IF(N(H27)>0,N27/H27,"") | P27: فهد
A28: 46316 | B28: =IF(A28="","",TEXT(A28,"ddd")) | C28: فيسبوك | D28: نص | E28: إعلان منتج جديد | F28: تفاعلي | G28: منشور | H28: 4126 | I28: 56 | J28: 7 | K28: 10 | L28: 18 | M28: 49 | N28: =IF(H28="","",N(I28)+N(J28)+N(K28)+N(L28)) | O28: =IF(N(H28)>0,N28/H28,"") | P28: سارة | R28: الحالة
A29: 46317 | B29: =IF(A29="","",TEXT(A29,"ddd")) | C29: إنستغرام | D29: ريلز / فيديو قصير | E29: 3 أخطاء شائعة في الموضوع | F29: تعليمي | G29: منشور | H29: 12541 | I29: 517 | J29: 66 | K29: 100 | L29: 151 | M29: 150 | N29: =IF(H29="","",N(I29)+N(J29)+N(K29)+N(L29)) | O29: =IF(N(H29)>0,N29/H29,"") | P29: مها | R29: فكرة
A30: 46318 | B30: =IF(A30="","",TEXT(A30,"ddd")) | C30: فيسبوك | D30: نص | E30: كيف تختار المنتج المناسب | F30: تفاعلي | G30: مجدول | N30: =IF(H30="","",N(I30)+N(J30)+N(K30)+N(L30)) | O30: =IF(N(H30)>0,N30/H30,"") | P30: فهد | R30: مسودة
A31: 46320 | B31: =IF(A31="","",TEXT(A31,"ddd")) | C31: إنستغرام | D31: صورة | E31: قصة نجاح عميل | F31: تعليمي | G31: مجدول | N31: =IF(H31="","",N(I31)+N(J31)+N(K31)+N(L31)) | O31: =IF(N(H31)>0,N31/H31,"") | P31: سارة | R31: جاهز
A32: 46321 | B32: =IF(A32="","",TEXT(A32,"ddd")) | C32: تيك توك | D32: ريلز / فيديو قصير | E32: عرض نهاية الأسبوع | F32: خلف الكواليس | G32: مجدول | N32: =IF(H32="","",N(I32)+N(J32)+N(K32)+N(L32)) | O32: =IF(N(H32)>0,N32/H32,"") | P32: مها | R32: مجدول
A33: 46322 | B33: =IF(A33="","",TEXT(A33,"ddd")) | C33: إنستغرام | D33: كاروسيل | E33: سؤال الأسبوع للمتابعين | F33: ترويجي | G33: جاهز | N33: =IF(H33="","",N(I33)+N(J33)+N(K33)+N(L33)) | O33: =IF(N(H33)>0,N33/H33,"") | P33: فهد | R33: منشور
A34: 46322 | B34: =IF(A34="","",TEXT(A34,"ddd")) | C34: لينكدإن | D34: كاروسيل | E34: جولة في الورشة | F34: تعليمي | G34: جاهز | N34: =IF(H34="","",N(I34)+N(J34)+N(K34)+N(L34)) | O34: =IF(N(H34)>0,N34/H34,"") | P34: سارة
A35: 46323 | B35: =IF(A35="","",TEXT(A35,"ddd")) | C35: تيك توك | D35: ريلز / فيديو قصير | E35: نصيحة سريعة في دقيقة | F35: آراء العملاء | G35: جاهز | N35: =IF(H35="","",N(I35)+N(J35)+N(K35)+N(L35)) | O35: =IF(N(H35)>0,N35/H35,"") | P35: مها | R35: المسؤول
A36: 46323 | B36: =IF(A36="","",TEXT(A36,"ddd")) | C36: فيسبوك | D36: نص | E36: قبل وبعد | F36: تفاعلي | G36: جاهز | N36: =IF(H36="","",N(I36)+N(J36)+N(K36)+N(L36)) | O36: =IF(N(H36)>0,N36/H36,"") | P36: فهد | R36: مها
A37: 46324 | B37: =IF(A37="","",TEXT(A37,"ddd")) | C37: إنستغرام | D37: صورة | E37: الأسئلة الشائعة | F37: تعليمي | G37: جاهز | N37: =IF(H37="","",N(I37)+N(J37)+N(K37)+N(L37)) | O37: =IF(N(H37)>0,N37/H37,"") | P37: سارة | R37: فهد
A38: 46325 | B38: =IF(A38="","",TEXT(A38,"ddd")) | C38: فيسبوك | D38: نص | E38: معلومة لم تكن تعرفها | F38: تفاعلي | G38: جاهز | N38: =IF(H38="","",N(I38)+N(J38)+N(K38)+N(L38)) | O38: =IF(N(H38)>0,N38/H38,"") | P38: مها | R38: سارة
B39: =IF(A39="","",TEXT(A39,"ddd")) | N39: =IF(H39="","",N(I39)+N(J39)+N(K39)+N(L39)) | O39: =IF(N(H39)>0,N39/H39,"")
B40: =IF(A40="","",TEXT(A40,"ddd")) | N40: =IF(H40="","",N(I40)+N(J40)+N(K40)+N(L40)) | O40: =IF(N(H40)>0,N40/H40,"")
B41: =IF(A41="","",TEXT(A41,"ddd")) | N41: =IF(H41="","",N(I41)+N(J41)+N(K41)+N(L41)) | O41: =IF(N(H41)>0,N41/H41,"")
B42: =IF(A42="","",TEXT(A42,"ddd")) | N42: =IF(H42="","",N(I42)+N(J42)+N(K42)+N(L42)) | O42: =IF(N(H42)>0,N42/H42,"")
B43: =IF(A43="","",TEXT(A43,"ddd")) | N43: =IF(H43="","",N(I43)+N(J43)+N(K43)+N(L43)) | O43: =IF(N(H43)>0,N43/H43,"")
B44: =IF(A44="","",TEXT(A44,"ddd")) | N44: =IF(H44="","",N(I44)+N(J44)+N(K44)+N(L44)) | O44: =IF(N(H44)>0,N44/H44,"")
B45: =IF(A45="","",TEXT(A45,"ddd")) | N45: =IF(H45="","",N(I45)+N(J45)+N(K45)+N(L45)) | O45: =IF(N(H45)>0,N45/H45,"")
B46: =IF(A46="","",TEXT(A46,"ddd")) | N46: =IF(H46="","",N(I46)+N(J46)+N(K46)+N(L46)) | O46: =IF(N(H46)>0,N46/H46,"")
B47: =IF(A47="","",TEXT(A47,"ddd")) | N47: =IF(H47="","",N(I47)+N(J47)+N(K47)+N(L47)) | O47: =IF(N(H47)>0,N47/H47,"")
B48: =IF(A48="","",TEXT(A48,"ddd")) | N48: =IF(H48="","",N(I48)+N(J48)+N(K48)+N(L48)) | O48: =IF(N(H48)>0,N48/H48,"")
B49: =IF(A49="","",TEXT(A49,"ddd")) | N49: =IF(H49="","",N(I49)+N(J49)+N(K49)+N(L49)) | O49: =IF(N(H49)>0,N49/H49,"")
B50: =IF(A50="","",TEXT(A50,"ddd")) | N50: =IF(H50="","",N(I50)+N(J50)+N(K50)+N(L50)) | O50: =IF(N(H50)>0,N50/H50,"")
... B204: =IF(A204="","",TEXT(A204,"ddd")) | N204: =IF(H204="","",N(I204)+N(J204)+N(K204)+N(L204)) | O204: =IF(N(H204)>0,N204/H204,"")

Sheet دليل الاستخدام
A1: دليل استخدام: تقويم المحتوى
A2: Sheetaky.com · شيتات إكسل جاهزة بالعربي والإنجليزي
A4: ما هذا الشيت؟
A5: يحوّل قائمة منشوراتك إلى تقويم شهري ملوّن، ويلخص الأداء حسب المنصة ونوع المحتوى، ويقارن توزيع محاور المحتوى بأهدافك ويتابع مراحل الإنتاج.
A7: خطوات الاستخدام
A8: 1 | B8: اكتب أسماء المنصات والأنواع والمحاور والمسؤولين في القوائم على ورقة المنشورات.
A9: 2 | B9: سجّل كل منشور بتاريخه ومنصته ونوعه وحالته.
A10: 3 | B10: بعد النشر أدخل الظهور والإعجابات والتعليقات والمشاركات والحفظ.
A11: 4 | B11: غيّر أول يوم في الشهر لتنتقل بين الأشهر.
A13: دليل الألوان
B14: خلية إدخال: اكتب أو اختر قيمتك هنا (خط أزرق على خلفية صفراء).
B15: خلية محسوبة: معادلة تلقائية، محمية من المسح بالخطأ.
B16: عناوين الجداول والأقسام.
A18: ملاحظات مهمة
A19: • | B19: معدل التفاعل = (إعجابات + تعليقات + مشاركات + حفظ) ÷ الظهور.
A20: • | B20: الأيام الملونة بالوردي الداكن بها أكثر من منشور.
A21: • | B21: اكتب =TODAY() في تاريخ اليوم لتظليله تلقائيًا.
A22: • | B22: الأوراق محمية بدون كلمة مرور لحماية المعادلات. لإلغاء الحماية: مراجعة ← إلغاء حماية الورقة.
A23: • | B23: البيانات الموجودة مثال توضيحي، امسحها واكتب بياناتك في الخلايا الصفراء فقط.
A24: • | B24: المزيد من الشيتات المجانية بالعربي والإنجليزي على Sheetaky.com
