Workbook

Sheet الأهداف
A1: خطة الادخار للأهداف المالية
A2: كم تحتاج أن تدخر شهريًا لتصل لكل هدف في موعده، ونسبة التقدم
A4: الإعدادات
A5: تاريخ اليوم | B5: =TODAY() -> 46317
A7: الأهداف
A8: الهدف | B8: المبلغ المستهدف | C8: المدخر مسبقًا | D8: تاريخ الهدف | E8: عائد سنوي متوقع | F8: الإيداعات | G8: المدخر الآن | H8: المتبقي | I8: التقدم | J8: أشهر متبقية | K8: الادخار الشهري اللازم | L8: الحالة
A9: صندوق الطوارئ | B9: 30000 | C9: 8000 | D9: =EDATE(TODAY(),12) -> 46682 | E9: 0 | F9: =IF(A9="","",SUMIF(الإيداعات!$B$6:$B$1005,A9,الإيداعات!$C$6:$C$1005)) -> 4500 | G9: =IF(A9="","",N(C9)+F9) -> 12500 | H9: =IF(A9="","",MAX(N(B9)-G9,0)) -> 17500 | I9: =IF(OR(A9="",N(B9)=0),"",MIN(G9/B9,1)) -> 0.41666667 | J9: =IF(OR(A9="",NOT(ISNUMBER(D9))),"",IF(D9<=$B$5,0,DATEDIF($B$5,D9,"m"))) -> 12 | K9: =IF(H9="","",IF(H9=0,0,IF(J9="",0,IF(J9=0,H9,IF((N(E9)/12)=0,H9/J9,MAX((B9-G9*(1+(N(E9)/12))^J9)*(N(E9)/12)/((1+(N(E9)/12))^J9-1),0)))))) -> 1458.3333 | L9: =IF(A9="","",IF(H9=0,"تحقق ✓",IF(J9=0,"انتهى الموعد","جارٍ"))) -> جارٍ
A10: دفعة أولى لسيارة | B10: 25000 | C10: 5000 | D10: =EDATE(TODAY(),18) -> 46865 | E10: 0.03 | F10: =IF(A10="","",SUMIF(الإيداعات!$B$6:$B$1005,A10,الإيداعات!$C$6:$C$1005)) -> 1000 | G10: =IF(A10="","",N(C10)+F10) -> 6000 | H10: =IF(A10="","",MAX(N(B10)-G10,0)) -> 19000 | I10: =IF(OR(A10="",N(B10)=0),"",MIN(G10/B10,1)) -> 0.24 | J10: =IF(OR(A10="",NOT(ISNUMBER(D10))),"",IF(D10<=$B$5,0,DATEDIF($B$5,D10,"m"))) -> 18 | K10: =IF(H10="","",IF(H10=0,0,IF(J10="",0,IF(J10=0,H10,IF((N(E10)/12)=0,H10/J10,MAX((B10-G10*(1+(N(E10)/12))^J10)*(N(E10)/12)/((1+(N(E10)/12))^J10-1),0)))))) -> 1018.3023 | L10: =IF(A10="","",IF(H10=0,"تحقق ✓",IF(J10=0,"انتهى الموعد","جارٍ"))) -> جارٍ
A11: رحلة عائلية | B11: 12000 | C11: 2000 | D11: =EDATE(TODAY(),8) -> 46560 | E11: 0 | F11: =IF(A11="","",SUMIF(الإيداعات!$B$6:$B$1005,A11,الإيداعات!$C$6:$C$1005)) -> 800 | G11: =IF(A11="","",N(C11)+F11) -> 2800 | H11: =IF(A11="","",MAX(N(B11)-G11,0)) -> 9200 | I11: =IF(OR(A11="",N(B11)=0),"",MIN(G11/B11,1)) -> 0.23333333 | J11: =IF(OR(A11="",NOT(ISNUMBER(D11))),"",IF(D11<=$B$5,0,DATEDIF($B$5,D11,"m"))) -> 8 | K11: =IF(H11="","",IF(H11=0,0,IF(J11="",0,IF(J11=0,H11,IF((N(E11)/12)=0,H11/J11,MAX((B11-G11*(1+(N(E11)/12))^J11)*(N(E11)/12)/((1+(N(E11)/12))^J11-1),0)))))) -> 1150 | L11: =IF(A11="","",IF(H11=0,"تحقق ✓",IF(J11=0,"انتهى الموعد","جارٍ"))) -> جارٍ
A12: دفعة سكن | B12: 150000 | C12: 20000 | D12: =EDATE(TODAY(),60) -> 48143 | E12: 0.04 | F12: =IF(A12="","",SUMIF(الإيداعات!$B$6:$B$1005,A12,الإيداعات!$C$6:$C$1005)) -> 3000 | G12: =IF(A12="","",N(C12)+F12) -> 23000 | H12: =IF(A12="","",MAX(N(B12)-G12,0)) -> 127000 | I12: =IF(OR(A12="",N(B12)=0),"",MIN(G12/B12,1)) -> 0.15333333 | J12: =IF(OR(A12="",NOT(ISNUMBER(D12))),"",IF(D12<=$B$5,0,DATEDIF($B$5,D12,"m"))) -> 60 | K12: =IF(H12="","",IF(H12=0,0,IF(J12="",0,IF(J12=0,H12,IF((N(E12)/12)=0,H12/J12,MAX((B12-G12*(1+(N(E12)/12))^J12)*(N(E12)/12)/((1+(N(E12)/12))^J12-1),0)))))) -> 1838.8983 | L12: =IF(A12="","",IF(H12=0,"تحقق ✓",IF(J12=0,"انتهى الموعد","جارٍ"))) -> جارٍ
F13: =IF(A13="","",SUMIF(الإيداعات!$B$6:$B$1005,A13,الإيداعات!$C$6:$C$1005)) | G13: =IF(A13="","",N(C13)+F13) | H13: =IF(A13="","",MAX(N(B13)-G13,0)) | I13: =IF(OR(A13="",N(B13)=0),"",MIN(G13/B13,1)) | J13: =IF(OR(A13="",NOT(ISNUMBER(D13))),"",IF(D13<=$B$5,0,DATEDIF($B$5,D13,"m"))) | K13: =IF(H13="","",IF(H13=0,0,IF(J13="",0,IF(J13=0,H13,IF((N(E13)/12)=0,H13/J13,MAX((B13-G13*(1+(N(E13)/12))^J13)*(N(E13)/12)/((1+(N(E13)/12))^J13-1),0)))))) | L13: =IF(A13="","",IF(H13=0,"تحقق ✓",IF(J13=0,"انتهى الموعد","جارٍ")))
F14: =IF(A14="","",SUMIF(الإيداعات!$B$6:$B$1005,A14,الإيداعات!$C$6:$C$1005)) | G14: =IF(A14="","",N(C14)+F14) | H14: =IF(A14="","",MAX(N(B14)-G14,0)) | I14: =IF(OR(A14="",N(B14)=0),"",MIN(G14/B14,1)) | J14: =IF(OR(A14="",NOT(ISNUMBER(D14))),"",IF(D14<=$B$5,0,DATEDIF($B$5,D14,"m"))) | K14: =IF(H14="","",IF(H14=0,0,IF(J14="",0,IF(J14=0,H14,IF((N(E14)/12)=0,H14/J14,MAX((B14-G14*(1+(N(E14)/12))^J14)*(N(E14)/12)/((1+(N(E14)/12))^J14-1),0)))))) | L14: =IF(A14="","",IF(H14=0,"تحقق ✓",IF(J14=0,"انتهى الموعد","جارٍ")))
F15: =IF(A15="","",SUMIF(الإيداعات!$B$6:$B$1005,A15,الإيداعات!$C$6:$C$1005)) | G15: =IF(A15="","",N(C15)+F15) | H15: =IF(A15="","",MAX(N(B15)-G15,0)) | I15: =IF(OR(A15="",N(B15)=0),"",MIN(G15/B15,1)) | J15: =IF(OR(A15="",NOT(ISNUMBER(D15))),"",IF(D15<=$B$5,0,DATEDIF($B$5,D15,"m"))) | K15: =IF(H15="","",IF(H15=0,0,IF(J15="",0,IF(J15=0,H15,IF((N(E15)/12)=0,H15/J15,MAX((B15-G15*(1+(N(E15)/12))^J15)*(N(E15)/12)/((1+(N(E15)/12))^J15-1),0)))))) | L15: =IF(A15="","",IF(H15=0,"تحقق ✓",IF(J15=0,"انتهى الموعد","جارٍ")))
F16: =IF(A16="","",SUMIF(الإيداعات!$B$6:$B$1005,A16,الإيداعات!$C$6:$C$1005)) | G16: =IF(A16="","",N(C16)+F16) | H16: =IF(A16="","",MAX(N(B16)-G16,0)) | I16: =IF(OR(A16="",N(B16)=0),"",MIN(G16/B16,1)) | J16: =IF(OR(A16="",NOT(ISNUMBER(D16))),"",IF(D16<=$B$5,0,DATEDIF($B$5,D16,"m"))) | K16: =IF(H16="","",IF(H16=0,0,IF(J16="",0,IF(J16=0,H16,IF((N(E16)/12)=0,H16/J16,MAX((B16-G16*(1+(N(E16)/12))^J16)*(N(E16)/12)/((1+(N(E16)/12))^J16-1),0)))))) | L16: =IF(A16="","",IF(H16=0,"تحقق ✓",IF(J16=0,"انتهى الموعد","جارٍ")))
F17: =IF(A17="","",SUMIF(الإيداعات!$B$6:$B$1005,A17,الإيداعات!$C$6:$C$1005)) | G17: =IF(A17="","",N(C17)+F17) | H17: =IF(A17="","",MAX(N(B17)-G17,0)) | I17: =IF(OR(A17="",N(B17)=0),"",MIN(G17/B17,1)) | J17: =IF(OR(A17="",NOT(ISNUMBER(D17))),"",IF(D17<=$B$5,0,DATEDIF($B$5,D17,"m"))) | K17: =IF(H17="","",IF(H17=0,0,IF(J17="",0,IF(J17=0,H17,IF((N(E17)/12)=0,H17/J17,MAX((B17-G17*(1+(N(E17)/12))^J17)*(N(E17)/12)/((1+(N(E17)/12))^J17-1),0)))))) | L17: =IF(A17="","",IF(H17=0,"تحقق ✓",IF(J17=0,"انتهى الموعد","جارٍ")))
F18: =IF(A18="","",SUMIF(الإيداعات!$B$6:$B$1005,A18,الإيداعات!$C$6:$C$1005)) | G18: =IF(A18="","",N(C18)+F18) | H18: =IF(A18="","",MAX(N(B18)-G18,0)) | I18: =IF(OR(A18="",N(B18)=0),"",MIN(G18/B18,1)) | J18: =IF(OR(A18="",NOT(ISNUMBER(D18))),"",IF(D18<=$B$5,0,DATEDIF($B$5,D18,"m"))) | K18: =IF(H18="","",IF(H18=0,0,IF(J18="",0,IF(J18=0,H18,IF((N(E18)/12)=0,H18/J18,MAX((B18-G18*(1+(N(E18)/12))^J18)*(N(E18)/12)/((1+(N(E18)/12))^J18-1),0)))))) | L18: =IF(A18="","",IF(H18=0,"تحقق ✓",IF(J18=0,"انتهى الموعد","جارٍ")))
F19: =IF(A19="","",SUMIF(الإيداعات!$B$6:$B$1005,A19,الإيداعات!$C$6:$C$1005)) | G19: =IF(A19="","",N(C19)+F19) | H19: =IF(A19="","",MAX(N(B19)-G19,0)) | I19: =IF(OR(A19="",N(B19)=0),"",MIN(G19/B19,1)) | J19: =IF(OR(A19="",NOT(ISNUMBER(D19))),"",IF(D19<=$B$5,0,DATEDIF($B$5,D19,"m"))) | K19: =IF(H19="","",IF(H19=0,0,IF(J19="",0,IF(J19=0,H19,IF((N(E19)/12)=0,H19/J19,MAX((B19-G19*(1+(N(E19)/12))^J19)*(N(E19)/12)/((1+(N(E19)/12))^J19-1),0)))))) | L19: =IF(A19="","",IF(H19=0,"تحقق ✓",IF(J19=0,"انتهى الموعد","جارٍ")))
F20: =IF(A20="","",SUMIF(الإيداعات!$B$6:$B$1005,A20,الإيداعات!$C$6:$C$1005)) | G20: =IF(A20="","",N(C20)+F20) | H20: =IF(A20="","",MAX(N(B20)-G20,0)) | I20: =IF(OR(A20="",N(B20)=0),"",MIN(G20/B20,1)) | J20: =IF(OR(A20="",NOT(ISNUMBER(D20))),"",IF(D20<=$B$5,0,DATEDIF($B$5,D20,"m"))) | K20: =IF(H20="","",IF(H20=0,0,IF(J20="",0,IF(J20=0,H20,IF((N(E20)/12)=0,H20/J20,MAX((B20-G20*(1+(N(E20)/12))^J20)*(N(E20)/12)/((1+(N(E20)/12))^J20-1),0)))))) | L20: =IF(A20="","",IF(H20=0,"تحقق ✓",IF(J20=0,"انتهى الموعد","جارٍ")))
F21: =IF(A21="","",SUMIF(الإيداعات!$B$6:$B$1005,A21,الإيداعات!$C$6:$C$1005)) | G21: =IF(A21="","",N(C21)+F21) | H21: =IF(A21="","",MAX(N(B21)-G21,0)) | I21: =IF(OR(A21="",N(B21)=0),"",MIN(G21/B21,1)) | J21: =IF(OR(A21="",NOT(ISNUMBER(D21))),"",IF(D21<=$B$5,0,DATEDIF($B$5,D21,"m"))) | K21: =IF(H21="","",IF(H21=0,0,IF(J21="",0,IF(J21=0,H21,IF((N(E21)/12)=0,H21/J21,MAX((B21-G21*(1+(N(E21)/12))^J21)*(N(E21)/12)/((1+(N(E21)/12))^J21-1),0)))))) | L21: =IF(A21="","",IF(H21=0,"تحقق ✓",IF(J21=0,"انتهى الموعد","جارٍ")))
F22: =IF(A22="","",SUMIF(الإيداعات!$B$6:$B$1005,A22,الإيداعات!$C$6:$C$1005)) | G22: =IF(A22="","",N(C22)+F22) | H22: =IF(A22="","",MAX(N(B22)-G22,0)) | I22: =IF(OR(A22="",N(B22)=0),"",MIN(G22/B22,1)) | J22: =IF(OR(A22="",NOT(ISNUMBER(D22))),"",IF(D22<=$B$5,0,DATEDIF($B$5,D22,"m"))) | K22: =IF(H22="","",IF(H22=0,0,IF(J22="",0,IF(J22=0,H22,IF((N(E22)/12)=0,H22/J22,MAX((B22-G22*(1+(N(E22)/12))^J22)*(N(E22)/12)/((1+(N(E22)/12))^J22-1),0)))))) | L22: =IF(A22="","",IF(H22=0,"تحقق ✓",IF(J22=0,"انتهى الموعد","جارٍ")))
F23: =IF(A23="","",SUMIF(الإيداعات!$B$6:$B$1005,A23,الإيداعات!$C$6:$C$1005)) | G23: =IF(A23="","",N(C23)+F23) | H23: =IF(A23="","",MAX(N(B23)-G23,0)) | I23: =IF(OR(A23="",N(B23)=0),"",MIN(G23/B23,1)) | J23: =IF(OR(A23="",NOT(ISNUMBER(D23))),"",IF(D23<=$B$5,0,DATEDIF($B$5,D23,"m"))) | K23: =IF(H23="","",IF(H23=0,0,IF(J23="",0,IF(J23=0,H23,IF((N(E23)/12)=0,H23/J23,MAX((B23-G23*(1+(N(E23)/12))^J23)*(N(E23)/12)/((1+(N(E23)/12))^J23-1),0)))))) | L23: =IF(A23="","",IF(H23=0,"تحقق ✓",IF(J23=0,"انتهى الموعد","جارٍ")))
F24: =IF(A24="","",SUMIF(الإيداعات!$B$6:$B$1005,A24,الإيداعات!$C$6:$C$1005)) | G24: =IF(A24="","",N(C24)+F24) | H24: =IF(A24="","",MAX(N(B24)-G24,0)) | I24: =IF(OR(A24="",N(B24)=0),"",MIN(G24/B24,1)) | J24: =IF(OR(A24="",NOT(ISNUMBER(D24))),"",IF(D24<=$B$5,0,DATEDIF($B$5,D24,"m"))) | K24: =IF(H24="","",IF(H24=0,0,IF(J24="",0,IF(J24=0,H24,IF((N(E24)/12)=0,H24/J24,MAX((B24-G24*(1+(N(E24)/12))^J24)*(N(E24)/12)/((1+(N(E24)/12))^J24-1),0)))))) | L24: =IF(A24="","",IF(H24=0,"تحقق ✓",IF(J24=0,"انتهى الموعد","جارٍ")))
... F28: =IF(A28="","",SUMIF(الإيداعات!$B$6:$B$1005,A28,الإيداعات!$C$6:$C$1005)) | G28: =IF(A28="","",N(C28)+F28) | H28: =IF(A28="","",MAX(N(B28)-G28,0)) | I28: =IF(OR(A28="",N(B28)=0),"",MIN(G28/B28,1)) | J28: =IF(OR(A28="",NOT(ISNUMBER(D28))),"",IF(D28<=$B$5,0,DATEDIF($B$5,D28,"m"))) | K28: =IF(H28="","",IF(H28=0,0,IF(J28="",0,IF(J28=0,H28,IF((N(E28)/12)=0,H28/J28,MAX((B28-G28*(1+(N(E28)/12))^J28)*(N(E28)/12)/((1+(N(E28)/12))^J28-1),0)))))) | L28: =IF(A28="","",IF(H28=0,"تحقق ✓",IF(J28=0,"انتهى الموعد","جارٍ")))
A29: الإجمالي | B29: =SUM(B9:B28) -> 217000 | C29: =SUM(C9:C28) -> 35000 | F29: =SUM(F9:F28) -> 9300 | G29: =SUM(G9:G28) -> 44300 | H29: =SUM(H9:H28) -> 172700 | I29: =IF(B29>0,G29/B29,0) -> 0.20414747 | K29: =SUM(K9:K28) -> 5465.534
A31: الادخار الشهري مع العائد = (الهدف − المدخر × (1+ع)^ن) × ع ÷ ((1+ع)^ن − 1)، حيث ع العائد الشهري و ن عدد الأشهر. بدون عائد = المتبقي ÷ الأشهر.

Sheet الإيداعات
A1: سجل الإيداعات والسحوبات
A2: كل إيداع لهدف في سطر، والسحب بإشارة سالبة
A5: التاريخ | B5: الهدف | C5: المبلغ | D5: ملاحظات
A6: =TODAY()-60 -> 46257 | B6: صندوق الطوارئ | C6: 1500
A7: =TODAY()-30 -> 46287 | B7: صندوق الطوارئ | C7: 1500
A8: =TODAY()-25 -> 46292 | B8: دفعة أولى لسيارة | C8: 1000
A9: =TODAY()-20 -> 46297 | B9: رحلة عائلية | C9: 800
A10: =TODAY()-5 -> 46312 | B10: صندوق الطوارئ | C10: 1500
A11: =TODAY()-3 -> 46314 | B11: دفعة سكن | C11: 3000

Sheet دليل الاستخدام
A1: دليل استخدام: خطة الادخار للأهداف المالية
A2: Sheetaky.com · شيتات إكسل جاهزة بالعربي والإنجليزي
A4: ما هذا الشيت؟
A5: خطة لكل أهدافك المالية: المبلغ المستهدف وتاريخ الوصول إليه، ثم تسجل إيداعاتك، فيحسب الشيت المدخر حتى الآن ونسبة التقدم والمبلغ الذي تحتاج ادخاره شهريًا لتصل في الموعد، مع احتساب العائد إن وجد.
A7: خطوات الاستخدام
A8: 1 | B8: في ورقة "الأهداف" اكتب كل هدف ومبلغه وتاريخه وما ادخرته له مسبقًا.
A9: 2 | B9: إن كان المال في حساب استثماري أو وديعة اكتب العائد السنوي المتوقع، وإلا اتركه صفرًا.
A10: 3 | B10: في ورقة "الإيداعات" سجّل كل مبلغ تضيفه واختر الهدف من القائمة.
A11: 4 | B11: راجع "الادخار الشهري اللازم" وحوّل هذا المبلغ تلقائيًا كل شهر.
A13: دليل الألوان
B14: خلية إدخال: اكتب أو اختر قيمتك هنا (خط أزرق على خلفية صفراء).
B15: خلية محسوبة: معادلة تلقائية، محمية من المسح بالخطأ.
B16: عناوين الجداول والأقسام.
A18: ملاحظات مهمة
A19: • | B19: الأمثلة مؤرخة بالنسبة لتاريخ اليوم؛ امسحها واكتب أهدافك.
A20: • | B20: الأوراق محمية بدون كلمة مرور لحماية المعادلات. لإلغاء الحماية: مراجعة ← إلغاء حماية الورقة.
A21: • | B21: البيانات الموجودة مثال توضيحي، امسحها واكتب بياناتك في الخلايا الصفراء فقط.
A22: • | B22: المزيد من الشيتات المجانية بالعربي والإنجليزي على Sheetaky.com
