Workbook

Sheet الملخص
A1: متابعة المبيعات والأرباح الشهرية
A2: اختر السنة لعرض الإيرادات والتكلفة والربح لكل شهر
A4: السنة
A5: سنة التقرير | B5: 2026
A7: الملخص الشهري
A8: الشهر | B8: الإيرادات | C8: التكلفة | D8: الربح | E8: الهامش | F8: عدد العمليات
A9: يناير | B9: =SUMIFS(المبيعات!$F$6:$F$1005,المبيعات!$A$6:$A$1005,">="&DATE($B$5,1,1),المبيعات!$A$6:$A$1005,"<"&DATE($B$5,1+1,1)) -> 4978 | C9: =SUMIFS(المبيعات!$G$6:$G$1005,المبيعات!$A$6:$A$1005,">="&DATE($B$5,1,1),المبيعات!$A$6:$A$1005,"<"&DATE($B$5,1+1,1)) -> 3325 | D9: =B9-C9 -> 1653 | E9: =IF(B9>0,D9/B9,"") -> 0.33206107 | F9: =COUNTIFS(المبيعات!$A$6:$A$1005,">="&DATE($B$5,1,1),المبيعات!$A$6:$A$1005,"<"&DATE($B$5,1+1,1)) -> 6
A10: فبراير | B10: =SUMIFS(المبيعات!$F$6:$F$1005,المبيعات!$A$6:$A$1005,">="&DATE($B$5,2,1),المبيعات!$A$6:$A$1005,"<"&DATE($B$5,2+1,1)) -> 1297.25 | C10: =SUMIFS(المبيعات!$G$6:$G$1005,المبيعات!$A$6:$A$1005,">="&DATE($B$5,2,1),المبيعات!$A$6:$A$1005,"<"&DATE($B$5,2+1,1)) -> 836 | D10: =B10-C10 -> 461.25 | E10: =IF(B10>0,D10/B10,"") -> 0.35555984 | F10: =COUNTIFS(المبيعات!$A$6:$A$1005,">="&DATE($B$5,2,1),المبيعات!$A$6:$A$1005,"<"&DATE($B$5,2+1,1)) -> 6
A11: مارس | B11: =SUMIFS(المبيعات!$F$6:$F$1005,المبيعات!$A$6:$A$1005,">="&DATE($B$5,3,1),المبيعات!$A$6:$A$1005,"<"&DATE($B$5,3+1,1)) -> 2078 | C11: =SUMIFS(المبيعات!$G$6:$G$1005,المبيعات!$A$6:$A$1005,">="&DATE($B$5,3,1),المبيعات!$A$6:$A$1005,"<"&DATE($B$5,3+1,1)) -> 1373 | D11: =B11-C11 -> 705 | E11: =IF(B11>0,D11/B11,"") -> 0.33926853 | F11: =COUNTIFS(المبيعات!$A$6:$A$1005,">="&DATE($B$5,3,1),المبيعات!$A$6:$A$1005,"<"&DATE($B$5,3+1,1)) -> 6
A12: أبريل | B12: =SUMIFS(المبيعات!$F$6:$F$1005,المبيعات!$A$6:$A$1005,">="&DATE($B$5,4,1),المبيعات!$A$6:$A$1005,"<"&DATE($B$5,4+1,1)) -> 2349.5 | C12: =SUMIFS(المبيعات!$G$6:$G$1005,المبيعات!$A$6:$A$1005,">="&DATE($B$5,4,1),المبيعات!$A$6:$A$1005,"<"&DATE($B$5,4+1,1)) -> 1405 | D12: =B12-C12 -> 944.5 | E12: =IF(B12>0,D12/B12,"") -> 0.40200043 | F12: =COUNTIFS(المبيعات!$A$6:$A$1005,">="&DATE($B$5,4,1),المبيعات!$A$6:$A$1005,"<"&DATE($B$5,4+1,1)) -> 6
A13: مايو | B13: =SUMIFS(المبيعات!$F$6:$F$1005,المبيعات!$A$6:$A$1005,">="&DATE($B$5,5,1),المبيعات!$A$6:$A$1005,"<"&DATE($B$5,5+1,1)) -> 2245 | C13: =SUMIFS(المبيعات!$G$6:$G$1005,المبيعات!$A$6:$A$1005,">="&DATE($B$5,5,1),المبيعات!$A$6:$A$1005,"<"&DATE($B$5,5+1,1)) -> 1433 | D13: =B13-C13 -> 812 | E13: =IF(B13>0,D13/B13,"") -> 0.36169265 | F13: =COUNTIFS(المبيعات!$A$6:$A$1005,">="&DATE($B$5,5,1),المبيعات!$A$6:$A$1005,"<"&DATE($B$5,5+1,1)) -> 6
A14: يونيو | B14: =SUMIFS(المبيعات!$F$6:$F$1005,المبيعات!$A$6:$A$1005,">="&DATE($B$5,6,1),المبيعات!$A$6:$A$1005,"<"&DATE($B$5,6+1,1)) -> 3852.75 | C14: =SUMIFS(المبيعات!$G$6:$G$1005,المبيعات!$A$6:$A$1005,">="&DATE($B$5,6,1),المبيعات!$A$6:$A$1005,"<"&DATE($B$5,6+1,1)) -> 2465 | D14: =B14-C14 -> 1387.75 | E14: =IF(B14>0,D14/B14,"") -> 0.36019726 | F14: =COUNTIFS(المبيعات!$A$6:$A$1005,">="&DATE($B$5,6,1),المبيعات!$A$6:$A$1005,"<"&DATE($B$5,6+1,1)) -> 6
A15: يوليو | B15: =SUMIFS(المبيعات!$F$6:$F$1005,المبيعات!$A$6:$A$1005,">="&DATE($B$5,7,1),المبيعات!$A$6:$A$1005,"<"&DATE($B$5,7+1,1)) -> 2197 | C15: =SUMIFS(المبيعات!$G$6:$G$1005,المبيعات!$A$6:$A$1005,">="&DATE($B$5,7,1),المبيعات!$A$6:$A$1005,"<"&DATE($B$5,7+1,1)) -> 1370 | D15: =B15-C15 -> 827 | E15: =IF(B15>0,D15/B15,"") -> 0.37642239 | F15: =COUNTIFS(المبيعات!$A$6:$A$1005,">="&DATE($B$5,7,1),المبيعات!$A$6:$A$1005,"<"&DATE($B$5,7+1,1)) -> 6
A16: أغسطس | B16: =SUMIFS(المبيعات!$F$6:$F$1005,المبيعات!$A$6:$A$1005,">="&DATE($B$5,8,1),المبيعات!$A$6:$A$1005,"<"&DATE($B$5,8+1,1)) -> 3676 | C16: =SUMIFS(المبيعات!$G$6:$G$1005,المبيعات!$A$6:$A$1005,">="&DATE($B$5,8,1),المبيعات!$A$6:$A$1005,"<"&DATE($B$5,8+1,1)) -> 2445 | D16: =B16-C16 -> 1231 | E16: =IF(B16>0,D16/B16,"") -> 0.33487486 | F16: =COUNTIFS(المبيعات!$A$6:$A$1005,">="&DATE($B$5,8,1),المبيعات!$A$6:$A$1005,"<"&DATE($B$5,8+1,1)) -> 6
A17: سبتمبر | B17: =SUMIFS(المبيعات!$F$6:$F$1005,المبيعات!$A$6:$A$1005,">="&DATE($B$5,9,1),المبيعات!$A$6:$A$1005,"<"&DATE($B$5,9+1,1)) -> 2045 | C17: =SUMIFS(المبيعات!$G$6:$G$1005,المبيعات!$A$6:$A$1005,">="&DATE($B$5,9,1),المبيعات!$A$6:$A$1005,"<"&DATE($B$5,9+1,1)) -> 1190 | D17: =B17-C17 -> 855 | E17: =IF(B17>0,D17/B17,"") -> 0.41809291 | F17: =COUNTIFS(المبيعات!$A$6:$A$1005,">="&DATE($B$5,9,1),المبيعات!$A$6:$A$1005,"<"&DATE($B$5,9+1,1)) -> 6
A18: أكتوبر | B18: =SUMIFS(المبيعات!$F$6:$F$1005,المبيعات!$A$6:$A$1005,">="&DATE($B$5,10,1),المبيعات!$A$6:$A$1005,"<"&DATE($B$5,10+1,1)) -> 2727 | C18: =SUMIFS(المبيعات!$G$6:$G$1005,المبيعات!$A$6:$A$1005,">="&DATE($B$5,10,1),المبيعات!$A$6:$A$1005,"<"&DATE($B$5,10+1,1)) -> 1830 | D18: =B18-C18 -> 897 | E18: =IF(B18>0,D18/B18,"") -> 0.32893289 | F18: =COUNTIFS(المبيعات!$A$6:$A$1005,">="&DATE($B$5,10,1),المبيعات!$A$6:$A$1005,"<"&DATE($B$5,10+1,1)) -> 6
A19: نوفمبر | B19: =SUMIFS(المبيعات!$F$6:$F$1005,المبيعات!$A$6:$A$1005,">="&DATE($B$5,11,1),المبيعات!$A$6:$A$1005,"<"&DATE($B$5,11+1,1)) -> 0 | C19: =SUMIFS(المبيعات!$G$6:$G$1005,المبيعات!$A$6:$A$1005,">="&DATE($B$5,11,1),المبيعات!$A$6:$A$1005,"<"&DATE($B$5,11+1,1)) -> 0 | D19: =B19-C19 -> 0 | E19: =IF(B19>0,D19/B19,"") | F19: =COUNTIFS(المبيعات!$A$6:$A$1005,">="&DATE($B$5,11,1),المبيعات!$A$6:$A$1005,"<"&DATE($B$5,11+1,1)) -> 0
A20: ديسمبر | B20: =SUMIFS(المبيعات!$F$6:$F$1005,المبيعات!$A$6:$A$1005,">="&DATE($B$5,12,1),المبيعات!$A$6:$A$1005,"<"&DATE($B$5,12+1,1)) -> 0 | C20: =SUMIFS(المبيعات!$G$6:$G$1005,المبيعات!$A$6:$A$1005,">="&DATE($B$5,12,1),المبيعات!$A$6:$A$1005,"<"&DATE($B$5,12+1,1)) -> 0 | D20: =B20-C20 -> 0 | E20: =IF(B20>0,D20/B20,"") | F20: =COUNTIFS(المبيعات!$A$6:$A$1005,">="&DATE($B$5,12,1),المبيعات!$A$6:$A$1005,"<"&DATE($B$5,12+1,1)) -> 0
A21: السنة | B21: =SUM(B9:B20) -> 27445.5 | C21: =SUM(C9:C20) -> 17672 | D21: =SUM(D9:D20) -> 9773.5 | E21: =IF(B21>0,D21/B21,0) -> 0.35610574 | F21: =SUM(F9:F20) -> 60
A23: أفضل شهر ربحًا | B23: =IF(MAX(D9:D20)<=0,"",INDEX(A9:A20,MATCH(MAX(D9:D20),D9:D20,0))) -> يناير
A24: أعلى منتج ربحًا (كل الفترات) | B24: =IF(MAX(المنتجات!G5:G64)<=0,"",INDEX(المنتجات!$A$5:$A$64,MATCH(MAX(المنتجات!G5:G64),المنتجات!G5:G64,0))) -> عسل سدر 1 كجم

Sheet المبيعات
A1: سجل المبيعات
A2: سطر لكل عملية بيع، والسعر والتكلفة يُسحبان من قائمة المنتجات
A5: التاريخ | B5: المنتج | C5: الكمية | D5: سعر الوحدة | E5: الخصم % | F5: الإيراد | G5: التكلفة | H5: الربح
A6: 46024 | B6: قهوة عربية 500 جم | C6: 3 | D6: =IF(B6="","",IFERROR(INDEX(المنتجات!$C$5:$C$64,MATCH(B6,المنتجات!$A$5:$A$64,0)),"")) -> 60 | E6: 0.05 | F6: =IF(OR(B6="",D6=""),"",N(C6)*D6*(1-N(E6))) -> 171 | G6: =IF(OR(B6="",D6=""),"",N(C6)*IFERROR(INDEX(المنتجات!$B$5:$B$64,MATCH(B6,المنتجات!$A$5:$A$64,0)),0)) -> 105 | H6: =IF(F6="","",F6-G6) -> 66
A7: 46028 | B7: عسل سدر 1 كجم | C7: 2 | D7: =IF(B7="","",IFERROR(INDEX(المنتجات!$C$5:$C$64,MATCH(B7,المنتجات!$A$5:$A$64,0)),"")) -> 220 | E7: 0.1 | F7: =IF(OR(B7="",D7=""),"",N(C7)*D7*(1-N(E7))) -> 396 | G7: =IF(OR(B7="",D7=""),"",N(C7)*IFERROR(INDEX(المنتجات!$B$5:$B$64,MATCH(B7,المنتجات!$A$5:$A$64,0)),0)) -> 280 | H7: =IF(F7="","",F7-G7) -> 116
A8: 46032 | B8: عسل سدر 1 كجم | C8: 6 | D8: =IF(B8="","",IFERROR(INDEX(المنتجات!$C$5:$C$64,MATCH(B8,المنتجات!$A$5:$A$64,0)),"")) -> 220 | E8: 0.1 | F8: =IF(OR(B8="",D8=""),"",N(C8)*D8*(1-N(E8))) -> 1188 | G8: =IF(OR(B8="",D8=""),"",N(C8)*IFERROR(INDEX(المنتجات!$B$5:$B$64,MATCH(B8,المنتجات!$A$5:$A$64,0)),0)) -> 840 | H8: =IF(F8="","",F8-G8) -> 348
A9: 46036 | B9: عسل سدر 1 كجم | C9: 4 | D9: =IF(B9="","",IFERROR(INDEX(المنتجات!$C$5:$C$64,MATCH(B9,المنتجات!$A$5:$A$64,0)),"")) -> 220 | E9: 0 | F9: =IF(OR(B9="",D9=""),"",N(C9)*D9*(1-N(E9))) -> 880 | G9: =IF(OR(B9="",D9=""),"",N(C9)*IFERROR(INDEX(المنتجات!$B$5:$B$64,MATCH(B9,المنتجات!$A$5:$A$64,0)),0)) -> 560 | H9: =IF(F9="","",F9-G9) -> 320
A10: 46040 | B10: عسل سدر 1 كجم | C10: 7 | D10: =IF(B10="","",IFERROR(INDEX(المنتجات!$C$5:$C$64,MATCH(B10,المنتجات!$A$5:$A$64,0)),"")) -> 220 | E10: 0.05 | F10: =IF(OR(B10="",D10=""),"",N(C10)*D10*(1-N(E10))) -> 1463 | G10: =IF(OR(B10="",D10=""),"",N(C10)*IFERROR(INDEX(المنتجات!$B$5:$B$64,MATCH(B10,المنتجات!$A$5:$A$64,0)),0)) -> 980 | H10: =IF(F10="","",F10-G10) -> 483
A11: 46044 | B11: عسل سدر 1 كجم | C11: 4 | D11: =IF(B11="","",IFERROR(INDEX(المنتجات!$C$5:$C$64,MATCH(B11,المنتجات!$A$5:$A$64,0)),"")) -> 220 | E11: 0 | F11: =IF(OR(B11="",D11=""),"",N(C11)*D11*(1-N(E11))) -> 880 | G11: =IF(OR(B11="",D11=""),"",N(C11)*IFERROR(INDEX(المنتجات!$B$5:$B$64,MATCH(B11,المنتجات!$A$5:$A$64,0)),0)) -> 560 | H11: =IF(F11="","",F11-G11) -> 320
A12: 46055 | B12: زيت زيتون 1 لتر | C12: 7 | D12: =IF(B12="","",IFERROR(INDEX(المنتجات!$C$5:$C$64,MATCH(B12,المنتجات!$A$5:$A$64,0)),"")) -> 45 | E12: 0 | F12: =IF(OR(B12="",D12=""),"",N(C12)*D12*(1-N(E12))) -> 315 | G12: =IF(OR(B12="",D12=""),"",N(C12)*IFERROR(INDEX(المنتجات!$B$5:$B$64,MATCH(B12,المنتجات!$A$5:$A$64,0)),0)) -> 196 | H12: =IF(F12="","",F12-G12) -> 119
A13: 46059 | B13: زيت زيتون 1 لتر | C13: 2 | D13: =IF(B13="","",IFERROR(INDEX(المنتجات!$C$5:$C$64,MATCH(B13,المنتجات!$A$5:$A$64,0)),"")) -> 45 | E13: 0 | F13: =IF(OR(B13="",D13=""),"",N(C13)*D13*(1-N(E13))) -> 90 | G13: =IF(OR(B13="",D13=""),"",N(C13)*IFERROR(INDEX(المنتجات!$B$5:$B$64,MATCH(B13,المنتجات!$A$5:$A$64,0)),0)) -> 56 | H13: =IF(F13="","",F13-G13) -> 34
A14: 46063 | B14: زيت زيتون 1 لتر | C14: 1 | D14: =IF(B14="","",IFERROR(INDEX(المنتجات!$C$5:$C$64,MATCH(B14,المنتجات!$A$5:$A$64,0)),"")) -> 45 | E14: 0.1 | F14: =IF(OR(B14="",D14=""),"",N(C14)*D14*(1-N(E14))) -> 40.5 | G14: =IF(OR(B14="",D14=""),"",N(C14)*IFERROR(INDEX(المنتجات!$B$5:$B$64,MATCH(B14,المنتجات!$A$5:$A$64,0)),0)) -> 28 | H14: =IF(F14="","",F14-G14) -> 12.5
A15: 46067 | B15: زيت زيتون 1 لتر | C15: 7 | D15: =IF(B15="","",IFERROR(INDEX(المنتجات!$C$5:$C$64,MATCH(B15,المنتجات!$A$5:$A$64,0)),"")) -> 45 | E15: 0 | F15: =IF(OR(B15="",D15=""),"",N(C15)*D15*(1-N(E15))) -> 315 | G15: =IF(OR(B15="",D15=""),"",N(C15)*IFERROR(INDEX(المنتجات!$B$5:$B$64,MATCH(B15,المنتجات!$A$5:$A$64,0)),0)) -> 196 | H15: =IF(F15="","",F15-G15) -> 119
A16: 46071 | B16: تمر سكري 3 كجم | C16: 1 | D16: =IF(B16="","",IFERROR(INDEX(المنتجات!$C$5:$C$64,MATCH(B16,المنتجات!$A$5:$A$64,0)),"")) -> 95 | E16: 0.1 | F16: =IF(OR(B16="",D16=""),"",N(C16)*D16*(1-N(E16))) -> 85.5 | G16: =IF(OR(B16="",D16=""),"",N(C16)*IFERROR(INDEX(المنتجات!$B$5:$B$64,MATCH(B16,المنتجات!$A$5:$A$64,0)),0)) -> 60 | H16: =IF(F16="","",F16-G16) -> 25.5
A17: 46075 | B17: تمر سكري 3 كجم | C17: 5 | D17: =IF(B17="","",IFERROR(INDEX(المنتجات!$C$5:$C$64,MATCH(B17,المنتجات!$A$5:$A$64,0)),"")) -> 95 | E17: 0.05 | F17: =IF(OR(B17="",D17=""),"",N(C17)*D17*(1-N(E17))) -> 451.25 | G17: =IF(OR(B17="",D17=""),"",N(C17)*IFERROR(INDEX(المنتجات!$B$5:$B$64,MATCH(B17,المنتجات!$A$5:$A$64,0)),0)) -> 300 | H17: =IF(F17="","",F17-G17) -> 151.25
... A65: 46317 | B65: عسل سدر 1 كجم | C65: 2 | D65: =IF(B65="","",IFERROR(INDEX(المنتجات!$C$5:$C$64,MATCH(B65,المنتجات!$A$5:$A$64,0)),"")) -> 220 | E65: 0 | F65: =IF(OR(B65="",D65=""),"",N(C65)*D65*(1-N(E65))) -> 440 | G65: =IF(OR(B65="",D65=""),"",N(C65)*IFERROR(INDEX(المنتجات!$B$5:$B$64,MATCH(B65,المنتجات!$A$5:$A$64,0)),0)) -> 280 | H65: =IF(F65="","",F65-G65) -> 160
D66: =IF(B66="","",IFERROR(INDEX(المنتجات!$C$5:$C$64,MATCH(B66,المنتجات!$A$5:$A$64,0)),"")) | F66: =IF(OR(B66="",D66=""),"",N(C66)*D66*(1-N(E66))) | G66: =IF(OR(B66="",D66=""),"",N(C66)*IFERROR(INDEX(المنتجات!$B$5:$B$64,MATCH(B66,المنتجات!$A$5:$A$64,0)),0)) | H66: =IF(F66="","",F66-G66)
D67: =IF(B67="","",IFERROR(INDEX(المنتجات!$C$5:$C$64,MATCH(B67,المنتجات!$A$5:$A$64,0)),"")) | F67: =IF(OR(B67="",D67=""),"",N(C67)*D67*(1-N(E67))) | G67: =IF(OR(B67="",D67=""),"",N(C67)*IFERROR(INDEX(المنتجات!$B$5:$B$64,MATCH(B67,المنتجات!$A$5:$A$64,0)),0)) | H67: =IF(F67="","",F67-G67)
D68: =IF(B68="","",IFERROR(INDEX(المنتجات!$C$5:$C$64,MATCH(B68,المنتجات!$A$5:$A$64,0)),"")) | F68: =IF(OR(B68="",D68=""),"",N(C68)*D68*(1-N(E68))) | G68: =IF(OR(B68="",D68=""),"",N(C68)*IFERROR(INDEX(المنتجات!$B$5:$B$64,MATCH(B68,المنتجات!$A$5:$A$64,0)),0)) | H68: =IF(F68="","",F68-G68)
D69: =IF(B69="","",IFERROR(INDEX(المنتجات!$C$5:$C$64,MATCH(B69,المنتجات!$A$5:$A$64,0)),"")) | F69: =IF(OR(B69="",D69=""),"",N(C69)*D69*(1-N(E69))) | G69: =IF(OR(B69="",D69=""),"",N(C69)*IFERROR(INDEX(المنتجات!$B$5:$B$64,MATCH(B69,المنتجات!$A$5:$A$64,0)),0)) | H69: =IF(F69="","",F69-G69)
D70: =IF(B70="","",IFERROR(INDEX(المنتجات!$C$5:$C$64,MATCH(B70,المنتجات!$A$5:$A$64,0)),"")) | F70: =IF(OR(B70="",D70=""),"",N(C70)*D70*(1-N(E70))) | G70: =IF(OR(B70="",D70=""),"",N(C70)*IFERROR(INDEX(المنتجات!$B$5:$B$64,MATCH(B70,المنتجات!$A$5:$A$64,0)),0)) | H70: =IF(F70="","",F70-G70)
D71: =IF(B71="","",IFERROR(INDEX(المنتجات!$C$5:$C$64,MATCH(B71,المنتجات!$A$5:$A$64,0)),"")) | F71: =IF(OR(B71="",D71=""),"",N(C71)*D71*(1-N(E71))) | G71: =IF(OR(B71="",D71=""),"",N(C71)*IFERROR(INDEX(المنتجات!$B$5:$B$64,MATCH(B71,المنتجات!$A$5:$A$64,0)),0)) | H71: =IF(F71="","",F71-G71)
D72: =IF(B72="","",IFERROR(INDEX(المنتجات!$C$5:$C$64,MATCH(B72,المنتجات!$A$5:$A$64,0)),"")) | F72: =IF(OR(B72="",D72=""),"",N(C72)*D72*(1-N(E72))) | G72: =IF(OR(B72="",D72=""),"",N(C72)*IFERROR(INDEX(المنتجات!$B$5:$B$64,MATCH(B72,المنتجات!$A$5:$A$64,0)),0)) | H72: =IF(F72="","",F72-G72)
D73: =IF(B73="","",IFERROR(INDEX(المنتجات!$C$5:$C$64,MATCH(B73,المنتجات!$A$5:$A$64,0)),"")) | F73: =IF(OR(B73="",D73=""),"",N(C73)*D73*(1-N(E73))) | G73: =IF(OR(B73="",D73=""),"",N(C73)*IFERROR(INDEX(المنتجات!$B$5:$B$64,MATCH(B73,المنتجات!$A$5:$A$64,0)),0)) | H73: =IF(F73="","",F73-G73)
D74: =IF(B74="","",IFERROR(INDEX(المنتجات!$C$5:$C$64,MATCH(B74,المنتجات!$A$5:$A$64,0)),"")) | F74: =IF(OR(B74="",D74=""),"",N(C74)*D74*(1-N(E74))) | G74: =IF(OR(B74="",D74=""),"",N(C74)*IFERROR(INDEX(المنتجات!$B$5:$B$64,MATCH(B74,المنتجات!$A$5:$A$64,0)),0)) | H74: =IF(F74="","",F74-G74)
D75: =IF(B75="","",IFERROR(INDEX(المنتجات!$C$5:$C$64,MATCH(B75,المنتجات!$A$5:$A$64,0)),"")) | F75: =IF(OR(B75="",D75=""),"",N(C75)*D75*(1-N(E75))) | G75: =IF(OR(B75="",D75=""),"",N(C75)*IFERROR(INDEX(المنتجات!$B$5:$B$64,MATCH(B75,المنتجات!$A$5:$A$64,0)),0)) | H75: =IF(F75="","",F75-G75)
D76: =IF(B76="","",IFERROR(INDEX(المنتجات!$C$5:$C$64,MATCH(B76,المنتجات!$A$5:$A$64,0)),"")) | F76: =IF(OR(B76="",D76=""),"",N(C76)*D76*(1-N(E76))) | G76: =IF(OR(B76="",D76=""),"",N(C76)*IFERROR(INDEX(المنتجات!$B$5:$B$64,MATCH(B76,المنتجات!$A$5:$A$64,0)),0)) | H76: =IF(F76="","",F76-G76)
D77: =IF(B77="","",IFERROR(INDEX(المنتجات!$C$5:$C$64,MATCH(B77,المنتجات!$A$5:$A$64,0)),"")) | F77: =IF(OR(B77="",D77=""),"",N(C77)*D77*(1-N(E77))) | G77: =IF(OR(B77="",D77=""),"",N(C77)*IFERROR(INDEX(المنتجات!$B$5:$B$64,MATCH(B77,المنتجات!$A$5:$A$64,0)),0)) | H77: =IF(F77="","",F77-G77)
... D1005: =IF(B1005="","",IFERROR(INDEX(المنتجات!$C$5:$C$64,MATCH(B1005,المنتجات!$A$5:$A$64,0)),"")) | F1005: =IF(OR(B1005="",D1005=""),"",N(C1005)*D1005*(1-N(E1005))) | G1005: =IF(OR(B1005="",D1005=""),"",N(C1005)*IFERROR(INDEX(المنتجات!$B$5:$B$64,MATCH(B1005,المنتجات!$A$5:$A$64,0)),0)) | H1005: =IF(F1005="","",F1005-G1005)

Sheet المنتجات
A1: قائمة المنتجات والأسعار
A2: سعر التكلفة وسعر البيع لكل منتج، ومجموع مبيعاته وأرباحه
A4: المنتج | B4: سعر التكلفة | C4: سعر البيع | D4: هامش الربح | E4: الكمية المباعة | F4: الإيرادات | G4: الربح
A5: عسل سدر 1 كجم | B5: 140 | C5: 220 | D5: =IF(N(C5)>0,(C5-N(B5))/C5,"") -> 0.36363636 | E5: =IF(A5="","",SUMIF(المبيعات!$B$6:$B$1005,A5,المبيعات!$C$6:$C$1005)) -> 68 | F5: =IF(A5="","",SUMIF(المبيعات!$B$6:$B$1005,A5,المبيعات!$F$6:$F$1005)) -> 14014 | G5: =IF(A5="","",SUMIF(المبيعات!$B$6:$B$1005,A5,المبيعات!$H$6:$H$1005)) -> 4494
A6: تمر سكري 3 كجم | B6: 60 | C6: 95 | D6: =IF(N(C6)>0,(C6-N(B6))/C6,"") -> 0.36842105 | E6: =IF(A6="","",SUMIF(المبيعات!$B$6:$B$1005,A6,المبيعات!$C$6:$C$1005)) -> 43 | F6: =IF(A6="","",SUMIF(المبيعات!$B$6:$B$1005,A6,المبيعات!$F$6:$F$1005)) -> 3942.5 | G6: =IF(A6="","",SUMIF(المبيعات!$B$6:$B$1005,A6,المبيعات!$H$6:$H$1005)) -> 1362.5
A7: قهوة عربية 500 جم | B7: 35 | C7: 60 | D7: =IF(N(C7)>0,(C7-N(B7))/C7,"") -> 0.41666667 | E7: =IF(A7="","",SUMIF(المبيعات!$B$6:$B$1005,A7,المبيعات!$C$6:$C$1005)) -> 49 | F7: =IF(A7="","",SUMIF(المبيعات!$B$6:$B$1005,A7,المبيعات!$F$6:$F$1005)) -> 2853 | G7: =IF(A7="","",SUMIF(المبيعات!$B$6:$B$1005,A7,المبيعات!$H$6:$H$1005)) -> 1138
A8: بخور فاخر | B8: 45 | C8: 85 | D8: =IF(N(C8)>0,(C8-N(B8))/C8,"") -> 0.47058824 | E8: =IF(A8="","",SUMIF(المبيعات!$B$6:$B$1005,A8,المبيعات!$C$6:$C$1005)) -> 49 | F8: =IF(A8="","",SUMIF(المبيعات!$B$6:$B$1005,A8,المبيعات!$F$6:$F$1005)) -> 4041.75 | G8: =IF(A8="","",SUMIF(المبيعات!$B$6:$B$1005,A8,المبيعات!$H$6:$H$1005)) -> 1836.75
A9: زيت زيتون 1 لتر | B9: 28 | C9: 45 | D9: =IF(N(C9)>0,(C9-N(B9))/C9,"") -> 0.37777778 | E9: =IF(A9="","",SUMIF(المبيعات!$B$6:$B$1005,A9,المبيعات!$C$6:$C$1005)) -> 59 | F9: =IF(A9="","",SUMIF(المبيعات!$B$6:$B$1005,A9,المبيعات!$F$6:$F$1005)) -> 2594.25 | G9: =IF(A9="","",SUMIF(المبيعات!$B$6:$B$1005,A9,المبيعات!$H$6:$H$1005)) -> 942.25
D10: =IF(N(C10)>0,(C10-N(B10))/C10,"") | E10: =IF(A10="","",SUMIF(المبيعات!$B$6:$B$1005,A10,المبيعات!$C$6:$C$1005)) | F10: =IF(A10="","",SUMIF(المبيعات!$B$6:$B$1005,A10,المبيعات!$F$6:$F$1005)) | G10: =IF(A10="","",SUMIF(المبيعات!$B$6:$B$1005,A10,المبيعات!$H$6:$H$1005))
D11: =IF(N(C11)>0,(C11-N(B11))/C11,"") | E11: =IF(A11="","",SUMIF(المبيعات!$B$6:$B$1005,A11,المبيعات!$C$6:$C$1005)) | F11: =IF(A11="","",SUMIF(المبيعات!$B$6:$B$1005,A11,المبيعات!$F$6:$F$1005)) | G11: =IF(A11="","",SUMIF(المبيعات!$B$6:$B$1005,A11,المبيعات!$H$6:$H$1005))
D12: =IF(N(C12)>0,(C12-N(B12))/C12,"") | E12: =IF(A12="","",SUMIF(المبيعات!$B$6:$B$1005,A12,المبيعات!$C$6:$C$1005)) | F12: =IF(A12="","",SUMIF(المبيعات!$B$6:$B$1005,A12,المبيعات!$F$6:$F$1005)) | G12: =IF(A12="","",SUMIF(المبيعات!$B$6:$B$1005,A12,المبيعات!$H$6:$H$1005))
D13: =IF(N(C13)>0,(C13-N(B13))/C13,"") | E13: =IF(A13="","",SUMIF(المبيعات!$B$6:$B$1005,A13,المبيعات!$C$6:$C$1005)) | F13: =IF(A13="","",SUMIF(المبيعات!$B$6:$B$1005,A13,المبيعات!$F$6:$F$1005)) | G13: =IF(A13="","",SUMIF(المبيعات!$B$6:$B$1005,A13,المبيعات!$H$6:$H$1005))
D14: =IF(N(C14)>0,(C14-N(B14))/C14,"") | E14: =IF(A14="","",SUMIF(المبيعات!$B$6:$B$1005,A14,المبيعات!$C$6:$C$1005)) | F14: =IF(A14="","",SUMIF(المبيعات!$B$6:$B$1005,A14,المبيعات!$F$6:$F$1005)) | G14: =IF(A14="","",SUMIF(المبيعات!$B$6:$B$1005,A14,المبيعات!$H$6:$H$1005))
D15: =IF(N(C15)>0,(C15-N(B15))/C15,"") | E15: =IF(A15="","",SUMIF(المبيعات!$B$6:$B$1005,A15,المبيعات!$C$6:$C$1005)) | F15: =IF(A15="","",SUMIF(المبيعات!$B$6:$B$1005,A15,المبيعات!$F$6:$F$1005)) | G15: =IF(A15="","",SUMIF(المبيعات!$B$6:$B$1005,A15,المبيعات!$H$6:$H$1005))
D16: =IF(N(C16)>0,(C16-N(B16))/C16,"") | E16: =IF(A16="","",SUMIF(المبيعات!$B$6:$B$1005,A16,المبيعات!$C$6:$C$1005)) | F16: =IF(A16="","",SUMIF(المبيعات!$B$6:$B$1005,A16,المبيعات!$F$6:$F$1005)) | G16: =IF(A16="","",SUMIF(المبيعات!$B$6:$B$1005,A16,المبيعات!$H$6:$H$1005))
D17: =IF(N(C17)>0,(C17-N(B17))/C17,"") | E17: =IF(A17="","",SUMIF(المبيعات!$B$6:$B$1005,A17,المبيعات!$C$6:$C$1005)) | F17: =IF(A17="","",SUMIF(المبيعات!$B$6:$B$1005,A17,المبيعات!$F$6:$F$1005)) | G17: =IF(A17="","",SUMIF(المبيعات!$B$6:$B$1005,A17,المبيعات!$H$6:$H$1005))
D18: =IF(N(C18)>0,(C18-N(B18))/C18,"") | E18: =IF(A18="","",SUMIF(المبيعات!$B$6:$B$1005,A18,المبيعات!$C$6:$C$1005)) | F18: =IF(A18="","",SUMIF(المبيعات!$B$6:$B$1005,A18,المبيعات!$F$6:$F$1005)) | G18: =IF(A18="","",SUMIF(المبيعات!$B$6:$B$1005,A18,المبيعات!$H$6:$H$1005))
D19: =IF(N(C19)>0,(C19-N(B19))/C19,"") | E19: =IF(A19="","",SUMIF(المبيعات!$B$6:$B$1005,A19,المبيعات!$C$6:$C$1005)) | F19: =IF(A19="","",SUMIF(المبيعات!$B$6:$B$1005,A19,المبيعات!$F$6:$F$1005)) | G19: =IF(A19="","",SUMIF(المبيعات!$B$6:$B$1005,A19,المبيعات!$H$6:$H$1005))
D20: =IF(N(C20)>0,(C20-N(B20))/C20,"") | E20: =IF(A20="","",SUMIF(المبيعات!$B$6:$B$1005,A20,المبيعات!$C$6:$C$1005)) | F20: =IF(A20="","",SUMIF(المبيعات!$B$6:$B$1005,A20,المبيعات!$F$6:$F$1005)) | G20: =IF(A20="","",SUMIF(المبيعات!$B$6:$B$1005,A20,المبيعات!$H$6:$H$1005))
D21: =IF(N(C21)>0,(C21-N(B21))/C21,"") | E21: =IF(A21="","",SUMIF(المبيعات!$B$6:$B$1005,A21,المبيعات!$C$6:$C$1005)) | F21: =IF(A21="","",SUMIF(المبيعات!$B$6:$B$1005,A21,المبيعات!$F$6:$F$1005)) | G21: =IF(A21="","",SUMIF(المبيعات!$B$6:$B$1005,A21,المبيعات!$H$6:$H$1005))
... D64: =IF(N(C64)>0,(C64-N(B64))/C64,"") | E64: =IF(A64="","",SUMIF(المبيعات!$B$6:$B$1005,A64,المبيعات!$C$6:$C$1005)) | F64: =IF(A64="","",SUMIF(المبيعات!$B$6:$B$1005,A64,المبيعات!$F$6:$F$1005)) | G64: =IF(A64="","",SUMIF(المبيعات!$B$6:$B$1005,A64,المبيعات!$H$6:$H$1005))

Sheet دليل الاستخدام
A1: دليل استخدام: متابعة المبيعات والأرباح الشهرية
A2: Sheetaky.com · شيتات إكسل جاهزة بالعربي والإنجليزي
A4: ما هذا الشيت؟
A5: شيت لمتجر أو مشروع صغير: تسجّل منتجاتك بسعر التكلفة والبيع، ثم كل عملية بيع في سطر، فيحسب الإيراد والتكلفة والربح لكل عملية، ويجمعها شهريًا مع رسم بياني، ويوضح أفضل شهر وأعلى منتج ربحًا.
A7: خطوات الاستخدام
A8: 1 | B8: في ورقة "المنتجات" اكتب كل منتج وسعر تكلفته وسعر بيعه.
A9: 2 | B9: في ورقة "المبيعات" سجّل التاريخ واختر المنتج من القائمة واكتب الكمية والخصم إن وجد.
A10: 3 | B10: افتح "الملخص" واختر السنة لرؤية الأرقام الشهرية والرسم البياني.
A11: 4 | B11: عند تغيير سعر منتج، تتغير العمليات القديمة أيضًا؛ لذا أضف المنتج بسعره الجديد باسم مختلف إن أردت حفظ التاريخ.
A13: دليل الألوان
B14: خلية إدخال: اكتب أو اختر قيمتك هنا (خط أزرق على خلفية صفراء).
B15: خلية محسوبة: معادلة تلقائية، محمية من المسح بالخطأ.
B16: عناوين الجداول والأقسام.
A18: ملاحظات مهمة
A19: • | B19: السعة: 60 منتجًا و1000 عملية بيع.
A20: • | B20: الأوراق محمية بدون كلمة مرور لحماية المعادلات. لإلغاء الحماية: مراجعة ← إلغاء حماية الورقة.
A21: • | B21: البيانات الموجودة مثال توضيحي، امسحها واكتب بياناتك في الخلايا الصفراء فقط.
A22: • | B22: المزيد من الشيتات المجانية بالعربي والإنجليزي على Sheetaky.com
