Workbook

Sheet لوحة التوظيف
A1: لوحة التوظيف: قمع المرشحين ومصادر الاستقطاب ومدة التعيين
A3: سجّل مرشحيك في ورقة المرشحين فيرسم الشيت قمع التوظيف ويقيس فعالية كل مصدر ومدة التعيين وحالة كل وظيفة شاغرة
A4: تاريخ التقرير | C4: 46318 | F4: إجمالي المتقدمين | H4: تم تعيينهم | J4: متوسط مدة التعيين (يوم) | L4: قبول العروض
F5: =COUNTA('المرشحون'!$C$5:$C$124) | H5: =COUNTIF('المرشحون'!$F$5:$F$124,INDEX('المرشحون'!$O$5:$O$12,6)) | J5: =IFERROR(AVERAGEIFS('المرشحون'!$M$5:$M$124,'المرشحون'!$F$5:$F$124,INDEX('المرشحون'!$O$5:$O$12,6)),0) | L5: =IFERROR(COUNTIF('المرشحون'!$F$5:$F$124,INDEX('المرشحون'!$O$5:$O$12,6))/(COUNTIF('المرشحون'!$F$5:$F$124,INDEX('المرشحون'!$O$5:$O$12,6))+COUNTIFS('المرشحون'!$F$5:$F$124,INDEX('المرشحون'!$O$5:$O$12,8),'المرشحون'!$L$5:$L$124,5)),0)
F7: مرشحون نشطون | H7: وظائف شاغرة | J7: متوسط تقييم المقابلة | L7: وظائف متأخرة
F8: =COUNTIFS('المرشحون'!$F$5:$F$124,INDEX('المرشحون'!$O$5:$O$12,1))+COUNTIFS('المرشحون'!$F$5:$F$124,INDEX('المرشحون'!$O$5:$O$12,2))+COUNTIFS('المرشحون'!$F$5:$F$124,INDEX('المرشحون'!$O$5:$O$12,3))+COUNTIFS('المرشحون'!$F$5:$F$124,INDEX('المرشحون'!$O$5:$O$12,4))+COUNTIFS('المرشحون'!$F$5:$F$124,INDEX('المرشحون'!$O$5:$O$12,5)) | H8: =SUM(G12:G17)-SUM(J12:J17) | J8: =IFERROR(AVERAGE('المرشحون'!$H$5:$H$124),0) | L8: =COUNTIF(M12:M17,"متأخر")
A11: مرحلة القمع | B11: وصلوا | C11: % من المتقدمين | D11: تحويل المرحلة | F11: الوظيفة | G11: المطلوب | H11: الإغلاق بعد (يوم) | I11: متقدمون | J11: تم تعيينهم | K11: مقابلات+ | L11: عروض+ | M11: الحالة
A12: =INDEX('المرشحون'!$O$5:$O$12,1) | B12: =COUNTIF('المرشحون'!$L$5:$L$124,">="&1) | C12: =IFERROR(B12/$B$12,0) | F12: مهندس كهرباء | G12: 2 | H12: 18 | I12: =IF(F12="","",COUNTIF('المرشحون'!$C$5:$C$124,F12)) | J12: =IF(F12="","",COUNTIFS('المرشحون'!$C$5:$C$124,F12,'المرشحون'!$F$5:$F$124,INDEX('المرشحون'!$O$5:$O$12,6))) | K12: =IF(F12="","",COUNTIFS('المرشحون'!$C$5:$C$124,F12,'المرشحون'!$L$5:$L$124,">=3")) | L12: =IF(F12="","",COUNTIFS('المرشحون'!$C$5:$C$124,F12,'المرشحون'!$L$5:$L$124,">=5")) | M12: =IF(F12="","",IF(J12>=G12,"مكتملة",IF(H12<=7,"متأخر","على المسار")))
A13: =INDEX('المرشحون'!$O$5:$O$12,2) | B13: =COUNTIF('المرشحون'!$L$5:$L$124,">="&2) | C13: =IFERROR(B13/$B$12,0) | D13: =IFERROR(B13/B12,0) | F13: فني موقع | G13: 3 | H13: 10 | I13: =IF(F13="","",COUNTIF('المرشحون'!$C$5:$C$124,F13)) | J13: =IF(F13="","",COUNTIFS('المرشحون'!$C$5:$C$124,F13,'المرشحون'!$F$5:$F$124,INDEX('المرشحون'!$O$5:$O$12,6))) | K13: =IF(F13="","",COUNTIFS('المرشحون'!$C$5:$C$124,F13,'المرشحون'!$L$5:$L$124,">=3")) | L13: =IF(F13="","",COUNTIFS('المرشحون'!$C$5:$C$124,F13,'المرشحون'!$L$5:$L$124,">=5")) | M13: =IF(F13="","",IF(J13>=G13,"مكتملة",IF(H13<=7,"متأخر","على المسار")))
A14: =INDEX('المرشحون'!$O$5:$O$12,3) | B14: =COUNTIF('المرشحون'!$L$5:$L$124,">="&3) | C14: =IFERROR(B14/$B$12,0) | D14: =IFERROR(B14/B13,0) | F14: محاسب | G14: 1 | H14: 25 | I14: =IF(F14="","",COUNTIF('المرشحون'!$C$5:$C$124,F14)) | J14: =IF(F14="","",COUNTIFS('المرشحون'!$C$5:$C$124,F14,'المرشحون'!$F$5:$F$124,INDEX('المرشحون'!$O$5:$O$12,6))) | K14: =IF(F14="","",COUNTIFS('المرشحون'!$C$5:$C$124,F14,'المرشحون'!$L$5:$L$124,">=3")) | L14: =IF(F14="","",COUNTIFS('المرشحون'!$C$5:$C$124,F14,'المرشحون'!$L$5:$L$124,">=5")) | M14: =IF(F14="","",IF(J14>=G14,"مكتملة",IF(H14<=7,"متأخر","على المسار")))
A15: =INDEX('المرشحون'!$O$5:$O$12,4) | B15: =COUNTIF('المرشحون'!$L$5:$L$124,">="&4) | C15: =IFERROR(B15/$B$12,0) | D15: =IFERROR(B15/B14,0) | F15: مندوب مبيعات | G15: 2 | H15: 5 | I15: =IF(F15="","",COUNTIF('المرشحون'!$C$5:$C$124,F15)) | J15: =IF(F15="","",COUNTIFS('المرشحون'!$C$5:$C$124,F15,'المرشحون'!$F$5:$F$124,INDEX('المرشحون'!$O$5:$O$12,6))) | K15: =IF(F15="","",COUNTIFS('المرشحون'!$C$5:$C$124,F15,'المرشحون'!$L$5:$L$124,">=3")) | L15: =IF(F15="","",COUNTIFS('المرشحون'!$C$5:$C$124,F15,'المرشحون'!$L$5:$L$124,">=5")) | M15: =IF(F15="","",IF(J15>=G15,"مكتملة",IF(H15<=7,"متأخر","على المسار")))
A16: =INDEX('المرشحون'!$O$5:$O$12,5) | B16: =COUNTIF('المرشحون'!$L$5:$L$124,">="&5) | C16: =IFERROR(B16/$B$12,0) | D16: =IFERROR(B16/B15,0) | F16: مشرف مستودع | G16: 1 | H16: 30 | I16: =IF(F16="","",COUNTIF('المرشحون'!$C$5:$C$124,F16)) | J16: =IF(F16="","",COUNTIFS('المرشحون'!$C$5:$C$124,F16,'المرشحون'!$F$5:$F$124,INDEX('المرشحون'!$O$5:$O$12,6))) | K16: =IF(F16="","",COUNTIFS('المرشحون'!$C$5:$C$124,F16,'المرشحون'!$L$5:$L$124,">=3")) | L16: =IF(F16="","",COUNTIFS('المرشحون'!$C$5:$C$124,F16,'المرشحون'!$L$5:$L$124,">=5")) | M16: =IF(F16="","",IF(J16>=G16,"مكتملة",IF(H16<=7,"متأخر","على المسار")))
A17: =INDEX('المرشحون'!$O$5:$O$12,6) | B17: =COUNTIF('المرشحون'!$L$5:$L$124,">="&6) | C17: =IFERROR(B17/$B$12,0) | D17: =IFERROR(B17/B16,0) | F17: مساعد موارد بشرية | G17: 1 | H17: 40 | I17: =IF(F17="","",COUNTIF('المرشحون'!$C$5:$C$124,F17)) | J17: =IF(F17="","",COUNTIFS('المرشحون'!$C$5:$C$124,F17,'المرشحون'!$F$5:$F$124,INDEX('المرشحون'!$O$5:$O$12,6))) | K17: =IF(F17="","",COUNTIFS('المرشحون'!$C$5:$C$124,F17,'المرشحون'!$L$5:$L$124,">=3")) | L17: =IF(F17="","",COUNTIFS('المرشحون'!$C$5:$C$124,F17,'المرشحون'!$L$5:$L$124,">=5")) | M17: =IF(F17="","",IF(J17>=G17,"مكتملة",IF(H17<=7,"متأخر","على المسار")))
A19: رُفض أو انسحب | B19: =COUNTIF('المرشحون'!$F$5:$F$124,INDEX('المرشحون'!$O$5:$O$12,7))+COUNTIF('المرشحون'!$F$5:$F$124,INDEX('المرشحون'!$O$5:$O$12,8))
F21: =IFERROR("أفضل مصدر تعيينًا: "&INDEX($A$23:$A$28,MATCH(MAX($C$23:$C$28),$C$23:$C$28,0))&" ("&MAX($C$23:$C$28)&")","")
A22: المصدر | B22: متقدمون | C22: تعيين | D22: نسبة التعيين
A23: =INDEX('المرشحون'!$O$15:$O$20,1) | B23: =COUNTIF('المرشحون'!$D$5:$D$124,$A23) | C23: =COUNTIFS('المرشحون'!$D$5:$D$124,$A23,'المرشحون'!$F$5:$F$124,INDEX('المرشحون'!$O$5:$O$12,6)) | D23: =IFERROR(C23/B23,0)
A24: =INDEX('المرشحون'!$O$15:$O$20,2) | B24: =COUNTIF('المرشحون'!$D$5:$D$124,$A24) | C24: =COUNTIFS('المرشحون'!$D$5:$D$124,$A24,'المرشحون'!$F$5:$F$124,INDEX('المرشحون'!$O$5:$O$12,6)) | D24: =IFERROR(C24/B24,0)
A25: =INDEX('المرشحون'!$O$15:$O$20,3) | B25: =COUNTIF('المرشحون'!$D$5:$D$124,$A25) | C25: =COUNTIFS('المرشحون'!$D$5:$D$124,$A25,'المرشحون'!$F$5:$F$124,INDEX('المرشحون'!$O$5:$O$12,6)) | D25: =IFERROR(C25/B25,0)
A26: =INDEX('المرشحون'!$O$15:$O$20,4) | B26: =COUNTIF('المرشحون'!$D$5:$D$124,$A26) | C26: =COUNTIFS('المرشحون'!$D$5:$D$124,$A26,'المرشحون'!$F$5:$F$124,INDEX('المرشحون'!$O$5:$O$12,6)) | D26: =IFERROR(C26/B26,0)
A27: =INDEX('المرشحون'!$O$15:$O$20,5) | B27: =COUNTIF('المرشحون'!$D$5:$D$124,$A27) | C27: =COUNTIFS('المرشحون'!$D$5:$D$124,$A27,'المرشحون'!$F$5:$F$124,INDEX('المرشحون'!$O$5:$O$12,6)) | D27: =IFERROR(C27/B27,0)
A28: =INDEX('المرشحون'!$O$15:$O$20,6) | B28: =COUNTIF('المرشحون'!$D$5:$D$124,$A28) | C28: =COUNTIFS('المرشحون'!$D$5:$D$124,$A28,'المرشحون'!$F$5:$F$124,INDEX('المرشحون'!$O$5:$O$12,6)) | D28: =IFERROR(C28/B28,0)

Sheet المرشحون
A1: المرشحون
A2: سجّل كل مرشح بالوظيفة والمصدر والمرحلة؛ للمرفوض أو المنسحب اختر آخر مرحلة وصل إليها
A4: # | B4: المرشح | C4: الوظيفة | D4: المصدر | E4: تاريخ التقديم | F4: المرحلة | G4: آخر مرحلة وصلها | H4: التقييم | I4: الراتب المتوقع | J4: راتب العرض | K4: تاريخ الإغلاق | L4: مرحلة # | M4: الأيام | O4: المرحلة
A5: 1 | B5: سلطان | C5: مهندس كهرباء | D5: لينكدإن | E5: 46289 | F5: انسحب | G5: مقابلة | H5: 3.9 | I5: 7600 | L5: =IF(B5="","",IF(OR(F5=INDEX($O$5:$O$12,7),F5=INDEX($O$5:$O$12,8)),IFERROR(MATCH(G5,$O$5:$O$12,0),1),MATCH(F5,$O$5:$O$12,0))) | M5: =IF(OR(B5="",E5=""),"",IF(K5<>"",K5,'لوحة التوظيف'!$C$4)-E5) | O5: تقديم
A6: 2 | B6: ناصر | C6: مهندس كهرباء | D6: ترشيح موظف | E6: 46259 | F6: مرفوض | G6: تقديم | I6: 6600 | L6: =IF(B6="","",IF(OR(F6=INDEX($O$5:$O$12,7),F6=INDEX($O$5:$O$12,8)),IFERROR(MATCH(G6,$O$5:$O$12,0),1),MATCH(F6,$O$5:$O$12,0))) | M6: =IF(OR(B6="",E6=""),"",IF(K6<>"",K6,'لوحة التوظيف'!$C$4)-E6) | O6: فرز أولي
A7: 3 | B7: عبدالله | C7: مهندس كهرباء | D7: موقع توظيف | E7: 46247 | F7: انسحب | G7: مقابلة | H7: 4.6 | I7: 5800 | L7: =IF(B7="","",IF(OR(F7=INDEX($O$5:$O$12,7),F7=INDEX($O$5:$O$12,8)),IFERROR(MATCH(G7,$O$5:$O$12,0),1),MATCH(F7,$O$5:$O$12,0))) | M7: =IF(OR(B7="",E7=""),"",IF(K7<>"",K7,'لوحة التوظيف'!$C$4)-E7) | O7: مقابلة
A8: 4 | B8: محمد | C8: مهندس كهرباء | D8: لينكدإن | E8: 46300 | F8: تقديم | I8: 6300 | L8: =IF(B8="","",IF(OR(F8=INDEX($O$5:$O$12,7),F8=INDEX($O$5:$O$12,8)),IFERROR(MATCH(G8,$O$5:$O$12,0),1),MATCH(F8,$O$5:$O$12,0))) | M8: =IF(OR(B8="",E8=""),"",IF(K8<>"",K8,'لوحة التوظيف'!$C$4)-E8) | O8: تقييم فني
A9: 5 | B9: علي | C9: مهندس كهرباء | D9: مكتب توظيف | E9: 46229 | F9: تم التعيين | H9: 4.7 | I9: 7700 | J9: 7400 | K9: 46254 | L9: =IF(B9="","",IF(OR(F9=INDEX($O$5:$O$12,7),F9=INDEX($O$5:$O$12,8)),IFERROR(MATCH(G9,$O$5:$O$12,0),1),MATCH(F9,$O$5:$O$12,0))) | M9: =IF(OR(B9="",E9=""),"",IF(K9<>"",K9,'لوحة التوظيف'!$C$4)-E9) | O9: عرض وظيفي
A10: 6 | B10: زياد | C10: فني موقع | D10: لينكدإن | E10: 46283 | F10: مرفوض | G10: فرز أولي | I10: 7700 | L10: =IF(B10="","",IF(OR(F10=INDEX($O$5:$O$12,7),F10=INDEX($O$5:$O$12,8)),IFERROR(MATCH(G10,$O$5:$O$12,0),1),MATCH(F10,$O$5:$O$12,0))) | M10: =IF(OR(B10="",E10=""),"",IF(K10<>"",K10,'لوحة التوظيف'!$C$4)-E10) | O10: تم التعيين
A11: 7 | B11: رائد | C11: فني موقع | D11: لينكدإن | E11: 46299 | F11: مقابلة | H11: 3.5 | I11: 9300 | L11: =IF(B11="","",IF(OR(F11=INDEX($O$5:$O$12,7),F11=INDEX($O$5:$O$12,8)),IFERROR(MATCH(G11,$O$5:$O$12,0),1),MATCH(F11,$O$5:$O$12,0))) | M11: =IF(OR(B11="",E11=""),"",IF(K11<>"",K11,'لوحة التوظيف'!$C$4)-E11) | O11: مرفوض
A12: 8 | B12: منصور | C12: فني موقع | D12: موقع توظيف | E12: 46277 | F12: مرفوض | G12: تقديم | I12: 8400 | L12: =IF(B12="","",IF(OR(F12=INDEX($O$5:$O$12,7),F12=INDEX($O$5:$O$12,8)),IFERROR(MATCH(G12,$O$5:$O$12,0),1),MATCH(F12,$O$5:$O$12,0))) | M12: =IF(OR(B12="",E12=""),"",IF(K12<>"",K12,'لوحة التوظيف'!$C$4)-E12) | O12: انسحب
A13: 9 | B13: حمد | C13: فني موقع | D13: موقع الشركة | E13: 46259 | F13: تقييم فني | H13: 2.7 | I13: 8200 | L13: =IF(B13="","",IF(OR(F13=INDEX($O$5:$O$12,7),F13=INDEX($O$5:$O$12,8)),IFERROR(MATCH(G13,$O$5:$O$12,0),1),MATCH(F13,$O$5:$O$12,0))) | M13: =IF(OR(B13="",E13=""),"",IF(K13<>"",K13,'لوحة التوظيف'!$C$4)-E13)
A14: 10 | B14: إبراهيم | C14: فني موقع | D14: لينكدإن | E14: 46309 | F14: فرز أولي | I14: 8900 | L14: =IF(B14="","",IF(OR(F14=INDEX($O$5:$O$12,7),F14=INDEX($O$5:$O$12,8)),IFERROR(MATCH(G14,$O$5:$O$12,0),1),MATCH(F14,$O$5:$O$12,0))) | M14: =IF(OR(B14="",E14=""),"",IF(K14<>"",K14,'لوحة التوظيف'!$C$4)-E14) | O14: المصدر
A15: 11 | B15: طلال | C15: فني موقع | D15: زيارة مباشرة | E15: 46274 | F15: مقابلة | H15: 4.3 | I15: 8500 | L15: =IF(B15="","",IF(OR(F15=INDEX($O$5:$O$12,7),F15=INDEX($O$5:$O$12,8)),IFERROR(MATCH(G15,$O$5:$O$12,0),1),MATCH(F15,$O$5:$O$12,0))) | M15: =IF(OR(B15="",E15=""),"",IF(K15<>"",K15,'لوحة التوظيف'!$C$4)-E15) | O15: لينكدإن
A16: 12 | B16: أنس | C16: فني موقع | D16: لينكدإن | E16: 46226 | F16: تم التعيين | H16: 3.2 | I16: 9900 | J16: 9600 | K16: 46259 | L16: =IF(B16="","",IF(OR(F16=INDEX($O$5:$O$12,7),F16=INDEX($O$5:$O$12,8)),IFERROR(MATCH(G16,$O$5:$O$12,0),1),MATCH(F16,$O$5:$O$12,0))) | M16: =IF(OR(B16="",E16=""),"",IF(K16<>"",K16,'لوحة التوظيف'!$C$4)-E16) | O16: ترشيح موظف
A17: 13 | B17: صالح | C17: فني موقع | D17: لينكدإن | E17: 46299 | F17: مقابلة | H17: 2.6 | I17: 9900 | L17: =IF(B17="","",IF(OR(F17=INDEX($O$5:$O$12,7),F17=INDEX($O$5:$O$12,8)),IFERROR(MATCH(G17,$O$5:$O$12,0),1),MATCH(F17,$O$5:$O$12,0))) | M17: =IF(OR(B17="",E17=""),"",IF(K17<>"",K17,'لوحة التوظيف'!$C$4)-E17) | O17: موقع توظيف
A18: 14 | B18: هاني | C18: محاسب | D18: موقع الشركة | E18: 46255 | F18: انسحب | G18: فرز أولي | I18: 10600 | L18: =IF(B18="","",IF(OR(F18=INDEX($O$5:$O$12,7),F18=INDEX($O$5:$O$12,8)),IFERROR(MATCH(G18,$O$5:$O$12,0),1),MATCH(F18,$O$5:$O$12,0))) | M18: =IF(OR(B18="",E18=""),"",IF(K18<>"",K18,'لوحة التوظيف'!$C$4)-E18) | O18: موقع الشركة
A19: 15 | B19: عادل | C19: محاسب | D19: مكتب توظيف | E19: 46294 | F19: مرفوض | G19: تقديم | I19: 10900 | L19: =IF(B19="","",IF(OR(F19=INDEX($O$5:$O$12,7),F19=INDEX($O$5:$O$12,8)),IFERROR(MATCH(G19,$O$5:$O$12,0),1),MATCH(F19,$O$5:$O$12,0))) | M19: =IF(OR(B19="",E19=""),"",IF(K19<>"",K19,'لوحة التوظيف'!$C$4)-E19) | O19: مكتب توظيف
A20: 16 | B20: أيمن | C20: محاسب | D20: لينكدإن | E20: 46263 | F20: مرفوض | G20: تقديم | I20: 10000 | L20: =IF(B20="","",IF(OR(F20=INDEX($O$5:$O$12,7),F20=INDEX($O$5:$O$12,8)),IFERROR(MATCH(G20,$O$5:$O$12,0),1),MATCH(F20,$O$5:$O$12,0))) | M20: =IF(OR(B20="",E20=""),"",IF(K20<>"",K20,'لوحة التوظيف'!$C$4)-E20) | O20: زيارة مباشرة
A21: 17 | B21: ريان | C21: محاسب | D21: لينكدإن | E21: 46233 | F21: مقابلة | H21: 3.3 | I21: 10000 | L21: =IF(B21="","",IF(OR(F21=INDEX($O$5:$O$12,7),F21=INDEX($O$5:$O$12,8)),IFERROR(MATCH(G21,$O$5:$O$12,0),1),MATCH(F21,$O$5:$O$12,0))) | M21: =IF(OR(B21="",E21=""),"",IF(K21<>"",K21,'لوحة التوظيف'!$C$4)-E21)
A22: 18 | B22: مشعل | C22: مندوب مبيعات | D22: موقع توظيف | E22: 46251 | F22: مرفوض | G22: فرز أولي | I22: 6000 | L22: =IF(B22="","",IF(OR(F22=INDEX($O$5:$O$12,7),F22=INDEX($O$5:$O$12,8)),IFERROR(MATCH(G22,$O$5:$O$12,0),1),MATCH(F22,$O$5:$O$12,0))) | M22: =IF(OR(B22="",E22=""),"",IF(K22<>"",K22,'لوحة التوظيف'!$C$4)-E22)
A23: 19 | B23: بندر | C23: مندوب مبيعات | D23: لينكدإن | E23: 46305 | F23: مقابلة | H23: 3.2 | I23: 5900 | L23: =IF(B23="","",IF(OR(F23=INDEX($O$5:$O$12,7),F23=INDEX($O$5:$O$12,8)),IFERROR(MATCH(G23,$O$5:$O$12,0),1),MATCH(F23,$O$5:$O$12,0))) | M23: =IF(OR(B23="",E23=""),"",IF(K23<>"",K23,'لوحة التوظيف'!$C$4)-E23)
A24: 20 | B24: نواف | C24: مندوب مبيعات | D24: مكتب توظيف | E24: 46222 | F24: مرفوض | G24: تقييم فني | H24: 4.1 | I24: 6200 | L24: =IF(B24="","",IF(OR(F24=INDEX($O$5:$O$12,7),F24=INDEX($O$5:$O$12,8)),IFERROR(MATCH(G24,$O$5:$O$12,0),1),MATCH(F24,$O$5:$O$12,0))) | M24: =IF(OR(B24="",E24=""),"",IF(K24<>"",K24,'لوحة التوظيف'!$C$4)-E24)
A25: 21 | B25: ثامر | C25: مندوب مبيعات | D25: زيارة مباشرة | E25: 46264 | F25: تم التعيين | H25: 4.5 | I25: 5500 | J25: 5300 | K25: 46295 | L25: =IF(B25="","",IF(OR(F25=INDEX($O$5:$O$12,7),F25=INDEX($O$5:$O$12,8)),IFERROR(MATCH(G25,$O$5:$O$12,0),1),MATCH(F25,$O$5:$O$12,0))) | M25: =IF(OR(B25="",E25=""),"",IF(K25<>"",K25,'لوحة التوظيف'!$C$4)-E25)
A26: 22 | B26: غازي | C26: مندوب مبيعات | D26: لينكدإن | E26: 46264 | F26: مقابلة | H26: 2.9 | I26: 5300 | L26: =IF(B26="","",IF(OR(F26=INDEX($O$5:$O$12,7),F26=INDEX($O$5:$O$12,8)),IFERROR(MATCH(G26,$O$5:$O$12,0),1),MATCH(F26,$O$5:$O$12,0))) | M26: =IF(OR(B26="",E26=""),"",IF(K26<>"",K26,'لوحة التوظيف'!$C$4)-E26)
A27: 23 | B27: ماهر | C27: مندوب مبيعات | D27: ترشيح موظف | E27: 46223 | F27: فرز أولي | I27: 5000 | L27: =IF(B27="","",IF(OR(F27=INDEX($O$5:$O$12,7),F27=INDEX($O$5:$O$12,8)),IFERROR(MATCH(G27,$O$5:$O$12,0),1),MATCH(F27,$O$5:$O$12,0))) | M27: =IF(OR(B27="",E27=""),"",IF(K27<>"",K27,'لوحة التوظيف'!$C$4)-E27)
A28: 24 | B28: لؤي | C28: مشرف مستودع | D28: موقع الشركة | E28: 46258 | F28: مرفوض | G28: مقابلة | H28: 2.7 | I28: 8700 | L28: =IF(B28="","",IF(OR(F28=INDEX($O$5:$O$12,7),F28=INDEX($O$5:$O$12,8)),IFERROR(MATCH(G28,$O$5:$O$12,0),1),MATCH(F28,$O$5:$O$12,0))) | M28: =IF(OR(B28="",E28=""),"",IF(K28<>"",K28,'لوحة التوظيف'!$C$4)-E28)
A29: 25 | B29: وائل | C29: مشرف مستودع | D29: لينكدإن | E29: 46304 | F29: تقديم | I29: 8500 | L29: =IF(B29="","",IF(OR(F29=INDEX($O$5:$O$12,7),F29=INDEX($O$5:$O$12,8)),IFERROR(MATCH(G29,$O$5:$O$12,0),1),MATCH(F29,$O$5:$O$12,0))) | M29: =IF(OR(B29="",E29=""),"",IF(K29<>"",K29,'لوحة التوظيف'!$C$4)-E29)
A30: 26 | B30: حسام | C30: مشرف مستودع | D30: زيارة مباشرة | E30: 46253 | F30: مرفوض | G30: فرز أولي | I30: 7700 | L30: =IF(B30="","",IF(OR(F30=INDEX($O$5:$O$12,7),F30=INDEX($O$5:$O$12,8)),IFERROR(MATCH(G30,$O$5:$O$12,0),1),MATCH(F30,$O$5:$O$12,0))) | M30: =IF(OR(B30="",E30=""),"",IF(K30<>"",K30,'لوحة التوظيف'!$C$4)-E30)
A31: 27 | B31: كريم | C31: مساعد موارد بشرية | D31: ترشيح موظف | E31: 46300 | F31: فرز أولي | I31: 5000 | L31: =IF(B31="","",IF(OR(F31=INDEX($O$5:$O$12,7),F31=INDEX($O$5:$O$12,8)),IFERROR(MATCH(G31,$O$5:$O$12,0),1),MATCH(F31,$O$5:$O$12,0))) | M31: =IF(OR(B31="",E31=""),"",IF(K31<>"",K31,'لوحة التوظيف'!$C$4)-E31)
A32: 28 | B32: رياض | C32: مساعد موارد بشرية | D32: لينكدإن | E32: 46269 | F32: تقييم فني | H32: 2.6 | I32: 4100 | L32: =IF(B32="","",IF(OR(F32=INDEX($O$5:$O$12,7),F32=INDEX($O$5:$O$12,8)),IFERROR(MATCH(G32,$O$5:$O$12,0),1),MATCH(F32,$O$5:$O$12,0))) | M32: =IF(OR(B32="",E32=""),"",IF(K32<>"",K32,'لوحة التوظيف'!$C$4)-E32)
A33: 29 | B33: عمار | C33: مساعد موارد بشرية | D33: موقع الشركة | E33: 46277 | F33: تم التعيين | H33: 3.5 | I33: 5100 | J33: 4900 | K33: 46306 | L33: =IF(B33="","",IF(OR(F33=INDEX($O$5:$O$12,7),F33=INDEX($O$5:$O$12,8)),IFERROR(MATCH(G33,$O$5:$O$12,0),1),MATCH(F33,$O$5:$O$12,0))) | M33: =IF(OR(B33="",E33=""),"",IF(K33<>"",K33,'لوحة التوظيف'!$C$4)-E33)
A34: 30 | B34: جلال | C34: فني موقع | D34: لينكدإن | E34: 46246 | F34: مرفوض | G34: تقديم | I34: 9900 | L34: =IF(B34="","",IF(OR(F34=INDEX($O$5:$O$12,7),F34=INDEX($O$5:$O$12,8)),IFERROR(MATCH(G34,$O$5:$O$12,0),1),MATCH(F34,$O$5:$O$12,0))) | M34: =IF(OR(B34="",E34=""),"",IF(K34<>"",K34,'لوحة التوظيف'!$C$4)-E34)
A35: 31 | B35: سامي | C35: مهندس كهرباء | D35: لينكدإن | E35: 46271 | F35: انسحب | G35: فرز أولي | I35: 5600 | L35: =IF(B35="","",IF(OR(F35=INDEX($O$5:$O$12,7),F35=INDEX($O$5:$O$12,8)),IFERROR(MATCH(G35,$O$5:$O$12,0),1),MATCH(F35,$O$5:$O$12,0))) | M35: =IF(OR(B35="",E35=""),"",IF(K35<>"",K35,'لوحة التوظيف'!$C$4)-E35)
A36: 32 | B36: نبيل | C36: مندوب مبيعات | D36: مكتب توظيف | E36: 46284 | F36: عرض وظيفي | H36: 2.6 | I36: 6000 | J36: 5800 | L36: =IF(B36="","",IF(OR(F36=INDEX($O$5:$O$12,7),F36=INDEX($O$5:$O$12,8)),IFERROR(MATCH(G36,$O$5:$O$12,0),1),MATCH(F36,$O$5:$O$12,0))) | M36: =IF(OR(B36="",E36=""),"",IF(K36<>"",K36,'لوحة التوظيف'!$C$4)-E36)
A37: 33 | B37: فيصل | C37: محاسب | D37: مكتب توظيف | E37: 46304 | F37: تقديم | I37: 9700 | L37: =IF(B37="","",IF(OR(F37=INDEX($O$5:$O$12,7),F37=INDEX($O$5:$O$12,8)),IFERROR(MATCH(G37,$O$5:$O$12,0),1),MATCH(F37,$O$5:$O$12,0))) | M37: =IF(OR(B37="",E37=""),"",IF(K37<>"",K37,'لوحة التوظيف'!$C$4)-E37)
A38: 34 | B38: هشام | C38: فني موقع | D38: لينكدإن | E38: 46248 | F38: تم التعيين | H38: 3.7 | I38: 7400 | J38: 7100 | K38: 46271 | L38: =IF(B38="","",IF(OR(F38=INDEX($O$5:$O$12,7),F38=INDEX($O$5:$O$12,8)),IFERROR(MATCH(G38,$O$5:$O$12,0),1),MATCH(F38,$O$5:$O$12,0))) | M38: =IF(OR(B38="",E38=""),"",IF(K38<>"",K38,'لوحة التوظيف'!$C$4)-E38)
A39: 35 | B39: وسام | C39: مندوب مبيعات | D39: ترشيح موظف | E39: 46226 | F39: انسحب | G39: مقابلة | H39: 4.7 | I39: 6500 | L39: =IF(B39="","",IF(OR(F39=INDEX($O$5:$O$12,7),F39=INDEX($O$5:$O$12,8)),IFERROR(MATCH(G39,$O$5:$O$12,0),1),MATCH(F39,$O$5:$O$12,0))) | M39: =IF(OR(B39="",E39=""),"",IF(K39<>"",K39,'لوحة التوظيف'!$C$4)-E39)
A40: 36 | B40: إياد | C40: مهندس كهرباء | D40: زيارة مباشرة | E40: 46238 | F40: عرض وظيفي | H40: 3.6 | I40: 7500 | J40: 7200 | L40: =IF(B40="","",IF(OR(F40=INDEX($O$5:$O$12,7),F40=INDEX($O$5:$O$12,8)),IFERROR(MATCH(G40,$O$5:$O$12,0),1),MATCH(F40,$O$5:$O$12,0))) | M40: =IF(OR(B40="",E40=""),"",IF(K40<>"",K40,'لوحة التوظيف'!$C$4)-E40)
A41: 37 | B41: قصي | C41: فني موقع | D41: لينكدإن | E41: 46255 | F41: مرفوض | G41: تقييم فني | H41: 2.6 | I41: 7600 | L41: =IF(B41="","",IF(OR(F41=INDEX($O$5:$O$12,7),F41=INDEX($O$5:$O$12,8)),IFERROR(MATCH(G41,$O$5:$O$12,0),1),MATCH(F41,$O$5:$O$12,0))) | M41: =IF(OR(B41="",E41=""),"",IF(K41<>"",K41,'لوحة التوظيف'!$C$4)-E41)
A42: 38 | B42: مروان | C42: محاسب | D42: موقع الشركة | E42: 46251 | F42: فرز أولي | I42: 8600 | L42: =IF(B42="","",IF(OR(F42=INDEX($O$5:$O$12,7),F42=INDEX($O$5:$O$12,8)),IFERROR(MATCH(G42,$O$5:$O$12,0),1),MATCH(F42,$O$5:$O$12,0))) | M42: =IF(OR(B42="",E42=""),"",IF(K42<>"",K42,'لوحة التوظيف'!$C$4)-E42)
A43: 39 | B43: جابر | C43: مندوب مبيعات | D43: زيارة مباشرة | E43: 46290 | F43: مرفوض | G43: تقديم | I43: 5200 | L43: =IF(B43="","",IF(OR(F43=INDEX($O$5:$O$12,7),F43=INDEX($O$5:$O$12,8)),IFERROR(MATCH(G43,$O$5:$O$12,0),1),MATCH(F43,$O$5:$O$12,0))) | M43: =IF(OR(B43="",E43=""),"",IF(K43<>"",K43,'لوحة التوظيف'!$C$4)-E43)
A44: 40 | B44: شادي | C44: فني موقع | D44: لينكدإن | E44: 46260 | F44: مرفوض | G44: تقديم | I44: 8000 | L44: =IF(B44="","",IF(OR(F44=INDEX($O$5:$O$12,7),F44=INDEX($O$5:$O$12,8)),IFERROR(MATCH(G44,$O$5:$O$12,0),1),MATCH(F44,$O$5:$O$12,0))) | M44: =IF(OR(B44="",E44=""),"",IF(K44<>"",K44,'لوحة التوظيف'!$C$4)-E44)
L45: =IF(B45="","",IF(OR(F45=INDEX($O$5:$O$12,7),F45=INDEX($O$5:$O$12,8)),IFERROR(MATCH(G45,$O$5:$O$12,0),1),MATCH(F45,$O$5:$O$12,0))) | M45: =IF(OR(B45="",E45=""),"",IF(K45<>"",K45,'لوحة التوظيف'!$C$4)-E45)
L46: =IF(B46="","",IF(OR(F46=INDEX($O$5:$O$12,7),F46=INDEX($O$5:$O$12,8)),IFERROR(MATCH(G46,$O$5:$O$12,0),1),MATCH(F46,$O$5:$O$12,0))) | M46: =IF(OR(B46="",E46=""),"",IF(K46<>"",K46,'لوحة التوظيف'!$C$4)-E46)
L47: =IF(B47="","",IF(OR(F47=INDEX($O$5:$O$12,7),F47=INDEX($O$5:$O$12,8)),IFERROR(MATCH(G47,$O$5:$O$12,0),1),MATCH(F47,$O$5:$O$12,0))) | M47: =IF(OR(B47="",E47=""),"",IF(K47<>"",K47,'لوحة التوظيف'!$C$4)-E47)
L48: =IF(B48="","",IF(OR(F48=INDEX($O$5:$O$12,7),F48=INDEX($O$5:$O$12,8)),IFERROR(MATCH(G48,$O$5:$O$12,0),1),MATCH(F48,$O$5:$O$12,0))) | M48: =IF(OR(B48="",E48=""),"",IF(K48<>"",K48,'لوحة التوظيف'!$C$4)-E48)
L49: =IF(B49="","",IF(OR(F49=INDEX($O$5:$O$12,7),F49=INDEX($O$5:$O$12,8)),IFERROR(MATCH(G49,$O$5:$O$12,0),1),MATCH(F49,$O$5:$O$12,0))) | M49: =IF(OR(B49="",E49=""),"",IF(K49<>"",K49,'لوحة التوظيف'!$C$4)-E49)
L50: =IF(B50="","",IF(OR(F50=INDEX($O$5:$O$12,7),F50=INDEX($O$5:$O$12,8)),IFERROR(MATCH(G50,$O$5:$O$12,0),1),MATCH(F50,$O$5:$O$12,0))) | M50: =IF(OR(B50="",E50=""),"",IF(K50<>"",K50,'لوحة التوظيف'!$C$4)-E50)
L51: =IF(B51="","",IF(OR(F51=INDEX($O$5:$O$12,7),F51=INDEX($O$5:$O$12,8)),IFERROR(MATCH(G51,$O$5:$O$12,0),1),MATCH(F51,$O$5:$O$12,0))) | M51: =IF(OR(B51="",E51=""),"",IF(K51<>"",K51,'لوحة التوظيف'!$C$4)-E51)
L52: =IF(B52="","",IF(OR(F52=INDEX($O$5:$O$12,7),F52=INDEX($O$5:$O$12,8)),IFERROR(MATCH(G52,$O$5:$O$12,0),1),MATCH(F52,$O$5:$O$12,0))) | M52: =IF(OR(B52="",E52=""),"",IF(K52<>"",K52,'لوحة التوظيف'!$C$4)-E52)
L53: =IF(B53="","",IF(OR(F53=INDEX($O$5:$O$12,7),F53=INDEX($O$5:$O$12,8)),IFERROR(MATCH(G53,$O$5:$O$12,0),1),MATCH(F53,$O$5:$O$12,0))) | M53: =IF(OR(B53="",E53=""),"",IF(K53<>"",K53,'لوحة التوظيف'!$C$4)-E53)
L54: =IF(B54="","",IF(OR(F54=INDEX($O$5:$O$12,7),F54=INDEX($O$5:$O$12,8)),IFERROR(MATCH(G54,$O$5:$O$12,0),1),MATCH(F54,$O$5:$O$12,0))) | M54: =IF(OR(B54="",E54=""),"",IF(K54<>"",K54,'لوحة التوظيف'!$C$4)-E54)
L55: =IF(B55="","",IF(OR(F55=INDEX($O$5:$O$12,7),F55=INDEX($O$5:$O$12,8)),IFERROR(MATCH(G55,$O$5:$O$12,0),1),MATCH(F55,$O$5:$O$12,0))) | M55: =IF(OR(B55="",E55=""),"",IF(K55<>"",K55,'لوحة التوظيف'!$C$4)-E55)
L56: =IF(B56="","",IF(OR(F56=INDEX($O$5:$O$12,7),F56=INDEX($O$5:$O$12,8)),IFERROR(MATCH(G56,$O$5:$O$12,0),1),MATCH(F56,$O$5:$O$12,0))) | M56: =IF(OR(B56="",E56=""),"",IF(K56<>"",K56,'لوحة التوظيف'!$C$4)-E56)
... L124: =IF(B124="","",IF(OR(F124=INDEX($O$5:$O$12,7),F124=INDEX($O$5:$O$12,8)),IFERROR(MATCH(G124,$O$5:$O$12,0),1),MATCH(F124,$O$5:$O$12,0))) | M124: =IF(OR(B124="",E124=""),"",IF(K124<>"",K124,'لوحة التوظيف'!$C$4)-E124)

Sheet دليل الاستخدام
A1: دليل استخدام: لوحة التوظيف
A2: Sheetaky.com · شيتات إكسل جاهزة بالعربي والإنجليزي
A4: ما هذا الشيت؟
A5: يتتبع مسار كل مرشح من التقديم حتى التعيين، ويرسم قمع التوظيف ويقيس فعالية مصادر الاستقطاب ومدة التعيين وقبول العروض وحالة كل وظيفة.
A7: خطوات الاستخدام
A8: 1 | B8: اكتب الوظائف المطلوبة وعدد الشواغر وموعد الإغلاق في اللوحة.
A9: 2 | B9: سجّل كل مرشح في ورقة المرشحين مع وظيفته ومصدره.
A10: 3 | B10: حدّث المرحلة عند كل تقدم؛ وللمرفوض اختر آخر مرحلة وصل إليها.
A11: 4 | B11: راجع الوظائف المتأخرة وأفضل مصدر.
A13: دليل الألوان
B14: خلية إدخال: اكتب أو اختر قيمتك هنا (خط أزرق على خلفية صفراء).
B15: خلية محسوبة: معادلة تلقائية، محمية من المسح بالخطأ.
B16: عناوين الجداول والأقسام.
A18: ملاحظات مهمة
A19: • | B19: وصلوا إلى مرحلة = عدد من بلغ هذه المرحلة أو تجاوزها.
A20: • | B20: قبول العروض = المعيّنون ÷ (المعيّنون + المنسحبون بعد العرض).
A21: • | B21: مدة التعيين = تاريخ الإغلاق − تاريخ التقديم للمعيّنين.
A22: • | B22: الأوراق محمية بدون كلمة مرور لحماية المعادلات. لإلغاء الحماية: مراجعة ← إلغاء حماية الورقة.
A23: • | B23: البيانات الموجودة مثال توضيحي، امسحها واكتب بياناتك في الخلايا الصفراء فقط.
A24: • | B24: المزيد من الشيتات المجانية بالعربي والإنجليزي على Sheetaky.com
