Workbook

Sheet Leave Balances
A1: Leave Balances: Entitlement, Used, Remaining and Balance Value
A3: Log leave requests on the log sheet; the sheet counts actual working days and each employee balance, sick days used and the value of accrued leave
A4: Report date | C4: 46318 | D4: Employees | G4: On leave today | J4: Pending requests | M4: Balance value
A5: Annual days (<5 yrs) | C5: 21 | D5: =COUNTA(A14:A45) | G5: =COUNTIFS('Leave Log'!$C$5:$C$154,"<="&$C$4,'Leave Log'!$D$5:$D$154,">="&$C$4,'Leave Log'!$F$5:$F$154,INDEX('Leave Log'!$I$13:$I$15,1)) | J5: =COUNTIF('Leave Log'!$F$5:$F$154,INDEX('Leave Log'!$I$13:$I$15,2)) | M5: =SUM(N14:N45)
A6: Annual days (5+ yrs) | C6: 30
A7: Pay days per month | C7: 30 | D7: Total balance days | G7: High balances | J7: Sick days used | M7: Negative balances
A8: High-balance flag | C8: 25 | D8: =SUMIF(J14:J45,">0") | G8: =COUNTIF(P14:P45,"High balance") | J8: =SUM(L14:L45) | M8: =COUNTIF(J14:J45,"<0")
A13: Employee | B13: Department | C13: Hire date | D13: Salary | E13: Years | F13: Entitlement | G13: Carry-over | H13: Accrued YTD | I13: Used | J13: Balance | K13: Pending | L13: Sick used | M13: Sick tier | N13: Balance value | P13: Status
A14: Ahmed Al-Otaibi | B14: Maintenance | C14: 43534 | D14: 9500 | E14: =IF(OR($A14="",$C14=""),"",($C$4-$C14)/365.25) | F14: =IF($E14="","",IF($E14>=5,$C$6,$C$5)) | G14: 0 | H14: =IF($F14="","",ROUND($F14*MIN(1,($C$4-DATE(YEAR($C$4),1,1)+1)/365)*IF($E14<1,0,1),1)) | I14: =IF($A14="","",SUMIFS('Leave Log'!$E$5:$E$154,'Leave Log'!$A$5:$A$154,$A14,'Leave Log'!$B$5:$B$154,INDEX('Leave Log'!$I$5:$I$10,1),'Leave Log'!$F$5:$F$154,INDEX('Leave Log'!$I$13:$I$15,1),'Leave Log'!$C$5:$C$154,">="&DATE(YEAR($C$4),1,1))) | J14: =IF($A14="","",N($G14)+N($H14)-N($I14)) | K14: =IF($A14="","",SUMIFS('Leave Log'!$E$5:$E$154,'Leave Log'!$A$5:$A$154,$A14,'Leave Log'!$B$5:$B$154,INDEX('Leave Log'!$I$5:$I$10,1),'Leave Log'!$F$5:$F$154,INDEX('Leave Log'!$I$13:$I$15,2))) | L14: =IF($A14="","",SUMIFS('Leave Log'!$E$5:$E$154,'Leave Log'!$A$5:$A$154,$A14,'Leave Log'!$B$5:$B$154,INDEX('Leave Log'!$I$5:$I$10,2),'Leave Log'!$F$5:$F$154,INDEX('Leave Log'!$I$13:$I$15,1),'Leave Log'!$C$5:$C$154,">="&DATE(YEAR($C$4),1,1))) | M14: =IF($A14="","",IF($L14<=30,"100% pay",IF($L14<=90,"75% pay","Unpaid"))) | N14: =IF($A14="","",MAX(0,$J14)*$D14/$C$7) | P14: =IF($A14="","",IF($J14<0,"Negative",IF($J14>=$C$8,"High balance","OK")))
A15: Khaled Al-Harbi | B15: Maintenance | C15: 44409 | D15: 6200 | E15: =IF(OR($A15="",$C15=""),"",($C$4-$C15)/365.25) | F15: =IF($E15="","",IF($E15>=5,$C$6,$C$5)) | G15: 3 | H15: =IF($F15="","",ROUND($F15*MIN(1,($C$4-DATE(YEAR($C$4),1,1)+1)/365)*IF($E15<1,0,1),1)) | I15: =IF($A15="","",SUMIFS('Leave Log'!$E$5:$E$154,'Leave Log'!$A$5:$A$154,$A15,'Leave Log'!$B$5:$B$154,INDEX('Leave Log'!$I$5:$I$10,1),'Leave Log'!$F$5:$F$154,INDEX('Leave Log'!$I$13:$I$15,1),'Leave Log'!$C$5:$C$154,">="&DATE(YEAR($C$4),1,1))) | J15: =IF($A15="","",N($G15)+N($H15)-N($I15)) | K15: =IF($A15="","",SUMIFS('Leave Log'!$E$5:$E$154,'Leave Log'!$A$5:$A$154,$A15,'Leave Log'!$B$5:$B$154,INDEX('Leave Log'!$I$5:$I$10,1),'Leave Log'!$F$5:$F$154,INDEX('Leave Log'!$I$13:$I$15,2))) | L15: =IF($A15="","",SUMIFS('Leave Log'!$E$5:$E$154,'Leave Log'!$A$5:$A$154,$A15,'Leave Log'!$B$5:$B$154,INDEX('Leave Log'!$I$5:$I$10,2),'Leave Log'!$F$5:$F$154,INDEX('Leave Log'!$I$13:$I$15,1),'Leave Log'!$C$5:$C$154,">="&DATE(YEAR($C$4),1,1))) | M15: =IF($A15="","",IF($L15<=30,"100% pay",IF($L15<=90,"75% pay","Unpaid"))) | N15: =IF($A15="","",MAX(0,$J15)*$D15/$C$7) | P15: =IF($A15="","",IF($J15<0,"Negative",IF($J15>=$C$8,"High balance","OK")))
A16: Saad Al-Qahtani | B16: Maintenance | C16: 44576 | D16: 5800 | E16: =IF(OR($A16="",$C16=""),"",($C$4-$C16)/365.25) | F16: =IF($E16="","",IF($E16>=5,$C$6,$C$5)) | G16: 0 | H16: =IF($F16="","",ROUND($F16*MIN(1,($C$4-DATE(YEAR($C$4),1,1)+1)/365)*IF($E16<1,0,1),1)) | I16: =IF($A16="","",SUMIFS('Leave Log'!$E$5:$E$154,'Leave Log'!$A$5:$A$154,$A16,'Leave Log'!$B$5:$B$154,INDEX('Leave Log'!$I$5:$I$10,1),'Leave Log'!$F$5:$F$154,INDEX('Leave Log'!$I$13:$I$15,1),'Leave Log'!$C$5:$C$154,">="&DATE(YEAR($C$4),1,1))) | J16: =IF($A16="","",N($G16)+N($H16)-N($I16)) | K16: =IF($A16="","",SUMIFS('Leave Log'!$E$5:$E$154,'Leave Log'!$A$5:$A$154,$A16,'Leave Log'!$B$5:$B$154,INDEX('Leave Log'!$I$5:$I$10,1),'Leave Log'!$F$5:$F$154,INDEX('Leave Log'!$I$13:$I$15,2))) | L16: =IF($A16="","",SUMIFS('Leave Log'!$E$5:$E$154,'Leave Log'!$A$5:$A$154,$A16,'Leave Log'!$B$5:$B$154,INDEX('Leave Log'!$I$5:$I$10,2),'Leave Log'!$F$5:$F$154,INDEX('Leave Log'!$I$13:$I$15,1),'Leave Log'!$C$5:$C$154,">="&DATE(YEAR($C$4),1,1))) | M16: =IF($A16="","",IF($L16<=30,"100% pay",IF($L16<=90,"75% pay","Unpaid"))) | N16: =IF($A16="","",MAX(0,$J16)*$D16/$C$7) | P16: =IF($A16="","",IF($J16<0,"Negative",IF($J16>=$C$8,"High balance","OK")))
A17: Majed Al-Shammari | B17: Sales | C17: 44002 | D17: 7400 | E17: =IF(OR($A17="",$C17=""),"",($C$4-$C17)/365.25) | F17: =IF($E17="","",IF($E17>=5,$C$6,$C$5)) | G17: 2 | H17: =IF($F17="","",ROUND($F17*MIN(1,($C$4-DATE(YEAR($C$4),1,1)+1)/365)*IF($E17<1,0,1),1)) | I17: =IF($A17="","",SUMIFS('Leave Log'!$E$5:$E$154,'Leave Log'!$A$5:$A$154,$A17,'Leave Log'!$B$5:$B$154,INDEX('Leave Log'!$I$5:$I$10,1),'Leave Log'!$F$5:$F$154,INDEX('Leave Log'!$I$13:$I$15,1),'Leave Log'!$C$5:$C$154,">="&DATE(YEAR($C$4),1,1))) | J17: =IF($A17="","",N($G17)+N($H17)-N($I17)) | K17: =IF($A17="","",SUMIFS('Leave Log'!$E$5:$E$154,'Leave Log'!$A$5:$A$154,$A17,'Leave Log'!$B$5:$B$154,INDEX('Leave Log'!$I$5:$I$10,1),'Leave Log'!$F$5:$F$154,INDEX('Leave Log'!$I$13:$I$15,2))) | L17: =IF($A17="","",SUMIFS('Leave Log'!$E$5:$E$154,'Leave Log'!$A$5:$A$154,$A17,'Leave Log'!$B$5:$B$154,INDEX('Leave Log'!$I$5:$I$10,2),'Leave Log'!$F$5:$F$154,INDEX('Leave Log'!$I$13:$I$15,1),'Leave Log'!$C$5:$C$154,">="&DATE(YEAR($C$4),1,1))) | M17: =IF($A17="","",IF($L17<=30,"100% pay",IF($L17<=90,"75% pay","Unpaid"))) | N17: =IF($A17="","",MAX(0,$J17)*$D17/$C$7) | P17: =IF($A17="","",IF($J17<0,"Negative",IF($J17>=$C$8,"High balance","OK")))
A18: Fahad Al-Dosari | B18: Sales | C18: 44962 | D18: 5200 | E18: =IF(OR($A18="",$C18=""),"",($C$4-$C18)/365.25) | F18: =IF($E18="","",IF($E18>=5,$C$6,$C$5)) | G18: 0 | H18: =IF($F18="","",ROUND($F18*MIN(1,($C$4-DATE(YEAR($C$4),1,1)+1)/365)*IF($E18<1,0,1),1)) | I18: =IF($A18="","",SUMIFS('Leave Log'!$E$5:$E$154,'Leave Log'!$A$5:$A$154,$A18,'Leave Log'!$B$5:$B$154,INDEX('Leave Log'!$I$5:$I$10,1),'Leave Log'!$F$5:$F$154,INDEX('Leave Log'!$I$13:$I$15,1),'Leave Log'!$C$5:$C$154,">="&DATE(YEAR($C$4),1,1))) | J18: =IF($A18="","",N($G18)+N($H18)-N($I18)) | K18: =IF($A18="","",SUMIFS('Leave Log'!$E$5:$E$154,'Leave Log'!$A$5:$A$154,$A18,'Leave Log'!$B$5:$B$154,INDEX('Leave Log'!$I$5:$I$10,1),'Leave Log'!$F$5:$F$154,INDEX('Leave Log'!$I$13:$I$15,2))) | L18: =IF($A18="","",SUMIFS('Leave Log'!$E$5:$E$154,'Leave Log'!$A$5:$A$154,$A18,'Leave Log'!$B$5:$B$154,INDEX('Leave Log'!$I$5:$I$10,2),'Leave Log'!$F$5:$F$154,INDEX('Leave Log'!$I$13:$I$15,1),'Leave Log'!$C$5:$C$154,">="&DATE(YEAR($C$4),1,1))) | M18: =IF($A18="","",IF($L18<=30,"100% pay",IF($L18<=90,"75% pay","Unpaid"))) | N18: =IF($A18="","",MAX(0,$J18)*$D18/$C$7) | P18: =IF($A18="","",IF($J18<0,"Negative",IF($J18>=$C$8,"High balance","OK")))
A19: Omar Al-Zahrani | B19: Accounts | C19: 43405 | D19: 11000 | E19: =IF(OR($A19="",$C19=""),"",($C$4-$C19)/365.25) | F19: =IF($E19="","",IF($E19>=5,$C$6,$C$5)) | G19: 5 | H19: =IF($F19="","",ROUND($F19*MIN(1,($C$4-DATE(YEAR($C$4),1,1)+1)/365)*IF($E19<1,0,1),1)) | I19: =IF($A19="","",SUMIFS('Leave Log'!$E$5:$E$154,'Leave Log'!$A$5:$A$154,$A19,'Leave Log'!$B$5:$B$154,INDEX('Leave Log'!$I$5:$I$10,1),'Leave Log'!$F$5:$F$154,INDEX('Leave Log'!$I$13:$I$15,1),'Leave Log'!$C$5:$C$154,">="&DATE(YEAR($C$4),1,1))) | J19: =IF($A19="","",N($G19)+N($H19)-N($I19)) | K19: =IF($A19="","",SUMIFS('Leave Log'!$E$5:$E$154,'Leave Log'!$A$5:$A$154,$A19,'Leave Log'!$B$5:$B$154,INDEX('Leave Log'!$I$5:$I$10,1),'Leave Log'!$F$5:$F$154,INDEX('Leave Log'!$I$13:$I$15,2))) | L19: =IF($A19="","",SUMIFS('Leave Log'!$E$5:$E$154,'Leave Log'!$A$5:$A$154,$A19,'Leave Log'!$B$5:$B$154,INDEX('Leave Log'!$I$5:$I$10,2),'Leave Log'!$F$5:$F$154,INDEX('Leave Log'!$I$13:$I$15,1),'Leave Log'!$C$5:$C$154,">="&DATE(YEAR($C$4),1,1))) | M19: =IF($A19="","",IF($L19<=30,"100% pay",IF($L19<=90,"75% pay","Unpaid"))) | N19: =IF($A19="","",MAX(0,$J19)*$D19/$C$7) | P19: =IF($A19="","",IF($J19<0,"Negative",IF($J19>=$C$8,"High balance","OK")))
A20: Yousef Al-Mutairi | B20: Accounts | C20: 45383 | D20: 4800 | E20: =IF(OR($A20="",$C20=""),"",($C$4-$C20)/365.25) | F20: =IF($E20="","",IF($E20>=5,$C$6,$C$5)) | G20: 0 | H20: =IF($F20="","",ROUND($F20*MIN(1,($C$4-DATE(YEAR($C$4),1,1)+1)/365)*IF($E20<1,0,1),1)) | I20: =IF($A20="","",SUMIFS('Leave Log'!$E$5:$E$154,'Leave Log'!$A$5:$A$154,$A20,'Leave Log'!$B$5:$B$154,INDEX('Leave Log'!$I$5:$I$10,1),'Leave Log'!$F$5:$F$154,INDEX('Leave Log'!$I$13:$I$15,1),'Leave Log'!$C$5:$C$154,">="&DATE(YEAR($C$4),1,1))) | J20: =IF($A20="","",N($G20)+N($H20)-N($I20)) | K20: =IF($A20="","",SUMIFS('Leave Log'!$E$5:$E$154,'Leave Log'!$A$5:$A$154,$A20,'Leave Log'!$B$5:$B$154,INDEX('Leave Log'!$I$5:$I$10,1),'Leave Log'!$F$5:$F$154,INDEX('Leave Log'!$I$13:$I$15,2))) | L20: =IF($A20="","",SUMIFS('Leave Log'!$E$5:$E$154,'Leave Log'!$A$5:$A$154,$A20,'Leave Log'!$B$5:$B$154,INDEX('Leave Log'!$I$5:$I$10,2),'Leave Log'!$F$5:$F$154,INDEX('Leave Log'!$I$13:$I$15,1),'Leave Log'!$C$5:$C$154,">="&DATE(YEAR($C$4),1,1))) | M20: =IF($A20="","",IF($L20<=30,"100% pay",IF($L20<=90,"75% pay","Unpaid"))) | N20: =IF($A20="","",MAX(0,$J20)*$D20/$C$7) | P20: =IF($A20="","",IF($J20<0,"Negative",IF($J20>=$C$8,"High balance","OK")))
A21: Badr Al-Subaie | B21: Warehouse | C21: 44199 | D21: 4300 | E21: =IF(OR($A21="",$C21=""),"",($C$4-$C21)/365.25) | F21: =IF($E21="","",IF($E21>=5,$C$6,$C$5)) | G21: 1 | H21: =IF($F21="","",ROUND($F21*MIN(1,($C$4-DATE(YEAR($C$4),1,1)+1)/365)*IF($E21<1,0,1),1)) | I21: =IF($A21="","",SUMIFS('Leave Log'!$E$5:$E$154,'Leave Log'!$A$5:$A$154,$A21,'Leave Log'!$B$5:$B$154,INDEX('Leave Log'!$I$5:$I$10,1),'Leave Log'!$F$5:$F$154,INDEX('Leave Log'!$I$13:$I$15,1),'Leave Log'!$C$5:$C$154,">="&DATE(YEAR($C$4),1,1))) | J21: =IF($A21="","",N($G21)+N($H21)-N($I21)) | K21: =IF($A21="","",SUMIFS('Leave Log'!$E$5:$E$154,'Leave Log'!$A$5:$A$154,$A21,'Leave Log'!$B$5:$B$154,INDEX('Leave Log'!$I$5:$I$10,1),'Leave Log'!$F$5:$F$154,INDEX('Leave Log'!$I$13:$I$15,2))) | L21: =IF($A21="","",SUMIFS('Leave Log'!$E$5:$E$154,'Leave Log'!$A$5:$A$154,$A21,'Leave Log'!$B$5:$B$154,INDEX('Leave Log'!$I$5:$I$10,2),'Leave Log'!$F$5:$F$154,INDEX('Leave Log'!$I$13:$I$15,1),'Leave Log'!$C$5:$C$154,">="&DATE(YEAR($C$4),1,1))) | M21: =IF($A21="","",IF($L21<=30,"100% pay",IF($L21<=90,"75% pay","Unpaid"))) | N21: =IF($A21="","",MAX(0,$J21)*$D21/$C$7) | P21: =IF($A21="","",IF($J21<0,"Negative",IF($J21>=$C$8,"High balance","OK")))
A22: Turki Al-Anazi | B22: Warehouse | C22: 45718 | D22: 3900 | E22: =IF(OR($A22="",$C22=""),"",($C$4-$C22)/365.25) | F22: =IF($E22="","",IF($E22>=5,$C$6,$C$5)) | G22: 0 | H22: =IF($F22="","",ROUND($F22*MIN(1,($C$4-DATE(YEAR($C$4),1,1)+1)/365)*IF($E22<1,0,1),1)) | I22: =IF($A22="","",SUMIFS('Leave Log'!$E$5:$E$154,'Leave Log'!$A$5:$A$154,$A22,'Leave Log'!$B$5:$B$154,INDEX('Leave Log'!$I$5:$I$10,1),'Leave Log'!$F$5:$F$154,INDEX('Leave Log'!$I$13:$I$15,1),'Leave Log'!$C$5:$C$154,">="&DATE(YEAR($C$4),1,1))) | J22: =IF($A22="","",N($G22)+N($H22)-N($I22)) | K22: =IF($A22="","",SUMIFS('Leave Log'!$E$5:$E$154,'Leave Log'!$A$5:$A$154,$A22,'Leave Log'!$B$5:$B$154,INDEX('Leave Log'!$I$5:$I$10,1),'Leave Log'!$F$5:$F$154,INDEX('Leave Log'!$I$13:$I$15,2))) | L22: =IF($A22="","",SUMIFS('Leave Log'!$E$5:$E$154,'Leave Log'!$A$5:$A$154,$A22,'Leave Log'!$B$5:$B$154,INDEX('Leave Log'!$I$5:$I$10,2),'Leave Log'!$F$5:$F$154,INDEX('Leave Log'!$I$13:$I$15,1),'Leave Log'!$C$5:$C$154,">="&DATE(YEAR($C$4),1,1))) | M22: =IF($A22="","",IF($L22<=30,"100% pay",IF($L22<=90,"75% pay","Unpaid"))) | N22: =IF($A22="","",MAX(0,$J22)*$D22/$C$7) | P22: =IF($A22="","",IF($J22<0,"Negative",IF($J22>=$C$8,"High balance","OK")))
A23: Nayef Al-Ghamdi | B23: Admin | C23: 42869 | D23: 13500 | E23: =IF(OR($A23="",$C23=""),"",($C$4-$C23)/365.25) | F23: =IF($E23="","",IF($E23>=5,$C$6,$C$5)) | G23: 4 | H23: =IF($F23="","",ROUND($F23*MIN(1,($C$4-DATE(YEAR($C$4),1,1)+1)/365)*IF($E23<1,0,1),1)) | I23: =IF($A23="","",SUMIFS('Leave Log'!$E$5:$E$154,'Leave Log'!$A$5:$A$154,$A23,'Leave Log'!$B$5:$B$154,INDEX('Leave Log'!$I$5:$I$10,1),'Leave Log'!$F$5:$F$154,INDEX('Leave Log'!$I$13:$I$15,1),'Leave Log'!$C$5:$C$154,">="&DATE(YEAR($C$4),1,1))) | J23: =IF($A23="","",N($G23)+N($H23)-N($I23)) | K23: =IF($A23="","",SUMIFS('Leave Log'!$E$5:$E$154,'Leave Log'!$A$5:$A$154,$A23,'Leave Log'!$B$5:$B$154,INDEX('Leave Log'!$I$5:$I$10,1),'Leave Log'!$F$5:$F$154,INDEX('Leave Log'!$I$13:$I$15,2))) | L23: =IF($A23="","",SUMIFS('Leave Log'!$E$5:$E$154,'Leave Log'!$A$5:$A$154,$A23,'Leave Log'!$B$5:$B$154,INDEX('Leave Log'!$I$5:$I$10,2),'Leave Log'!$F$5:$F$154,INDEX('Leave Log'!$I$13:$I$15,1),'Leave Log'!$C$5:$C$154,">="&DATE(YEAR($C$4),1,1))) | M23: =IF($A23="","",IF($L23<=30,"100% pay",IF($L23<=90,"75% pay","Unpaid"))) | N23: =IF($A23="","",MAX(0,$J23)*$D23/$C$7) | P23: =IF($A23="","",IF($J23<0,"Negative",IF($J23>=$C$8,"High balance","OK")))
A24: Waleed Al-Buqami | B24: Maintenance | C24: 45901 | D24: 5000 | E24: =IF(OR($A24="",$C24=""),"",($C$4-$C24)/365.25) | F24: =IF($E24="","",IF($E24>=5,$C$6,$C$5)) | G24: 0 | H24: =IF($F24="","",ROUND($F24*MIN(1,($C$4-DATE(YEAR($C$4),1,1)+1)/365)*IF($E24<1,0,1),1)) | I24: =IF($A24="","",SUMIFS('Leave Log'!$E$5:$E$154,'Leave Log'!$A$5:$A$154,$A24,'Leave Log'!$B$5:$B$154,INDEX('Leave Log'!$I$5:$I$10,1),'Leave Log'!$F$5:$F$154,INDEX('Leave Log'!$I$13:$I$15,1),'Leave Log'!$C$5:$C$154,">="&DATE(YEAR($C$4),1,1))) | J24: =IF($A24="","",N($G24)+N($H24)-N($I24)) | K24: =IF($A24="","",SUMIFS('Leave Log'!$E$5:$E$154,'Leave Log'!$A$5:$A$154,$A24,'Leave Log'!$B$5:$B$154,INDEX('Leave Log'!$I$5:$I$10,1),'Leave Log'!$F$5:$F$154,INDEX('Leave Log'!$I$13:$I$15,2))) | L24: =IF($A24="","",SUMIFS('Leave Log'!$E$5:$E$154,'Leave Log'!$A$5:$A$154,$A24,'Leave Log'!$B$5:$B$154,INDEX('Leave Log'!$I$5:$I$10,2),'Leave Log'!$F$5:$F$154,INDEX('Leave Log'!$I$13:$I$15,1),'Leave Log'!$C$5:$C$154,">="&DATE(YEAR($C$4),1,1))) | M24: =IF($A24="","",IF($L24<=30,"100% pay",IF($L24<=90,"75% pay","Unpaid"))) | N24: =IF($A24="","",MAX(0,$J24)*$D24/$C$7) | P24: =IF($A24="","",IF($J24<0,"Negative",IF($J24>=$C$8,"High balance","OK")))
A25: Salman Al-Juhani | B25: Sales | C25: 44822 | D25: 6100 | E25: =IF(OR($A25="",$C25=""),"",($C$4-$C25)/365.25) | F25: =IF($E25="","",IF($E25>=5,$C$6,$C$5)) | G25: 0 | H25: =IF($F25="","",ROUND($F25*MIN(1,($C$4-DATE(YEAR($C$4),1,1)+1)/365)*IF($E25<1,0,1),1)) | I25: =IF($A25="","",SUMIFS('Leave Log'!$E$5:$E$154,'Leave Log'!$A$5:$A$154,$A25,'Leave Log'!$B$5:$B$154,INDEX('Leave Log'!$I$5:$I$10,1),'Leave Log'!$F$5:$F$154,INDEX('Leave Log'!$I$13:$I$15,1),'Leave Log'!$C$5:$C$154,">="&DATE(YEAR($C$4),1,1))) | J25: =IF($A25="","",N($G25)+N($H25)-N($I25)) | K25: =IF($A25="","",SUMIFS('Leave Log'!$E$5:$E$154,'Leave Log'!$A$5:$A$154,$A25,'Leave Log'!$B$5:$B$154,INDEX('Leave Log'!$I$5:$I$10,1),'Leave Log'!$F$5:$F$154,INDEX('Leave Log'!$I$13:$I$15,2))) | L25: =IF($A25="","",SUMIFS('Leave Log'!$E$5:$E$154,'Leave Log'!$A$5:$A$154,$A25,'Leave Log'!$B$5:$B$154,INDEX('Leave Log'!$I$5:$I$10,2),'Leave Log'!$F$5:$F$154,INDEX('Leave Log'!$I$13:$I$15,1),'Leave Log'!$C$5:$C$154,">="&DATE(YEAR($C$4),1,1))) | M25: =IF($A25="","",IF($L25<=30,"100% pay",IF($L25<=90,"75% pay","Unpaid"))) | N25: =IF($A25="","",MAX(0,$J25)*$D25/$C$7) | P25: =IF($A25="","",IF($J25<0,"Negative",IF($J25>=$C$8,"High balance","OK")))
E26: =IF(OR($A26="",$C26=""),"",($C$4-$C26)/365.25) | F26: =IF($E26="","",IF($E26>=5,$C$6,$C$5)) | H26: =IF($F26="","",ROUND($F26*MIN(1,($C$4-DATE(YEAR($C$4),1,1)+1)/365)*IF($E26<1,0,1),1)) | I26: =IF($A26="","",SUMIFS('Leave Log'!$E$5:$E$154,'Leave Log'!$A$5:$A$154,$A26,'Leave Log'!$B$5:$B$154,INDEX('Leave Log'!$I$5:$I$10,1),'Leave Log'!$F$5:$F$154,INDEX('Leave Log'!$I$13:$I$15,1),'Leave Log'!$C$5:$C$154,">="&DATE(YEAR($C$4),1,1))) | J26: =IF($A26="","",N($G26)+N($H26)-N($I26)) | K26: =IF($A26="","",SUMIFS('Leave Log'!$E$5:$E$154,'Leave Log'!$A$5:$A$154,$A26,'Leave Log'!$B$5:$B$154,INDEX('Leave Log'!$I$5:$I$10,1),'Leave Log'!$F$5:$F$154,INDEX('Leave Log'!$I$13:$I$15,2))) | L26: =IF($A26="","",SUMIFS('Leave Log'!$E$5:$E$154,'Leave Log'!$A$5:$A$154,$A26,'Leave Log'!$B$5:$B$154,INDEX('Leave Log'!$I$5:$I$10,2),'Leave Log'!$F$5:$F$154,INDEX('Leave Log'!$I$13:$I$15,1),'Leave Log'!$C$5:$C$154,">="&DATE(YEAR($C$4),1,1))) | M26: =IF($A26="","",IF($L26<=30,"100% pay",IF($L26<=90,"75% pay","Unpaid"))) | N26: =IF($A26="","",MAX(0,$J26)*$D26/$C$7) | P26: =IF($A26="","",IF($J26<0,"Negative",IF($J26>=$C$8,"High balance","OK")))
E27: =IF(OR($A27="",$C27=""),"",($C$4-$C27)/365.25) | F27: =IF($E27="","",IF($E27>=5,$C$6,$C$5)) | H27: =IF($F27="","",ROUND($F27*MIN(1,($C$4-DATE(YEAR($C$4),1,1)+1)/365)*IF($E27<1,0,1),1)) | I27: =IF($A27="","",SUMIFS('Leave Log'!$E$5:$E$154,'Leave Log'!$A$5:$A$154,$A27,'Leave Log'!$B$5:$B$154,INDEX('Leave Log'!$I$5:$I$10,1),'Leave Log'!$F$5:$F$154,INDEX('Leave Log'!$I$13:$I$15,1),'Leave Log'!$C$5:$C$154,">="&DATE(YEAR($C$4),1,1))) | J27: =IF($A27="","",N($G27)+N($H27)-N($I27)) | K27: =IF($A27="","",SUMIFS('Leave Log'!$E$5:$E$154,'Leave Log'!$A$5:$A$154,$A27,'Leave Log'!$B$5:$B$154,INDEX('Leave Log'!$I$5:$I$10,1),'Leave Log'!$F$5:$F$154,INDEX('Leave Log'!$I$13:$I$15,2))) | L27: =IF($A27="","",SUMIFS('Leave Log'!$E$5:$E$154,'Leave Log'!$A$5:$A$154,$A27,'Leave Log'!$B$5:$B$154,INDEX('Leave Log'!$I$5:$I$10,2),'Leave Log'!$F$5:$F$154,INDEX('Leave Log'!$I$13:$I$15,1),'Leave Log'!$C$5:$C$154,">="&DATE(YEAR($C$4),1,1))) | M27: =IF($A27="","",IF($L27<=30,"100% pay",IF($L27<=90,"75% pay","Unpaid"))) | N27: =IF($A27="","",MAX(0,$J27)*$D27/$C$7) | P27: =IF($A27="","",IF($J27<0,"Negative",IF($J27>=$C$8,"High balance","OK")))
E28: =IF(OR($A28="",$C28=""),"",($C$4-$C28)/365.25) | F28: =IF($E28="","",IF($E28>=5,$C$6,$C$5)) | H28: =IF($F28="","",ROUND($F28*MIN(1,($C$4-DATE(YEAR($C$4),1,1)+1)/365)*IF($E28<1,0,1),1)) | I28: =IF($A28="","",SUMIFS('Leave Log'!$E$5:$E$154,'Leave Log'!$A$5:$A$154,$A28,'Leave Log'!$B$5:$B$154,INDEX('Leave Log'!$I$5:$I$10,1),'Leave Log'!$F$5:$F$154,INDEX('Leave Log'!$I$13:$I$15,1),'Leave Log'!$C$5:$C$154,">="&DATE(YEAR($C$4),1,1))) | J28: =IF($A28="","",N($G28)+N($H28)-N($I28)) | K28: =IF($A28="","",SUMIFS('Leave Log'!$E$5:$E$154,'Leave Log'!$A$5:$A$154,$A28,'Leave Log'!$B$5:$B$154,INDEX('Leave Log'!$I$5:$I$10,1),'Leave Log'!$F$5:$F$154,INDEX('Leave Log'!$I$13:$I$15,2))) | L28: =IF($A28="","",SUMIFS('Leave Log'!$E$5:$E$154,'Leave Log'!$A$5:$A$154,$A28,'Leave Log'!$B$5:$B$154,INDEX('Leave Log'!$I$5:$I$10,2),'Leave Log'!$F$5:$F$154,INDEX('Leave Log'!$I$13:$I$15,1),'Leave Log'!$C$5:$C$154,">="&DATE(YEAR($C$4),1,1))) | M28: =IF($A28="","",IF($L28<=30,"100% pay",IF($L28<=90,"75% pay","Unpaid"))) | N28: =IF($A28="","",MAX(0,$J28)*$D28/$C$7) | P28: =IF($A28="","",IF($J28<0,"Negative",IF($J28>=$C$8,"High balance","OK")))
E29: =IF(OR($A29="",$C29=""),"",($C$4-$C29)/365.25) | F29: =IF($E29="","",IF($E29>=5,$C$6,$C$5)) | H29: =IF($F29="","",ROUND($F29*MIN(1,($C$4-DATE(YEAR($C$4),1,1)+1)/365)*IF($E29<1,0,1),1)) | I29: =IF($A29="","",SUMIFS('Leave Log'!$E$5:$E$154,'Leave Log'!$A$5:$A$154,$A29,'Leave Log'!$B$5:$B$154,INDEX('Leave Log'!$I$5:$I$10,1),'Leave Log'!$F$5:$F$154,INDEX('Leave Log'!$I$13:$I$15,1),'Leave Log'!$C$5:$C$154,">="&DATE(YEAR($C$4),1,1))) | J29: =IF($A29="","",N($G29)+N($H29)-N($I29)) | K29: =IF($A29="","",SUMIFS('Leave Log'!$E$5:$E$154,'Leave Log'!$A$5:$A$154,$A29,'Leave Log'!$B$5:$B$154,INDEX('Leave Log'!$I$5:$I$10,1),'Leave Log'!$F$5:$F$154,INDEX('Leave Log'!$I$13:$I$15,2))) | L29: =IF($A29="","",SUMIFS('Leave Log'!$E$5:$E$154,'Leave Log'!$A$5:$A$154,$A29,'Leave Log'!$B$5:$B$154,INDEX('Leave Log'!$I$5:$I$10,2),'Leave Log'!$F$5:$F$154,INDEX('Leave Log'!$I$13:$I$15,1),'Leave Log'!$C$5:$C$154,">="&DATE(YEAR($C$4),1,1))) | M29: =IF($A29="","",IF($L29<=30,"100% pay",IF($L29<=90,"75% pay","Unpaid"))) | N29: =IF($A29="","",MAX(0,$J29)*$D29/$C$7) | P29: =IF($A29="","",IF($J29<0,"Negative",IF($J29>=$C$8,"High balance","OK")))
E30: =IF(OR($A30="",$C30=""),"",($C$4-$C30)/365.25) | F30: =IF($E30="","",IF($E30>=5,$C$6,$C$5)) | H30: =IF($F30="","",ROUND($F30*MIN(1,($C$4-DATE(YEAR($C$4),1,1)+1)/365)*IF($E30<1,0,1),1)) | I30: =IF($A30="","",SUMIFS('Leave Log'!$E$5:$E$154,'Leave Log'!$A$5:$A$154,$A30,'Leave Log'!$B$5:$B$154,INDEX('Leave Log'!$I$5:$I$10,1),'Leave Log'!$F$5:$F$154,INDEX('Leave Log'!$I$13:$I$15,1),'Leave Log'!$C$5:$C$154,">="&DATE(YEAR($C$4),1,1))) | J30: =IF($A30="","",N($G30)+N($H30)-N($I30)) | K30: =IF($A30="","",SUMIFS('Leave Log'!$E$5:$E$154,'Leave Log'!$A$5:$A$154,$A30,'Leave Log'!$B$5:$B$154,INDEX('Leave Log'!$I$5:$I$10,1),'Leave Log'!$F$5:$F$154,INDEX('Leave Log'!$I$13:$I$15,2))) | L30: =IF($A30="","",SUMIFS('Leave Log'!$E$5:$E$154,'Leave Log'!$A$5:$A$154,$A30,'Leave Log'!$B$5:$B$154,INDEX('Leave Log'!$I$5:$I$10,2),'Leave Log'!$F$5:$F$154,INDEX('Leave Log'!$I$13:$I$15,1),'Leave Log'!$C$5:$C$154,">="&DATE(YEAR($C$4),1,1))) | M30: =IF($A30="","",IF($L30<=30,"100% pay",IF($L30<=90,"75% pay","Unpaid"))) | N30: =IF($A30="","",MAX(0,$J30)*$D30/$C$7) | P30: =IF($A30="","",IF($J30<0,"Negative",IF($J30>=$C$8,"High balance","OK")))
E31: =IF(OR($A31="",$C31=""),"",($C$4-$C31)/365.25) | F31: =IF($E31="","",IF($E31>=5,$C$6,$C$5)) | H31: =IF($F31="","",ROUND($F31*MIN(1,($C$4-DATE(YEAR($C$4),1,1)+1)/365)*IF($E31<1,0,1),1)) | I31: =IF($A31="","",SUMIFS('Leave Log'!$E$5:$E$154,'Leave Log'!$A$5:$A$154,$A31,'Leave Log'!$B$5:$B$154,INDEX('Leave Log'!$I$5:$I$10,1),'Leave Log'!$F$5:$F$154,INDEX('Leave Log'!$I$13:$I$15,1),'Leave Log'!$C$5:$C$154,">="&DATE(YEAR($C$4),1,1))) | J31: =IF($A31="","",N($G31)+N($H31)-N($I31)) | K31: =IF($A31="","",SUMIFS('Leave Log'!$E$5:$E$154,'Leave Log'!$A$5:$A$154,$A31,'Leave Log'!$B$5:$B$154,INDEX('Leave Log'!$I$5:$I$10,1),'Leave Log'!$F$5:$F$154,INDEX('Leave Log'!$I$13:$I$15,2))) | L31: =IF($A31="","",SUMIFS('Leave Log'!$E$5:$E$154,'Leave Log'!$A$5:$A$154,$A31,'Leave Log'!$B$5:$B$154,INDEX('Leave Log'!$I$5:$I$10,2),'Leave Log'!$F$5:$F$154,INDEX('Leave Log'!$I$13:$I$15,1),'Leave Log'!$C$5:$C$154,">="&DATE(YEAR($C$4),1,1))) | M31: =IF($A31="","",IF($L31<=30,"100% pay",IF($L31<=90,"75% pay","Unpaid"))) | N31: =IF($A31="","",MAX(0,$J31)*$D31/$C$7) | P31: =IF($A31="","",IF($J31<0,"Negative",IF($J31>=$C$8,"High balance","OK")))
E32: =IF(OR($A32="",$C32=""),"",($C$4-$C32)/365.25) | F32: =IF($E32="","",IF($E32>=5,$C$6,$C$5)) | H32: =IF($F32="","",ROUND($F32*MIN(1,($C$4-DATE(YEAR($C$4),1,1)+1)/365)*IF($E32<1,0,1),1)) | I32: =IF($A32="","",SUMIFS('Leave Log'!$E$5:$E$154,'Leave Log'!$A$5:$A$154,$A32,'Leave Log'!$B$5:$B$154,INDEX('Leave Log'!$I$5:$I$10,1),'Leave Log'!$F$5:$F$154,INDEX('Leave Log'!$I$13:$I$15,1),'Leave Log'!$C$5:$C$154,">="&DATE(YEAR($C$4),1,1))) | J32: =IF($A32="","",N($G32)+N($H32)-N($I32)) | K32: =IF($A32="","",SUMIFS('Leave Log'!$E$5:$E$154,'Leave Log'!$A$5:$A$154,$A32,'Leave Log'!$B$5:$B$154,INDEX('Leave Log'!$I$5:$I$10,1),'Leave Log'!$F$5:$F$154,INDEX('Leave Log'!$I$13:$I$15,2))) | L32: =IF($A32="","",SUMIFS('Leave Log'!$E$5:$E$154,'Leave Log'!$A$5:$A$154,$A32,'Leave Log'!$B$5:$B$154,INDEX('Leave Log'!$I$5:$I$10,2),'Leave Log'!$F$5:$F$154,INDEX('Leave Log'!$I$13:$I$15,1),'Leave Log'!$C$5:$C$154,">="&DATE(YEAR($C$4),1,1))) | M32: =IF($A32="","",IF($L32<=30,"100% pay",IF($L32<=90,"75% pay","Unpaid"))) | N32: =IF($A32="","",MAX(0,$J32)*$D32/$C$7) | P32: =IF($A32="","",IF($J32<0,"Negative",IF($J32>=$C$8,"High balance","OK")))
E33: =IF(OR($A33="",$C33=""),"",($C$4-$C33)/365.25) | F33: =IF($E33="","",IF($E33>=5,$C$6,$C$5)) | H33: =IF($F33="","",ROUND($F33*MIN(1,($C$4-DATE(YEAR($C$4),1,1)+1)/365)*IF($E33<1,0,1),1)) | I33: =IF($A33="","",SUMIFS('Leave Log'!$E$5:$E$154,'Leave Log'!$A$5:$A$154,$A33,'Leave Log'!$B$5:$B$154,INDEX('Leave Log'!$I$5:$I$10,1),'Leave Log'!$F$5:$F$154,INDEX('Leave Log'!$I$13:$I$15,1),'Leave Log'!$C$5:$C$154,">="&DATE(YEAR($C$4),1,1))) | J33: =IF($A33="","",N($G33)+N($H33)-N($I33)) | K33: =IF($A33="","",SUMIFS('Leave Log'!$E$5:$E$154,'Leave Log'!$A$5:$A$154,$A33,'Leave Log'!$B$5:$B$154,INDEX('Leave Log'!$I$5:$I$10,1),'Leave Log'!$F$5:$F$154,INDEX('Leave Log'!$I$13:$I$15,2))) | L33: =IF($A33="","",SUMIFS('Leave Log'!$E$5:$E$154,'Leave Log'!$A$5:$A$154,$A33,'Leave Log'!$B$5:$B$154,INDEX('Leave Log'!$I$5:$I$10,2),'Leave Log'!$F$5:$F$154,INDEX('Leave Log'!$I$13:$I$15,1),'Leave Log'!$C$5:$C$154,">="&DATE(YEAR($C$4),1,1))) | M33: =IF($A33="","",IF($L33<=30,"100% pay",IF($L33<=90,"75% pay","Unpaid"))) | N33: =IF($A33="","",MAX(0,$J33)*$D33/$C$7) | P33: =IF($A33="","",IF($J33<0,"Negative",IF($J33>=$C$8,"High balance","OK")))
E34: =IF(OR($A34="",$C34=""),"",($C$4-$C34)/365.25) | F34: =IF($E34="","",IF($E34>=5,$C$6,$C$5)) | H34: =IF($F34="","",ROUND($F34*MIN(1,($C$4-DATE(YEAR($C$4),1,1)+1)/365)*IF($E34<1,0,1),1)) | I34: =IF($A34="","",SUMIFS('Leave Log'!$E$5:$E$154,'Leave Log'!$A$5:$A$154,$A34,'Leave Log'!$B$5:$B$154,INDEX('Leave Log'!$I$5:$I$10,1),'Leave Log'!$F$5:$F$154,INDEX('Leave Log'!$I$13:$I$15,1),'Leave Log'!$C$5:$C$154,">="&DATE(YEAR($C$4),1,1))) | J34: =IF($A34="","",N($G34)+N($H34)-N($I34)) | K34: =IF($A34="","",SUMIFS('Leave Log'!$E$5:$E$154,'Leave Log'!$A$5:$A$154,$A34,'Leave Log'!$B$5:$B$154,INDEX('Leave Log'!$I$5:$I$10,1),'Leave Log'!$F$5:$F$154,INDEX('Leave Log'!$I$13:$I$15,2))) | L34: =IF($A34="","",SUMIFS('Leave Log'!$E$5:$E$154,'Leave Log'!$A$5:$A$154,$A34,'Leave Log'!$B$5:$B$154,INDEX('Leave Log'!$I$5:$I$10,2),'Leave Log'!$F$5:$F$154,INDEX('Leave Log'!$I$13:$I$15,1),'Leave Log'!$C$5:$C$154,">="&DATE(YEAR($C$4),1,1))) | M34: =IF($A34="","",IF($L34<=30,"100% pay",IF($L34<=90,"75% pay","Unpaid"))) | N34: =IF($A34="","",MAX(0,$J34)*$D34/$C$7) | P34: =IF($A34="","",IF($J34<0,"Negative",IF($J34>=$C$8,"High balance","OK")))
E35: =IF(OR($A35="",$C35=""),"",($C$4-$C35)/365.25) | F35: =IF($E35="","",IF($E35>=5,$C$6,$C$5)) | H35: =IF($F35="","",ROUND($F35*MIN(1,($C$4-DATE(YEAR($C$4),1,1)+1)/365)*IF($E35<1,0,1),1)) | I35: =IF($A35="","",SUMIFS('Leave Log'!$E$5:$E$154,'Leave Log'!$A$5:$A$154,$A35,'Leave Log'!$B$5:$B$154,INDEX('Leave Log'!$I$5:$I$10,1),'Leave Log'!$F$5:$F$154,INDEX('Leave Log'!$I$13:$I$15,1),'Leave Log'!$C$5:$C$154,">="&DATE(YEAR($C$4),1,1))) | J35: =IF($A35="","",N($G35)+N($H35)-N($I35)) | K35: =IF($A35="","",SUMIFS('Leave Log'!$E$5:$E$154,'Leave Log'!$A$5:$A$154,$A35,'Leave Log'!$B$5:$B$154,INDEX('Leave Log'!$I$5:$I$10,1),'Leave Log'!$F$5:$F$154,INDEX('Leave Log'!$I$13:$I$15,2))) | L35: =IF($A35="","",SUMIFS('Leave Log'!$E$5:$E$154,'Leave Log'!$A$5:$A$154,$A35,'Leave Log'!$B$5:$B$154,INDEX('Leave Log'!$I$5:$I$10,2),'Leave Log'!$F$5:$F$154,INDEX('Leave Log'!$I$13:$I$15,1),'Leave Log'!$C$5:$C$154,">="&DATE(YEAR($C$4),1,1))) | M35: =IF($A35="","",IF($L35<=30,"100% pay",IF($L35<=90,"75% pay","Unpaid"))) | N35: =IF($A35="","",MAX(0,$J35)*$D35/$C$7) | P35: =IF($A35="","",IF($J35<0,"Negative",IF($J35>=$C$8,"High balance","OK")))
E36: =IF(OR($A36="",$C36=""),"",($C$4-$C36)/365.25) | F36: =IF($E36="","",IF($E36>=5,$C$6,$C$5)) | H36: =IF($F36="","",ROUND($F36*MIN(1,($C$4-DATE(YEAR($C$4),1,1)+1)/365)*IF($E36<1,0,1),1)) | I36: =IF($A36="","",SUMIFS('Leave Log'!$E$5:$E$154,'Leave Log'!$A$5:$A$154,$A36,'Leave Log'!$B$5:$B$154,INDEX('Leave Log'!$I$5:$I$10,1),'Leave Log'!$F$5:$F$154,INDEX('Leave Log'!$I$13:$I$15,1),'Leave Log'!$C$5:$C$154,">="&DATE(YEAR($C$4),1,1))) | J36: =IF($A36="","",N($G36)+N($H36)-N($I36)) | K36: =IF($A36="","",SUMIFS('Leave Log'!$E$5:$E$154,'Leave Log'!$A$5:$A$154,$A36,'Leave Log'!$B$5:$B$154,INDEX('Leave Log'!$I$5:$I$10,1),'Leave Log'!$F$5:$F$154,INDEX('Leave Log'!$I$13:$I$15,2))) | L36: =IF($A36="","",SUMIFS('Leave Log'!$E$5:$E$154,'Leave Log'!$A$5:$A$154,$A36,'Leave Log'!$B$5:$B$154,INDEX('Leave Log'!$I$5:$I$10,2),'Leave Log'!$F$5:$F$154,INDEX('Leave Log'!$I$13:$I$15,1),'Leave Log'!$C$5:$C$154,">="&DATE(YEAR($C$4),1,1))) | M36: =IF($A36="","",IF($L36<=30,"100% pay",IF($L36<=90,"75% pay","Unpaid"))) | N36: =IF($A36="","",MAX(0,$J36)*$D36/$C$7) | P36: =IF($A36="","",IF($J36<0,"Negative",IF($J36>=$C$8,"High balance","OK")))
E37: =IF(OR($A37="",$C37=""),"",($C$4-$C37)/365.25) | F37: =IF($E37="","",IF($E37>=5,$C$6,$C$5)) | H37: =IF($F37="","",ROUND($F37*MIN(1,($C$4-DATE(YEAR($C$4),1,1)+1)/365)*IF($E37<1,0,1),1)) | I37: =IF($A37="","",SUMIFS('Leave Log'!$E$5:$E$154,'Leave Log'!$A$5:$A$154,$A37,'Leave Log'!$B$5:$B$154,INDEX('Leave Log'!$I$5:$I$10,1),'Leave Log'!$F$5:$F$154,INDEX('Leave Log'!$I$13:$I$15,1),'Leave Log'!$C$5:$C$154,">="&DATE(YEAR($C$4),1,1))) | J37: =IF($A37="","",N($G37)+N($H37)-N($I37)) | K37: =IF($A37="","",SUMIFS('Leave Log'!$E$5:$E$154,'Leave Log'!$A$5:$A$154,$A37,'Leave Log'!$B$5:$B$154,INDEX('Leave Log'!$I$5:$I$10,1),'Leave Log'!$F$5:$F$154,INDEX('Leave Log'!$I$13:$I$15,2))) | L37: =IF($A37="","",SUMIFS('Leave Log'!$E$5:$E$154,'Leave Log'!$A$5:$A$154,$A37,'Leave Log'!$B$5:$B$154,INDEX('Leave Log'!$I$5:$I$10,2),'Leave Log'!$F$5:$F$154,INDEX('Leave Log'!$I$13:$I$15,1),'Leave Log'!$C$5:$C$154,">="&DATE(YEAR($C$4),1,1))) | M37: =IF($A37="","",IF($L37<=30,"100% pay",IF($L37<=90,"75% pay","Unpaid"))) | N37: =IF($A37="","",MAX(0,$J37)*$D37/$C$7) | P37: =IF($A37="","",IF($J37<0,"Negative",IF($J37>=$C$8,"High balance","OK")))
... E45: =IF(OR($A45="",$C45=""),"",($C$4-$C45)/365.25) | F45: =IF($E45="","",IF($E45>=5,$C$6,$C$5)) | H45: =IF($F45="","",ROUND($F45*MIN(1,($C$4-DATE(YEAR($C$4),1,1)+1)/365)*IF($E45<1,0,1),1)) | I45: =IF($A45="","",SUMIFS('Leave Log'!$E$5:$E$154,'Leave Log'!$A$5:$A$154,$A45,'Leave Log'!$B$5:$B$154,INDEX('Leave Log'!$I$5:$I$10,1),'Leave Log'!$F$5:$F$154,INDEX('Leave Log'!$I$13:$I$15,1),'Leave Log'!$C$5:$C$154,">="&DATE(YEAR($C$4),1,1))) | J45: =IF($A45="","",N($G45)+N($H45)-N($I45)) | K45: =IF($A45="","",SUMIFS('Leave Log'!$E$5:$E$154,'Leave Log'!$A$5:$A$154,$A45,'Leave Log'!$B$5:$B$154,INDEX('Leave Log'!$I$5:$I$10,1),'Leave Log'!$F$5:$F$154,INDEX('Leave Log'!$I$13:$I$15,2))) | L45: =IF($A45="","",SUMIFS('Leave Log'!$E$5:$E$154,'Leave Log'!$A$5:$A$154,$A45,'Leave Log'!$B$5:$B$154,INDEX('Leave Log'!$I$5:$I$10,2),'Leave Log'!$F$5:$F$154,INDEX('Leave Log'!$I$13:$I$15,1),'Leave Log'!$C$5:$C$154,">="&DATE(YEAR($C$4),1,1))) | M45: =IF($A45="","",IF($L45<=30,"100% pay",IF($L45<=90,"75% pay","Unpaid"))) | N45: =IF($A45="","",MAX(0,$J45)*$D45/$C$7) | P45: =IF($A45="","",IF($J45<0,"Negative",IF($J45>=$C$8,"High balance","OK")))

Sheet Leave Log
A1: Leave Log
A2: Log each request with start and end; working days exclude Friday, Saturday and the holidays
A4: Employee | B4: Type | C4: From | D4: To | E4: Work days | F4: Status | G4: Note | I4: Leave type | M4: Department
A5: Ahmed Al-Otaibi | B5: Annual leave | C5: 46168 | D5: 46177 | E5: =IF(OR(C5="",D5=""),"",NETWORKDAYS.INTL(C5,D5,"0000110",$I$18:$I$27)) | F5: Approved | I5: Annual leave | M5: Maintenance
A6: Ahmed Al-Otaibi | B6: Annual leave | C6: 46258 | D6: 46266 | E6: =IF(OR(C6="",D6=""),"",NETWORKDAYS.INTL(C6,D6,"0000110",$I$18:$I$27)) | F6: Approved | I6: Sick leave | M6: Sales
A7: Khaled Al-Harbi | B7: Annual leave | C7: 46198 | D7: 46211 | E7: =IF(OR(C7="",D7=""),"",NETWORKDAYS.INTL(C7,D7,"0000110",$I$18:$I$27)) | F7: Approved | I7: Unpaid leave | M7: Accounts
A8: Khaled Al-Harbi | B8: Sick leave | C8: 46278 | D8: 46280 | E8: =IF(OR(C8="",D8=""),"",NETWORKDAYS.INTL(C8,D8,"0000110",$I$18:$I$27)) | F8: Approved | I8: Marriage leave | M8: Warehouse
A9: Saad Al-Qahtani | B9: Annual leave | C9: 46118 | D9: 46135 | E9: =IF(OR(C9="",D9=""),"",NETWORKDAYS.INTL(C9,D9,"0000110",$I$18:$I$27)) | F9: Approved | I9: Bereavement leave | M9: Admin
A10: Majed Al-Shammari | B10: Annual leave | C10: 46228 | D10: 46238 | E10: =IF(OR(C10="",D10=""),"",NETWORKDAYS.INTL(C10,D10,"0000110",$I$18:$I$27)) | F10: Approved | I10: Hajj leave
A11: Majed Al-Shammari | B11: Annual leave | C11: 46316 | D11: 46324 | E11: =IF(OR(C11="",D11=""),"",NETWORKDAYS.INTL(C11,D11,"0000110",$I$18:$I$27)) | F11: Approved
A12: Fahad Al-Dosari | B12: Annual leave | C12: 46288 | D12: 46294 | E12: =IF(OR(C12="",D12=""),"",NETWORKDAYS.INTL(C12,D12,"0000110",$I$18:$I$27)) | F12: Approved | I12: Status
A13: Omar Al-Zahrani | B13: Annual leave | C13: 46148 | D13: 46163 | E13: =IF(OR(C13="",D13=""),"",NETWORKDAYS.INTL(C13,D13,"0000110",$I$18:$I$27)) | F13: Approved | I13: Approved
A14: Omar Al-Zahrani | B14: Annual leave | C14: 46243 | D14: 46260 | E14: =IF(OR(C14="",D14=""),"",NETWORKDAYS.INTL(C14,D14,"0000110",$I$18:$I$27)) | F14: Approved | I14: Pending
A15: Omar Al-Zahrani | B15: Sick leave | C15: 46298 | D15: 46301 | E15: =IF(OR(C15="",D15=""),"",NETWORKDAYS.INTL(C15,D15,"0000110",$I$18:$I$27)) | F15: Approved | I15: Rejected
A16: Yousef Al-Mutairi | B16: Annual leave | C16: 46268 | D16: 46275 | E16: =IF(OR(C16="",D16=""),"",NETWORKDAYS.INTL(C16,D16,"0000110",$I$18:$I$27)) | F16: Approved
A17: Badr Al-Subaie | B17: Marriage leave | C17: 46178 | D17: 46184 | E17: =IF(OR(C17="",D17=""),"",NETWORKDAYS.INTL(C17,D17,"0000110",$I$18:$I$27)) | F17: Approved | I17: Public holidays
A18: Badr Al-Subaie | B18: Annual leave | C18: 46332 | D18: 46340 | E18: =IF(OR(C18="",D18=""),"",NETWORKDAYS.INTL(C18,D18,"0000110",$I$18:$I$27)) | F18: Pending | I18: 46288
A19: Turki Al-Anazi | B19: Annual leave | C19: 46308 | D19: 46309 | E19: =IF(OR(C19="",D19=""),"",NETWORKDAYS.INTL(C19,D19,"0000110",$I$18:$I$27)) | F19: Approved | I19: 46440
A20: Nayef Al-Ghamdi | B20: Annual leave | C20: 46218 | D20: 46235 | E20: =IF(OR(C20="",D20=""),"",NETWORKDAYS.INTL(C20,D20,"0000110",$I$18:$I$27)) | F20: Approved
A21: Nayef Al-Ghamdi | B21: Annual leave | C21: 46273 | D21: 46286 | E21: =IF(OR(C21="",D21=""),"",NETWORKDAYS.INTL(C21,D21,"0000110",$I$18:$I$27)) | F21: Approved
A22: Nayef Al-Ghamdi | B22: Sick leave | C22: 46303 | D22: 46310 | E22: =IF(OR(C22="",D22=""),"",NETWORKDAYS.INTL(C22,D22,"0000110",$I$18:$I$27)) | F22: Approved
A23: Waleed Al-Buqami | B23: Annual leave | C23: 46348 | D23: 46354 | E23: =IF(OR(C23="",D23=""),"",NETWORKDAYS.INTL(C23,D23,"0000110",$I$18:$I$27)) | F23: Pending
A24: Salman Al-Juhani | B24: Annual leave | C24: 46238 | D24: 46247 | E24: =IF(OR(C24="",D24=""),"",NETWORKDAYS.INTL(C24,D24,"0000110",$I$18:$I$27)) | F24: Approved
A25: Salman Al-Juhani | B25: Sick leave | C25: 46312 | D25: 46313 | E25: =IF(OR(C25="",D25=""),"",NETWORKDAYS.INTL(C25,D25,"0000110",$I$18:$I$27)) | F25: Approved
A26: Saad Al-Qahtani | B26: Unpaid leave | C26: 46293 | D26: 46295 | E26: =IF(OR(C26="",D26=""),"",NETWORKDAYS.INTL(C26,D26,"0000110",$I$18:$I$27)) | F26: Approved
A27: Fahad Al-Dosari | B27: Annual leave | C27: 46325 | D27: 46328 | E27: =IF(OR(C27="",D27=""),"",NETWORKDAYS.INTL(C27,D27,"0000110",$I$18:$I$27)) | F27: Pending
A28: Yousef Al-Mutairi | B28: Sick leave | C28: 46315 | D28: 46317 | E28: =IF(OR(C28="",D28=""),"",NETWORKDAYS.INTL(C28,D28,"0000110",$I$18:$I$27)) | F28: Approved
A29: Khaled Al-Harbi | B29: Annual leave | C29: 46339 | D29: 46346 | E29: =IF(OR(C29="",D29=""),"",NETWORKDAYS.INTL(C29,D29,"0000110",$I$18:$I$27)) | F29: Pending
A30: Turki Al-Anazi | B30: Hajj leave | C30: 46378 | D30: 46391 | E30: =IF(OR(C30="",D30=""),"",NETWORKDAYS.INTL(C30,D30,"0000110",$I$18:$I$27)) | F30: Rejected
E31: =IF(OR(C31="",D31=""),"",NETWORKDAYS.INTL(C31,D31,"0000110",$I$18:$I$27))
E32: =IF(OR(C32="",D32=""),"",NETWORKDAYS.INTL(C32,D32,"0000110",$I$18:$I$27))
E33: =IF(OR(C33="",D33=""),"",NETWORKDAYS.INTL(C33,D33,"0000110",$I$18:$I$27))
E34: =IF(OR(C34="",D34=""),"",NETWORKDAYS.INTL(C34,D34,"0000110",$I$18:$I$27))
E35: =IF(OR(C35="",D35=""),"",NETWORKDAYS.INTL(C35,D35,"0000110",$I$18:$I$27))
E36: =IF(OR(C36="",D36=""),"",NETWORKDAYS.INTL(C36,D36,"0000110",$I$18:$I$27))
E37: =IF(OR(C37="",D37=""),"",NETWORKDAYS.INTL(C37,D37,"0000110",$I$18:$I$27))
E38: =IF(OR(C38="",D38=""),"",NETWORKDAYS.INTL(C38,D38,"0000110",$I$18:$I$27))
E39: =IF(OR(C39="",D39=""),"",NETWORKDAYS.INTL(C39,D39,"0000110",$I$18:$I$27))
E40: =IF(OR(C40="",D40=""),"",NETWORKDAYS.INTL(C40,D40,"0000110",$I$18:$I$27))
E41: =IF(OR(C41="",D41=""),"",NETWORKDAYS.INTL(C41,D41,"0000110",$I$18:$I$27))
...

Sheet Guide
A1: How to use: Leave balances
A2: Sheetaky.com · Ready Excel sheets in Arabic and English
A4: What is this sheet?
A5: Tracks annual and sick leave balances from the request log, counts working days excluding weekends and public holidays, and estimates the value of accrued balances.
A7: Steps
A8: 1 | B8: List employees with hire dates, salaries and carry-over.
A9: 2 | B9: Log each leave request on the log sheet and set its status.
A10: 3 | B10: Add public holidays to their list so they are excluded.
A11: 4 | B11: Review high and negative balances and pending requests.
A13: Color legend
B14: Input cell: type or choose your value here (blue text on yellow).
B15: Calculated cell: automatic formula, protected from accidental edits.
B16: Table and section headers.
A18: Important notes
A19: • | B19: Entitlement: 21 days, 30 days after five years of service (editable).
A20: • | B20: Balance = carry-over + accrued to date − used.
A21: • | B21: Balance value = balance × salary ÷ month days.
A22: • | B22: Figures are for management; refer to the labour law and your company policy.
A23: • | B23: Sheets are protected without a password to keep formulas safe. To unprotect: Review → Unprotect Sheet.
A24: • | B24: The data shown is a worked example. Clear it and type your own data in the yellow cells only.
A25: • | B25: More free sheets in Arabic and English at Sheetaky.com
