Workbook

Sheet Inventory
A1: Inventory Management: Stock, Reorder Points and Dead Stock
A3: Log receipts and sales on the moves sheet; get stock, reorder points, suggested quantities, stock value and ABC class
A4: Settings | F4: Stock value (cost) | I4: Value at selling price | L4: Items to reorder | V4: Category
A5: Report date | D5: 46318 | F5: =SUM($R$16:$R$55) | I5: =SUMPRODUCT($J$16:$J$55,$F$16:$F$55) | L5: =COUNTIF($P$16:$P$55,"Reorder")+COUNTIF($P$16:$P$55,"Out") | V5: Cables
A6: Sales window (days) | D6: 30 | V6: Protection
A7: Days without sale = dead | D7: 60 | F7: Out of stock | I7: Dead stock items | L7: Dead stock value | V7: Lighting
A8: Order cover days | D8: 30 | F8: =COUNTIF($P$16:$P$55,"Out") | I8: =COUNTIF($P$16:$P$55,"Dead") | L8: =SUMIF($P$16:$P$55,"Dead",$R$16:$R$55) | V8: Accessories
V9: Tools
F10: Suggested order cost
F11: =SUMPRODUCT($Q$16:$Q$55,$E$16:$E$55) | V11: Move type
V12: In
V13: Out
A14: Items
A15: SKU | B15: Item | C15: Category | D15: Unit | E15: Cost | F15: Price | G15: Opening | H15: In | I15: Out | J15: On hand | K15: Avg daily sales | L15: Lead days | M15: Safety | N15: Reorder point | O15: Days cover | P15: Status | Q15: Order qty | R15: Stock value | S15: Margin % | T15: ABC
A16: CB-025 | B16: Copper cable 2.5 mm² (100 m roll) | C16: Cables | D16: roll | E16: 215 | F16: 265 | G16: 40 | H16: =IF(A16="","",SUMIFS('Stock Moves'!$E$5:$E$604,'Stock Moves'!$B$5:$B$604,A16,'Stock Moves'!$D$5:$D$604,INDEX($V$12:$V$13,1),'Stock Moves'!$A$5:$A$604,"<="&$D$5)) | I16: =IF(A16="","",SUMIFS('Stock Moves'!$E$5:$E$604,'Stock Moves'!$B$5:$B$604,A16,'Stock Moves'!$D$5:$D$604,INDEX($V$12:$V$13,2),'Stock Moves'!$A$5:$A$604,"<="&$D$5)) | J16: =IF(A16="","",N(G16)+H16-I16) | K16: =IF(A16="","",SUMIFS('Stock Moves'!$E$5:$E$604,'Stock Moves'!$B$5:$B$604,A16,'Stock Moves'!$D$5:$D$604,INDEX($V$12:$V$13,2),'Stock Moves'!$A$5:$A$604,">"&($D$5-$D$6),'Stock Moves'!$A$5:$A$604,"<="&$D$5)/$D$6) | L16: 7 | M16: 6 | N16: =IF(A16="","",ROUNDUP(K16*N(L16)+N(M16),0)) | O16: =IF(A16="","",IF(K16=0,"∞",J16/K16)) | P16: =IF(A16="","",IF(J16<=0,"Out",IF(J16<=N16,"Reorder",IF(COUNTIFS('Stock Moves'!$B$5:$B$604,A16,'Stock Moves'!$D$5:$D$604,INDEX($V$12:$V$13,2),'Stock Moves'!$A$5:$A$604,">"&($D$5-$D$7),'Stock Moves'!$A$5:$A$604,"<="&$D$5)=0,"Dead","OK")))) | Q16: =IF(A16="","",IF(OR(P16="Out",P16="Reorder"),MAX(0,ROUNDUP(K16*(N(L16)+$D$8)+N(M16)-J16,0)),0)) | R16: =IF(A16="","",J16*N(E16)) | S16: =IF(OR(A16="",N(F16)=0),"",(F16-N(E16))/F16) | T16: =IF(OR(A16="",N(R16)=0),"",IF(SUMIF($R$16:$R$55,">="&R16)/SUM($R$16:$R$55)<=0.8,"A",IF(SUMIF($R$16:$R$55,">="&R16)/SUM($R$16:$R$55)<=0.95,"B","C")))
A17: CB-040 | B17: Copper cable 4 mm² (100 m roll) | C17: Cables | D17: roll | E17: 340 | F17: 410 | G17: 25 | H17: =IF(A17="","",SUMIFS('Stock Moves'!$E$5:$E$604,'Stock Moves'!$B$5:$B$604,A17,'Stock Moves'!$D$5:$D$604,INDEX($V$12:$V$13,1),'Stock Moves'!$A$5:$A$604,"<="&$D$5)) | I17: =IF(A17="","",SUMIFS('Stock Moves'!$E$5:$E$604,'Stock Moves'!$B$5:$B$604,A17,'Stock Moves'!$D$5:$D$604,INDEX($V$12:$V$13,2),'Stock Moves'!$A$5:$A$604,"<="&$D$5)) | J17: =IF(A17="","",N(G17)+H17-I17) | K17: =IF(A17="","",SUMIFS('Stock Moves'!$E$5:$E$604,'Stock Moves'!$B$5:$B$604,A17,'Stock Moves'!$D$5:$D$604,INDEX($V$12:$V$13,2),'Stock Moves'!$A$5:$A$604,">"&($D$5-$D$6),'Stock Moves'!$A$5:$A$604,"<="&$D$5)/$D$6) | L17: 7 | M17: 4 | N17: =IF(A17="","",ROUNDUP(K17*N(L17)+N(M17),0)) | O17: =IF(A17="","",IF(K17=0,"∞",J17/K17)) | P17: =IF(A17="","",IF(J17<=0,"Out",IF(J17<=N17,"Reorder",IF(COUNTIFS('Stock Moves'!$B$5:$B$604,A17,'Stock Moves'!$D$5:$D$604,INDEX($V$12:$V$13,2),'Stock Moves'!$A$5:$A$604,">"&($D$5-$D$7),'Stock Moves'!$A$5:$A$604,"<="&$D$5)=0,"Dead","OK")))) | Q17: =IF(A17="","",IF(OR(P17="Out",P17="Reorder"),MAX(0,ROUNDUP(K17*(N(L17)+$D$8)+N(M17)-J17,0)),0)) | R17: =IF(A17="","",J17*N(E17)) | S17: =IF(OR(A17="",N(F17)=0),"",(F17-N(E17))/F17) | T17: =IF(OR(A17="",N(R17)=0),"",IF(SUMIF($R$16:$R$55,">="&R17)/SUM($R$16:$R$55)<=0.8,"A",IF(SUMIF($R$16:$R$55,">="&R17)/SUM($R$16:$R$55)<=0.95,"B","C")))
A18: CB-060 | B18: Copper cable 6 mm² (100 m roll) | C18: Cables | D18: roll | E18: 505 | F18: 600 | G18: 18 | H18: =IF(A18="","",SUMIFS('Stock Moves'!$E$5:$E$604,'Stock Moves'!$B$5:$B$604,A18,'Stock Moves'!$D$5:$D$604,INDEX($V$12:$V$13,1),'Stock Moves'!$A$5:$A$604,"<="&$D$5)) | I18: =IF(A18="","",SUMIFS('Stock Moves'!$E$5:$E$604,'Stock Moves'!$B$5:$B$604,A18,'Stock Moves'!$D$5:$D$604,INDEX($V$12:$V$13,2),'Stock Moves'!$A$5:$A$604,"<="&$D$5)) | J18: =IF(A18="","",N(G18)+H18-I18) | K18: =IF(A18="","",SUMIFS('Stock Moves'!$E$5:$E$604,'Stock Moves'!$B$5:$B$604,A18,'Stock Moves'!$D$5:$D$604,INDEX($V$12:$V$13,2),'Stock Moves'!$A$5:$A$604,">"&($D$5-$D$6),'Stock Moves'!$A$5:$A$604,"<="&$D$5)/$D$6) | L18: 7 | M18: 3 | N18: =IF(A18="","",ROUNDUP(K18*N(L18)+N(M18),0)) | O18: =IF(A18="","",IF(K18=0,"∞",J18/K18)) | P18: =IF(A18="","",IF(J18<=0,"Out",IF(J18<=N18,"Reorder",IF(COUNTIFS('Stock Moves'!$B$5:$B$604,A18,'Stock Moves'!$D$5:$D$604,INDEX($V$12:$V$13,2),'Stock Moves'!$A$5:$A$604,">"&($D$5-$D$7),'Stock Moves'!$A$5:$A$604,"<="&$D$5)=0,"Dead","OK")))) | Q18: =IF(A18="","",IF(OR(P18="Out",P18="Reorder"),MAX(0,ROUNDUP(K18*(N(L18)+$D$8)+N(M18)-J18,0)),0)) | R18: =IF(A18="","",J18*N(E18)) | S18: =IF(OR(A18="",N(F18)=0),"",(F18-N(E18))/F18) | T18: =IF(OR(A18="",N(R18)=0),"",IF(SUMIF($R$16:$R$55,">="&R18)/SUM($R$16:$R$55)<=0.8,"A",IF(SUMIF($R$16:$R$55,">="&R18)/SUM($R$16:$R$55)<=0.95,"B","C"))) | V18: Category | W18: Stock value
A19: BR-016 | B19: MCB 16 A single pole | C19: Protection | D19: pc | E19: 14 | F19: 22 | G19: 200 | H19: =IF(A19="","",SUMIFS('Stock Moves'!$E$5:$E$604,'Stock Moves'!$B$5:$B$604,A19,'Stock Moves'!$D$5:$D$604,INDEX($V$12:$V$13,1),'Stock Moves'!$A$5:$A$604,"<="&$D$5)) | I19: =IF(A19="","",SUMIFS('Stock Moves'!$E$5:$E$604,'Stock Moves'!$B$5:$B$604,A19,'Stock Moves'!$D$5:$D$604,INDEX($V$12:$V$13,2),'Stock Moves'!$A$5:$A$604,"<="&$D$5)) | J19: =IF(A19="","",N(G19)+H19-I19) | K19: =IF(A19="","",SUMIFS('Stock Moves'!$E$5:$E$604,'Stock Moves'!$B$5:$B$604,A19,'Stock Moves'!$D$5:$D$604,INDEX($V$12:$V$13,2),'Stock Moves'!$A$5:$A$604,">"&($D$5-$D$6),'Stock Moves'!$A$5:$A$604,"<="&$D$5)/$D$6) | L19: 10 | M19: 40 | N19: =IF(A19="","",ROUNDUP(K19*N(L19)+N(M19),0)) | O19: =IF(A19="","",IF(K19=0,"∞",J19/K19)) | P19: =IF(A19="","",IF(J19<=0,"Out",IF(J19<=N19,"Reorder",IF(COUNTIFS('Stock Moves'!$B$5:$B$604,A19,'Stock Moves'!$D$5:$D$604,INDEX($V$12:$V$13,2),'Stock Moves'!$A$5:$A$604,">"&($D$5-$D$7),'Stock Moves'!$A$5:$A$604,"<="&$D$5)=0,"Dead","OK")))) | Q19: =IF(A19="","",IF(OR(P19="Out",P19="Reorder"),MAX(0,ROUNDUP(K19*(N(L19)+$D$8)+N(M19)-J19,0)),0)) | R19: =IF(A19="","",J19*N(E19)) | S19: =IF(OR(A19="",N(F19)=0),"",(F19-N(E19))/F19) | T19: =IF(OR(A19="",N(R19)=0),"",IF(SUMIF($R$16:$R$55,">="&R19)/SUM($R$16:$R$55)<=0.8,"A",IF(SUMIF($R$16:$R$55,">="&R19)/SUM($R$16:$R$55)<=0.95,"B","C"))) | V19: =INDEX($V$5:$V$9,1) | W19: =SUMIF($C$16:$C$55,V19,$R$16:$R$55)
A20: BR-032 | B20: MCB 32 A single pole | C20: Protection | D20: pc | E20: 17 | F20: 27 | G20: 150 | H20: =IF(A20="","",SUMIFS('Stock Moves'!$E$5:$E$604,'Stock Moves'!$B$5:$B$604,A20,'Stock Moves'!$D$5:$D$604,INDEX($V$12:$V$13,1),'Stock Moves'!$A$5:$A$604,"<="&$D$5)) | I20: =IF(A20="","",SUMIFS('Stock Moves'!$E$5:$E$604,'Stock Moves'!$B$5:$B$604,A20,'Stock Moves'!$D$5:$D$604,INDEX($V$12:$V$13,2),'Stock Moves'!$A$5:$A$604,"<="&$D$5)) | J20: =IF(A20="","",N(G20)+H20-I20) | K20: =IF(A20="","",SUMIFS('Stock Moves'!$E$5:$E$604,'Stock Moves'!$B$5:$B$604,A20,'Stock Moves'!$D$5:$D$604,INDEX($V$12:$V$13,2),'Stock Moves'!$A$5:$A$604,">"&($D$5-$D$6),'Stock Moves'!$A$5:$A$604,"<="&$D$5)/$D$6) | L20: 10 | M20: 30 | N20: =IF(A20="","",ROUNDUP(K20*N(L20)+N(M20),0)) | O20: =IF(A20="","",IF(K20=0,"∞",J20/K20)) | P20: =IF(A20="","",IF(J20<=0,"Out",IF(J20<=N20,"Reorder",IF(COUNTIFS('Stock Moves'!$B$5:$B$604,A20,'Stock Moves'!$D$5:$D$604,INDEX($V$12:$V$13,2),'Stock Moves'!$A$5:$A$604,">"&($D$5-$D$7),'Stock Moves'!$A$5:$A$604,"<="&$D$5)=0,"Dead","OK")))) | Q20: =IF(A20="","",IF(OR(P20="Out",P20="Reorder"),MAX(0,ROUNDUP(K20*(N(L20)+$D$8)+N(M20)-J20,0)),0)) | R20: =IF(A20="","",J20*N(E20)) | S20: =IF(OR(A20="",N(F20)=0),"",(F20-N(E20))/F20) | T20: =IF(OR(A20="",N(R20)=0),"",IF(SUMIF($R$16:$R$55,">="&R20)/SUM($R$16:$R$55)<=0.8,"A",IF(SUMIF($R$16:$R$55,">="&R20)/SUM($R$16:$R$55)<=0.95,"B","C"))) | V20: =INDEX($V$5:$V$9,2) | W20: =SUMIF($C$16:$C$55,V20,$R$16:$R$55)
A21: BR-063 | B21: MCB 63 A three pole | C21: Protection | D21: pc | E21: 120 | F21: 165 | G21: 30 | H21: =IF(A21="","",SUMIFS('Stock Moves'!$E$5:$E$604,'Stock Moves'!$B$5:$B$604,A21,'Stock Moves'!$D$5:$D$604,INDEX($V$12:$V$13,1),'Stock Moves'!$A$5:$A$604,"<="&$D$5)) | I21: =IF(A21="","",SUMIFS('Stock Moves'!$E$5:$E$604,'Stock Moves'!$B$5:$B$604,A21,'Stock Moves'!$D$5:$D$604,INDEX($V$12:$V$13,2),'Stock Moves'!$A$5:$A$604,"<="&$D$5)) | J21: =IF(A21="","",N(G21)+H21-I21) | K21: =IF(A21="","",SUMIFS('Stock Moves'!$E$5:$E$604,'Stock Moves'!$B$5:$B$604,A21,'Stock Moves'!$D$5:$D$604,INDEX($V$12:$V$13,2),'Stock Moves'!$A$5:$A$604,">"&($D$5-$D$6),'Stock Moves'!$A$5:$A$604,"<="&$D$5)/$D$6) | L21: 10 | M21: 6 | N21: =IF(A21="","",ROUNDUP(K21*N(L21)+N(M21),0)) | O21: =IF(A21="","",IF(K21=0,"∞",J21/K21)) | P21: =IF(A21="","",IF(J21<=0,"Out",IF(J21<=N21,"Reorder",IF(COUNTIFS('Stock Moves'!$B$5:$B$604,A21,'Stock Moves'!$D$5:$D$604,INDEX($V$12:$V$13,2),'Stock Moves'!$A$5:$A$604,">"&($D$5-$D$7),'Stock Moves'!$A$5:$A$604,"<="&$D$5)=0,"Dead","OK")))) | Q21: =IF(A21="","",IF(OR(P21="Out",P21="Reorder"),MAX(0,ROUNDUP(K21*(N(L21)+$D$8)+N(M21)-J21,0)),0)) | R21: =IF(A21="","",J21*N(E21)) | S21: =IF(OR(A21="",N(F21)=0),"",(F21-N(E21))/F21) | T21: =IF(OR(A21="",N(R21)=0),"",IF(SUMIF($R$16:$R$55,">="&R21)/SUM($R$16:$R$55)<=0.8,"A",IF(SUMIF($R$16:$R$55,">="&R21)/SUM($R$16:$R$55)<=0.95,"B","C"))) | V21: =INDEX($V$5:$V$9,3) | W21: =SUMIF($C$16:$C$55,V21,$R$16:$R$55)
A22: RC-040 | B22: RCD 40 A 30 mA | C22: Protection | D22: pc | E22: 95 | F22: 140 | G22: 25 | H22: =IF(A22="","",SUMIFS('Stock Moves'!$E$5:$E$604,'Stock Moves'!$B$5:$B$604,A22,'Stock Moves'!$D$5:$D$604,INDEX($V$12:$V$13,1),'Stock Moves'!$A$5:$A$604,"<="&$D$5)) | I22: =IF(A22="","",SUMIFS('Stock Moves'!$E$5:$E$604,'Stock Moves'!$B$5:$B$604,A22,'Stock Moves'!$D$5:$D$604,INDEX($V$12:$V$13,2),'Stock Moves'!$A$5:$A$604,"<="&$D$5)) | J22: =IF(A22="","",N(G22)+H22-I22) | K22: =IF(A22="","",SUMIFS('Stock Moves'!$E$5:$E$604,'Stock Moves'!$B$5:$B$604,A22,'Stock Moves'!$D$5:$D$604,INDEX($V$12:$V$13,2),'Stock Moves'!$A$5:$A$604,">"&($D$5-$D$6),'Stock Moves'!$A$5:$A$604,"<="&$D$5)/$D$6) | L22: 10 | M22: 5 | N22: =IF(A22="","",ROUNDUP(K22*N(L22)+N(M22),0)) | O22: =IF(A22="","",IF(K22=0,"∞",J22/K22)) | P22: =IF(A22="","",IF(J22<=0,"Out",IF(J22<=N22,"Reorder",IF(COUNTIFS('Stock Moves'!$B$5:$B$604,A22,'Stock Moves'!$D$5:$D$604,INDEX($V$12:$V$13,2),'Stock Moves'!$A$5:$A$604,">"&($D$5-$D$7),'Stock Moves'!$A$5:$A$604,"<="&$D$5)=0,"Dead","OK")))) | Q22: =IF(A22="","",IF(OR(P22="Out",P22="Reorder"),MAX(0,ROUNDUP(K22*(N(L22)+$D$8)+N(M22)-J22,0)),0)) | R22: =IF(A22="","",J22*N(E22)) | S22: =IF(OR(A22="",N(F22)=0),"",(F22-N(E22))/F22) | T22: =IF(OR(A22="",N(R22)=0),"",IF(SUMIF($R$16:$R$55,">="&R22)/SUM($R$16:$R$55)<=0.8,"A",IF(SUMIF($R$16:$R$55,">="&R22)/SUM($R$16:$R$55)<=0.95,"B","C"))) | V22: =INDEX($V$5:$V$9,4) | W22: =SUMIF($C$16:$C$55,V22,$R$16:$R$55)
A23: LD-009 | B23: LED bulb 9 W | C23: Lighting | D23: pc | E23: 3.2 | F23: 7 | G23: 600 | H23: =IF(A23="","",SUMIFS('Stock Moves'!$E$5:$E$604,'Stock Moves'!$B$5:$B$604,A23,'Stock Moves'!$D$5:$D$604,INDEX($V$12:$V$13,1),'Stock Moves'!$A$5:$A$604,"<="&$D$5)) | I23: =IF(A23="","",SUMIFS('Stock Moves'!$E$5:$E$604,'Stock Moves'!$B$5:$B$604,A23,'Stock Moves'!$D$5:$D$604,INDEX($V$12:$V$13,2),'Stock Moves'!$A$5:$A$604,"<="&$D$5)) | J23: =IF(A23="","",N(G23)+H23-I23) | K23: =IF(A23="","",SUMIFS('Stock Moves'!$E$5:$E$604,'Stock Moves'!$B$5:$B$604,A23,'Stock Moves'!$D$5:$D$604,INDEX($V$12:$V$13,2),'Stock Moves'!$A$5:$A$604,">"&($D$5-$D$6),'Stock Moves'!$A$5:$A$604,"<="&$D$5)/$D$6) | L23: 14 | M23: 150 | N23: =IF(A23="","",ROUNDUP(K23*N(L23)+N(M23),0)) | O23: =IF(A23="","",IF(K23=0,"∞",J23/K23)) | P23: =IF(A23="","",IF(J23<=0,"Out",IF(J23<=N23,"Reorder",IF(COUNTIFS('Stock Moves'!$B$5:$B$604,A23,'Stock Moves'!$D$5:$D$604,INDEX($V$12:$V$13,2),'Stock Moves'!$A$5:$A$604,">"&($D$5-$D$7),'Stock Moves'!$A$5:$A$604,"<="&$D$5)=0,"Dead","OK")))) | Q23: =IF(A23="","",IF(OR(P23="Out",P23="Reorder"),MAX(0,ROUNDUP(K23*(N(L23)+$D$8)+N(M23)-J23,0)),0)) | R23: =IF(A23="","",J23*N(E23)) | S23: =IF(OR(A23="",N(F23)=0),"",(F23-N(E23))/F23) | T23: =IF(OR(A23="",N(R23)=0),"",IF(SUMIF($R$16:$R$55,">="&R23)/SUM($R$16:$R$55)<=0.8,"A",IF(SUMIF($R$16:$R$55,">="&R23)/SUM($R$16:$R$55)<=0.95,"B","C"))) | V23: =INDEX($V$5:$V$9,5) | W23: =SUMIF($C$16:$C$55,V23,$R$16:$R$55)
A24: LD-018 | B24: LED panel 18 W | C24: Lighting | D24: pc | E24: 14 | F24: 28 | G24: 220 | H24: =IF(A24="","",SUMIFS('Stock Moves'!$E$5:$E$604,'Stock Moves'!$B$5:$B$604,A24,'Stock Moves'!$D$5:$D$604,INDEX($V$12:$V$13,1),'Stock Moves'!$A$5:$A$604,"<="&$D$5)) | I24: =IF(A24="","",SUMIFS('Stock Moves'!$E$5:$E$604,'Stock Moves'!$B$5:$B$604,A24,'Stock Moves'!$D$5:$D$604,INDEX($V$12:$V$13,2),'Stock Moves'!$A$5:$A$604,"<="&$D$5)) | J24: =IF(A24="","",N(G24)+H24-I24) | K24: =IF(A24="","",SUMIFS('Stock Moves'!$E$5:$E$604,'Stock Moves'!$B$5:$B$604,A24,'Stock Moves'!$D$5:$D$604,INDEX($V$12:$V$13,2),'Stock Moves'!$A$5:$A$604,">"&($D$5-$D$6),'Stock Moves'!$A$5:$A$604,"<="&$D$5)/$D$6) | L24: 14 | M24: 50 | N24: =IF(A24="","",ROUNDUP(K24*N(L24)+N(M24),0)) | O24: =IF(A24="","",IF(K24=0,"∞",J24/K24)) | P24: =IF(A24="","",IF(J24<=0,"Out",IF(J24<=N24,"Reorder",IF(COUNTIFS('Stock Moves'!$B$5:$B$604,A24,'Stock Moves'!$D$5:$D$604,INDEX($V$12:$V$13,2),'Stock Moves'!$A$5:$A$604,">"&($D$5-$D$7),'Stock Moves'!$A$5:$A$604,"<="&$D$5)=0,"Dead","OK")))) | Q24: =IF(A24="","",IF(OR(P24="Out",P24="Reorder"),MAX(0,ROUNDUP(K24*(N(L24)+$D$8)+N(M24)-J24,0)),0)) | R24: =IF(A24="","",J24*N(E24)) | S24: =IF(OR(A24="",N(F24)=0),"",(F24-N(E24))/F24) | T24: =IF(OR(A24="",N(R24)=0),"",IF(SUMIF($R$16:$R$55,">="&R24)/SUM($R$16:$R$55)<=0.8,"A",IF(SUMIF($R$16:$R$55,">="&R24)/SUM($R$16:$R$55)<=0.95,"B","C")))
A25: LD-050 | B25: LED flood light 50 W | C25: Lighting | D25: pc | E25: 38 | F25: 75 | G25: 60 | H25: =IF(A25="","",SUMIFS('Stock Moves'!$E$5:$E$604,'Stock Moves'!$B$5:$B$604,A25,'Stock Moves'!$D$5:$D$604,INDEX($V$12:$V$13,1),'Stock Moves'!$A$5:$A$604,"<="&$D$5)) | I25: =IF(A25="","",SUMIFS('Stock Moves'!$E$5:$E$604,'Stock Moves'!$B$5:$B$604,A25,'Stock Moves'!$D$5:$D$604,INDEX($V$12:$V$13,2),'Stock Moves'!$A$5:$A$604,"<="&$D$5)) | J25: =IF(A25="","",N(G25)+H25-I25) | K25: =IF(A25="","",SUMIFS('Stock Moves'!$E$5:$E$604,'Stock Moves'!$B$5:$B$604,A25,'Stock Moves'!$D$5:$D$604,INDEX($V$12:$V$13,2),'Stock Moves'!$A$5:$A$604,">"&($D$5-$D$6),'Stock Moves'!$A$5:$A$604,"<="&$D$5)/$D$6) | L25: 14 | M25: 12 | N25: =IF(A25="","",ROUNDUP(K25*N(L25)+N(M25),0)) | O25: =IF(A25="","",IF(K25=0,"∞",J25/K25)) | P25: =IF(A25="","",IF(J25<=0,"Out",IF(J25<=N25,"Reorder",IF(COUNTIFS('Stock Moves'!$B$5:$B$604,A25,'Stock Moves'!$D$5:$D$604,INDEX($V$12:$V$13,2),'Stock Moves'!$A$5:$A$604,">"&($D$5-$D$7),'Stock Moves'!$A$5:$A$604,"<="&$D$5)=0,"Dead","OK")))) | Q25: =IF(A25="","",IF(OR(P25="Out",P25="Reorder"),MAX(0,ROUNDUP(K25*(N(L25)+$D$8)+N(M25)-J25,0)),0)) | R25: =IF(A25="","",J25*N(E25)) | S25: =IF(OR(A25="",N(F25)=0),"",(F25-N(E25))/F25) | T25: =IF(OR(A25="",N(R25)=0),"",IF(SUMIF($R$16:$R$55,">="&R25)/SUM($R$16:$R$55)<=0.8,"A",IF(SUMIF($R$16:$R$55,">="&R25)/SUM($R$16:$R$55)<=0.95,"B","C")))
A26: SW-001 | B26: Light switch 1 gang | C26: Accessories | D26: pc | E26: 4.5 | F26: 9 | G26: 400 | H26: =IF(A26="","",SUMIFS('Stock Moves'!$E$5:$E$604,'Stock Moves'!$B$5:$B$604,A26,'Stock Moves'!$D$5:$D$604,INDEX($V$12:$V$13,1),'Stock Moves'!$A$5:$A$604,"<="&$D$5)) | I26: =IF(A26="","",SUMIFS('Stock Moves'!$E$5:$E$604,'Stock Moves'!$B$5:$B$604,A26,'Stock Moves'!$D$5:$D$604,INDEX($V$12:$V$13,2),'Stock Moves'!$A$5:$A$604,"<="&$D$5)) | J26: =IF(A26="","",N(G26)+H26-I26) | K26: =IF(A26="","",SUMIFS('Stock Moves'!$E$5:$E$604,'Stock Moves'!$B$5:$B$604,A26,'Stock Moves'!$D$5:$D$604,INDEX($V$12:$V$13,2),'Stock Moves'!$A$5:$A$604,">"&($D$5-$D$6),'Stock Moves'!$A$5:$A$604,"<="&$D$5)/$D$6) | L26: 10 | M26: 80 | N26: =IF(A26="","",ROUNDUP(K26*N(L26)+N(M26),0)) | O26: =IF(A26="","",IF(K26=0,"∞",J26/K26)) | P26: =IF(A26="","",IF(J26<=0,"Out",IF(J26<=N26,"Reorder",IF(COUNTIFS('Stock Moves'!$B$5:$B$604,A26,'Stock Moves'!$D$5:$D$604,INDEX($V$12:$V$13,2),'Stock Moves'!$A$5:$A$604,">"&($D$5-$D$7),'Stock Moves'!$A$5:$A$604,"<="&$D$5)=0,"Dead","OK")))) | Q26: =IF(A26="","",IF(OR(P26="Out",P26="Reorder"),MAX(0,ROUNDUP(K26*(N(L26)+$D$8)+N(M26)-J26,0)),0)) | R26: =IF(A26="","",J26*N(E26)) | S26: =IF(OR(A26="",N(F26)=0),"",(F26-N(E26))/F26) | T26: =IF(OR(A26="",N(R26)=0),"",IF(SUMIF($R$16:$R$55,">="&R26)/SUM($R$16:$R$55)<=0.8,"A",IF(SUMIF($R$16:$R$55,">="&R26)/SUM($R$16:$R$55)<=0.95,"B","C")))
A27: SW-002 | B27: Socket outlet 13 A | C27: Accessories | D27: pc | E27: 6 | F27: 12 | G27: 380 | H27: =IF(A27="","",SUMIFS('Stock Moves'!$E$5:$E$604,'Stock Moves'!$B$5:$B$604,A27,'Stock Moves'!$D$5:$D$604,INDEX($V$12:$V$13,1),'Stock Moves'!$A$5:$A$604,"<="&$D$5)) | I27: =IF(A27="","",SUMIFS('Stock Moves'!$E$5:$E$604,'Stock Moves'!$B$5:$B$604,A27,'Stock Moves'!$D$5:$D$604,INDEX($V$12:$V$13,2),'Stock Moves'!$A$5:$A$604,"<="&$D$5)) | J27: =IF(A27="","",N(G27)+H27-I27) | K27: =IF(A27="","",SUMIFS('Stock Moves'!$E$5:$E$604,'Stock Moves'!$B$5:$B$604,A27,'Stock Moves'!$D$5:$D$604,INDEX($V$12:$V$13,2),'Stock Moves'!$A$5:$A$604,">"&($D$5-$D$6),'Stock Moves'!$A$5:$A$604,"<="&$D$5)/$D$6) | L27: 10 | M27: 80 | N27: =IF(A27="","",ROUNDUP(K27*N(L27)+N(M27),0)) | O27: =IF(A27="","",IF(K27=0,"∞",J27/K27)) | P27: =IF(A27="","",IF(J27<=0,"Out",IF(J27<=N27,"Reorder",IF(COUNTIFS('Stock Moves'!$B$5:$B$604,A27,'Stock Moves'!$D$5:$D$604,INDEX($V$12:$V$13,2),'Stock Moves'!$A$5:$A$604,">"&($D$5-$D$7),'Stock Moves'!$A$5:$A$604,"<="&$D$5)=0,"Dead","OK")))) | Q27: =IF(A27="","",IF(OR(P27="Out",P27="Reorder"),MAX(0,ROUNDUP(K27*(N(L27)+$D$8)+N(M27)-J27,0)),0)) | R27: =IF(A27="","",J27*N(E27)) | S27: =IF(OR(A27="",N(F27)=0),"",(F27-N(E27))/F27) | T27: =IF(OR(A27="",N(R27)=0),"",IF(SUMIF($R$16:$R$55,">="&R27)/SUM($R$16:$R$55)<=0.8,"A",IF(SUMIF($R$16:$R$55,">="&R27)/SUM($R$16:$R$55)<=0.95,"B","C")))
A28: SW-003 | B28: Dimmer switch | C28: Accessories | D28: pc | E28: 26 | F28: 48 | G28: 40 | H28: =IF(A28="","",SUMIFS('Stock Moves'!$E$5:$E$604,'Stock Moves'!$B$5:$B$604,A28,'Stock Moves'!$D$5:$D$604,INDEX($V$12:$V$13,1),'Stock Moves'!$A$5:$A$604,"<="&$D$5)) | I28: =IF(A28="","",SUMIFS('Stock Moves'!$E$5:$E$604,'Stock Moves'!$B$5:$B$604,A28,'Stock Moves'!$D$5:$D$604,INDEX($V$12:$V$13,2),'Stock Moves'!$A$5:$A$604,"<="&$D$5)) | J28: =IF(A28="","",N(G28)+H28-I28) | K28: =IF(A28="","",SUMIFS('Stock Moves'!$E$5:$E$604,'Stock Moves'!$B$5:$B$604,A28,'Stock Moves'!$D$5:$D$604,INDEX($V$12:$V$13,2),'Stock Moves'!$A$5:$A$604,">"&($D$5-$D$6),'Stock Moves'!$A$5:$A$604,"<="&$D$5)/$D$6) | L28: 14 | M28: 8 | N28: =IF(A28="","",ROUNDUP(K28*N(L28)+N(M28),0)) | O28: =IF(A28="","",IF(K28=0,"∞",J28/K28)) | P28: =IF(A28="","",IF(J28<=0,"Out",IF(J28<=N28,"Reorder",IF(COUNTIFS('Stock Moves'!$B$5:$B$604,A28,'Stock Moves'!$D$5:$D$604,INDEX($V$12:$V$13,2),'Stock Moves'!$A$5:$A$604,">"&($D$5-$D$7),'Stock Moves'!$A$5:$A$604,"<="&$D$5)=0,"Dead","OK")))) | Q28: =IF(A28="","",IF(OR(P28="Out",P28="Reorder"),MAX(0,ROUNDUP(K28*(N(L28)+$D$8)+N(M28)-J28,0)),0)) | R28: =IF(A28="","",J28*N(E28)) | S28: =IF(OR(A28="",N(F28)=0),"",(F28-N(E28))/F28) | T28: =IF(OR(A28="",N(R28)=0),"",IF(SUMIF($R$16:$R$55,">="&R28)/SUM($R$16:$R$55)<=0.8,"A",IF(SUMIF($R$16:$R$55,">="&R28)/SUM($R$16:$R$55)<=0.95,"B","C")))
A29: AC-001 | B29: Cable duct 25×16 | C29: Accessories | D29: m | E29: 1.8 | F29: 4.5 | G29: 500 | H29: =IF(A29="","",SUMIFS('Stock Moves'!$E$5:$E$604,'Stock Moves'!$B$5:$B$604,A29,'Stock Moves'!$D$5:$D$604,INDEX($V$12:$V$13,1),'Stock Moves'!$A$5:$A$604,"<="&$D$5)) | I29: =IF(A29="","",SUMIFS('Stock Moves'!$E$5:$E$604,'Stock Moves'!$B$5:$B$604,A29,'Stock Moves'!$D$5:$D$604,INDEX($V$12:$V$13,2),'Stock Moves'!$A$5:$A$604,"<="&$D$5)) | J29: =IF(A29="","",N(G29)+H29-I29) | K29: =IF(A29="","",SUMIFS('Stock Moves'!$E$5:$E$604,'Stock Moves'!$B$5:$B$604,A29,'Stock Moves'!$D$5:$D$604,INDEX($V$12:$V$13,2),'Stock Moves'!$A$5:$A$604,">"&($D$5-$D$6),'Stock Moves'!$A$5:$A$604,"<="&$D$5)/$D$6) | L29: 10 | M29: 100 | N29: =IF(A29="","",ROUNDUP(K29*N(L29)+N(M29),0)) | O29: =IF(A29="","",IF(K29=0,"∞",J29/K29)) | P29: =IF(A29="","",IF(J29<=0,"Out",IF(J29<=N29,"Reorder",IF(COUNTIFS('Stock Moves'!$B$5:$B$604,A29,'Stock Moves'!$D$5:$D$604,INDEX($V$12:$V$13,2),'Stock Moves'!$A$5:$A$604,">"&($D$5-$D$7),'Stock Moves'!$A$5:$A$604,"<="&$D$5)=0,"Dead","OK")))) | Q29: =IF(A29="","",IF(OR(P29="Out",P29="Reorder"),MAX(0,ROUNDUP(K29*(N(L29)+$D$8)+N(M29)-J29,0)),0)) | R29: =IF(A29="","",J29*N(E29)) | S29: =IF(OR(A29="",N(F29)=0),"",(F29-N(E29))/F29) | T29: =IF(OR(A29="",N(R29)=0),"",IF(SUMIF($R$16:$R$55,">="&R29)/SUM($R$16:$R$55)<=0.8,"A",IF(SUMIF($R$16:$R$55,">="&R29)/SUM($R$16:$R$55)<=0.95,"B","C")))
A30: AC-002 | B30: Junction box | C30: Accessories | D30: pc | E30: 2.2 | F30: 5 | G30: 450 | H30: =IF(A30="","",SUMIFS('Stock Moves'!$E$5:$E$604,'Stock Moves'!$B$5:$B$604,A30,'Stock Moves'!$D$5:$D$604,INDEX($V$12:$V$13,1),'Stock Moves'!$A$5:$A$604,"<="&$D$5)) | I30: =IF(A30="","",SUMIFS('Stock Moves'!$E$5:$E$604,'Stock Moves'!$B$5:$B$604,A30,'Stock Moves'!$D$5:$D$604,INDEX($V$12:$V$13,2),'Stock Moves'!$A$5:$A$604,"<="&$D$5)) | J30: =IF(A30="","",N(G30)+H30-I30) | K30: =IF(A30="","",SUMIFS('Stock Moves'!$E$5:$E$604,'Stock Moves'!$B$5:$B$604,A30,'Stock Moves'!$D$5:$D$604,INDEX($V$12:$V$13,2),'Stock Moves'!$A$5:$A$604,">"&($D$5-$D$6),'Stock Moves'!$A$5:$A$604,"<="&$D$5)/$D$6) | L30: 10 | M30: 90 | N30: =IF(A30="","",ROUNDUP(K30*N(L30)+N(M30),0)) | O30: =IF(A30="","",IF(K30=0,"∞",J30/K30)) | P30: =IF(A30="","",IF(J30<=0,"Out",IF(J30<=N30,"Reorder",IF(COUNTIFS('Stock Moves'!$B$5:$B$604,A30,'Stock Moves'!$D$5:$D$604,INDEX($V$12:$V$13,2),'Stock Moves'!$A$5:$A$604,">"&($D$5-$D$7),'Stock Moves'!$A$5:$A$604,"<="&$D$5)=0,"Dead","OK")))) | Q30: =IF(A30="","",IF(OR(P30="Out",P30="Reorder"),MAX(0,ROUNDUP(K30*(N(L30)+$D$8)+N(M30)-J30,0)),0)) | R30: =IF(A30="","",J30*N(E30)) | S30: =IF(OR(A30="",N(F30)=0),"",(F30-N(E30))/F30) | T30: =IF(OR(A30="",N(R30)=0),"",IF(SUMIF($R$16:$R$55,">="&R30)/SUM($R$16:$R$55)<=0.8,"A",IF(SUMIF($R$16:$R$55,">="&R30)/SUM($R$16:$R$55)<=0.95,"B","C")))
A31: AC-003 | B31: Cable gland | C31: Accessories | D31: pc | E31: 1.1 | F31: 3 | G31: 700 | H31: =IF(A31="","",SUMIFS('Stock Moves'!$E$5:$E$604,'Stock Moves'!$B$5:$B$604,A31,'Stock Moves'!$D$5:$D$604,INDEX($V$12:$V$13,1),'Stock Moves'!$A$5:$A$604,"<="&$D$5)) | I31: =IF(A31="","",SUMIFS('Stock Moves'!$E$5:$E$604,'Stock Moves'!$B$5:$B$604,A31,'Stock Moves'!$D$5:$D$604,INDEX($V$12:$V$13,2),'Stock Moves'!$A$5:$A$604,"<="&$D$5)) | J31: =IF(A31="","",N(G31)+H31-I31) | K31: =IF(A31="","",SUMIFS('Stock Moves'!$E$5:$E$604,'Stock Moves'!$B$5:$B$604,A31,'Stock Moves'!$D$5:$D$604,INDEX($V$12:$V$13,2),'Stock Moves'!$A$5:$A$604,">"&($D$5-$D$6),'Stock Moves'!$A$5:$A$604,"<="&$D$5)/$D$6) | L31: 10 | M31: 120 | N31: =IF(A31="","",ROUNDUP(K31*N(L31)+N(M31),0)) | O31: =IF(A31="","",IF(K31=0,"∞",J31/K31)) | P31: =IF(A31="","",IF(J31<=0,"Out",IF(J31<=N31,"Reorder",IF(COUNTIFS('Stock Moves'!$B$5:$B$604,A31,'Stock Moves'!$D$5:$D$604,INDEX($V$12:$V$13,2),'Stock Moves'!$A$5:$A$604,">"&($D$5-$D$7),'Stock Moves'!$A$5:$A$604,"<="&$D$5)=0,"Dead","OK")))) | Q31: =IF(A31="","",IF(OR(P31="Out",P31="Reorder"),MAX(0,ROUNDUP(K31*(N(L31)+$D$8)+N(M31)-J31,0)),0)) | R31: =IF(A31="","",J31*N(E31)) | S31: =IF(OR(A31="",N(F31)=0),"",(F31-N(E31))/F31) | T31: =IF(OR(A31="",N(R31)=0),"",IF(SUMIF($R$16:$R$55,">="&R31)/SUM($R$16:$R$55)<=0.8,"A",IF(SUMIF($R$16:$R$55,">="&R31)/SUM($R$16:$R$55)<=0.95,"B","C")))
A32: AC-004 | B32: Insulating tape | C32: Accessories | D32: pc | E32: 1.5 | F32: 3.5 | G32: 300 | H32: =IF(A32="","",SUMIFS('Stock Moves'!$E$5:$E$604,'Stock Moves'!$B$5:$B$604,A32,'Stock Moves'!$D$5:$D$604,INDEX($V$12:$V$13,1),'Stock Moves'!$A$5:$A$604,"<="&$D$5)) | I32: =IF(A32="","",SUMIFS('Stock Moves'!$E$5:$E$604,'Stock Moves'!$B$5:$B$604,A32,'Stock Moves'!$D$5:$D$604,INDEX($V$12:$V$13,2),'Stock Moves'!$A$5:$A$604,"<="&$D$5)) | J32: =IF(A32="","",N(G32)+H32-I32) | K32: =IF(A32="","",SUMIFS('Stock Moves'!$E$5:$E$604,'Stock Moves'!$B$5:$B$604,A32,'Stock Moves'!$D$5:$D$604,INDEX($V$12:$V$13,2),'Stock Moves'!$A$5:$A$604,">"&($D$5-$D$6),'Stock Moves'!$A$5:$A$604,"<="&$D$5)/$D$6) | L32: 7 | M32: 60 | N32: =IF(A32="","",ROUNDUP(K32*N(L32)+N(M32),0)) | O32: =IF(A32="","",IF(K32=0,"∞",J32/K32)) | P32: =IF(A32="","",IF(J32<=0,"Out",IF(J32<=N32,"Reorder",IF(COUNTIFS('Stock Moves'!$B$5:$B$604,A32,'Stock Moves'!$D$5:$D$604,INDEX($V$12:$V$13,2),'Stock Moves'!$A$5:$A$604,">"&($D$5-$D$7),'Stock Moves'!$A$5:$A$604,"<="&$D$5)=0,"Dead","OK")))) | Q32: =IF(A32="","",IF(OR(P32="Out",P32="Reorder"),MAX(0,ROUNDUP(K32*(N(L32)+$D$8)+N(M32)-J32,0)),0)) | R32: =IF(A32="","",J32*N(E32)) | S32: =IF(OR(A32="",N(F32)=0),"",(F32-N(E32))/F32) | T32: =IF(OR(A32="",N(R32)=0),"",IF(SUMIF($R$16:$R$55,">="&R32)/SUM($R$16:$R$55)<=0.8,"A",IF(SUMIF($R$16:$R$55,">="&R32)/SUM($R$16:$R$55)<=0.95,"B","C")))
A33: TL-001 | B33: Wire stripper | C33: Tools | D33: pc | E33: 22 | F33: 45 | G33: 30 | H33: =IF(A33="","",SUMIFS('Stock Moves'!$E$5:$E$604,'Stock Moves'!$B$5:$B$604,A33,'Stock Moves'!$D$5:$D$604,INDEX($V$12:$V$13,1),'Stock Moves'!$A$5:$A$604,"<="&$D$5)) | I33: =IF(A33="","",SUMIFS('Stock Moves'!$E$5:$E$604,'Stock Moves'!$B$5:$B$604,A33,'Stock Moves'!$D$5:$D$604,INDEX($V$12:$V$13,2),'Stock Moves'!$A$5:$A$604,"<="&$D$5)) | J33: =IF(A33="","",N(G33)+H33-I33) | K33: =IF(A33="","",SUMIFS('Stock Moves'!$E$5:$E$604,'Stock Moves'!$B$5:$B$604,A33,'Stock Moves'!$D$5:$D$604,INDEX($V$12:$V$13,2),'Stock Moves'!$A$5:$A$604,">"&($D$5-$D$6),'Stock Moves'!$A$5:$A$604,"<="&$D$5)/$D$6) | L33: 20 | M33: 5 | N33: =IF(A33="","",ROUNDUP(K33*N(L33)+N(M33),0)) | O33: =IF(A33="","",IF(K33=0,"∞",J33/K33)) | P33: =IF(A33="","",IF(J33<=0,"Out",IF(J33<=N33,"Reorder",IF(COUNTIFS('Stock Moves'!$B$5:$B$604,A33,'Stock Moves'!$D$5:$D$604,INDEX($V$12:$V$13,2),'Stock Moves'!$A$5:$A$604,">"&($D$5-$D$7),'Stock Moves'!$A$5:$A$604,"<="&$D$5)=0,"Dead","OK")))) | Q33: =IF(A33="","",IF(OR(P33="Out",P33="Reorder"),MAX(0,ROUNDUP(K33*(N(L33)+$D$8)+N(M33)-J33,0)),0)) | R33: =IF(A33="","",J33*N(E33)) | S33: =IF(OR(A33="",N(F33)=0),"",(F33-N(E33))/F33) | T33: =IF(OR(A33="",N(R33)=0),"",IF(SUMIF($R$16:$R$55,">="&R33)/SUM($R$16:$R$55)<=0.8,"A",IF(SUMIF($R$16:$R$55,">="&R33)/SUM($R$16:$R$55)<=0.95,"B","C")))
A34: TL-002 | B34: Digital multimeter | C34: Tools | D34: pc | E34: 55 | F34: 99 | G34: 20 | H34: =IF(A34="","",SUMIFS('Stock Moves'!$E$5:$E$604,'Stock Moves'!$B$5:$B$604,A34,'Stock Moves'!$D$5:$D$604,INDEX($V$12:$V$13,1),'Stock Moves'!$A$5:$A$604,"<="&$D$5)) | I34: =IF(A34="","",SUMIFS('Stock Moves'!$E$5:$E$604,'Stock Moves'!$B$5:$B$604,A34,'Stock Moves'!$D$5:$D$604,INDEX($V$12:$V$13,2),'Stock Moves'!$A$5:$A$604,"<="&$D$5)) | J34: =IF(A34="","",N(G34)+H34-I34) | K34: =IF(A34="","",SUMIFS('Stock Moves'!$E$5:$E$604,'Stock Moves'!$B$5:$B$604,A34,'Stock Moves'!$D$5:$D$604,INDEX($V$12:$V$13,2),'Stock Moves'!$A$5:$A$604,">"&($D$5-$D$6),'Stock Moves'!$A$5:$A$604,"<="&$D$5)/$D$6) | L34: 20 | M34: 4 | N34: =IF(A34="","",ROUNDUP(K34*N(L34)+N(M34),0)) | O34: =IF(A34="","",IF(K34=0,"∞",J34/K34)) | P34: =IF(A34="","",IF(J34<=0,"Out",IF(J34<=N34,"Reorder",IF(COUNTIFS('Stock Moves'!$B$5:$B$604,A34,'Stock Moves'!$D$5:$D$604,INDEX($V$12:$V$13,2),'Stock Moves'!$A$5:$A$604,">"&($D$5-$D$7),'Stock Moves'!$A$5:$A$604,"<="&$D$5)=0,"Dead","OK")))) | Q34: =IF(A34="","",IF(OR(P34="Out",P34="Reorder"),MAX(0,ROUNDUP(K34*(N(L34)+$D$8)+N(M34)-J34,0)),0)) | R34: =IF(A34="","",J34*N(E34)) | S34: =IF(OR(A34="",N(F34)=0),"",(F34-N(E34))/F34) | T34: =IF(OR(A34="",N(R34)=0),"",IF(SUMIF($R$16:$R$55,">="&R34)/SUM($R$16:$R$55)<=0.8,"A",IF(SUMIF($R$16:$R$55,">="&R34)/SUM($R$16:$R$55)<=0.95,"B","C")))
A35: TL-003 | B35: Screwdriver set | C35: Tools | D35: pc | E35: 28 | F35: 55 | G35: 25 | H35: =IF(A35="","",SUMIFS('Stock Moves'!$E$5:$E$604,'Stock Moves'!$B$5:$B$604,A35,'Stock Moves'!$D$5:$D$604,INDEX($V$12:$V$13,1),'Stock Moves'!$A$5:$A$604,"<="&$D$5)) | I35: =IF(A35="","",SUMIFS('Stock Moves'!$E$5:$E$604,'Stock Moves'!$B$5:$B$604,A35,'Stock Moves'!$D$5:$D$604,INDEX($V$12:$V$13,2),'Stock Moves'!$A$5:$A$604,"<="&$D$5)) | J35: =IF(A35="","",N(G35)+H35-I35) | K35: =IF(A35="","",SUMIFS('Stock Moves'!$E$5:$E$604,'Stock Moves'!$B$5:$B$604,A35,'Stock Moves'!$D$5:$D$604,INDEX($V$12:$V$13,2),'Stock Moves'!$A$5:$A$604,">"&($D$5-$D$6),'Stock Moves'!$A$5:$A$604,"<="&$D$5)/$D$6) | L35: 20 | M35: 5 | N35: =IF(A35="","",ROUNDUP(K35*N(L35)+N(M35),0)) | O35: =IF(A35="","",IF(K35=0,"∞",J35/K35)) | P35: =IF(A35="","",IF(J35<=0,"Out",IF(J35<=N35,"Reorder",IF(COUNTIFS('Stock Moves'!$B$5:$B$604,A35,'Stock Moves'!$D$5:$D$604,INDEX($V$12:$V$13,2),'Stock Moves'!$A$5:$A$604,">"&($D$5-$D$7),'Stock Moves'!$A$5:$A$604,"<="&$D$5)=0,"Dead","OK")))) | Q35: =IF(A35="","",IF(OR(P35="Out",P35="Reorder"),MAX(0,ROUNDUP(K35*(N(L35)+$D$8)+N(M35)-J35,0)),0)) | R35: =IF(A35="","",J35*N(E35)) | S35: =IF(OR(A35="",N(F35)=0),"",(F35-N(E35))/F35) | T35: =IF(OR(A35="",N(R35)=0),"",IF(SUMIF($R$16:$R$55,">="&R35)/SUM($R$16:$R$55)<=0.8,"A",IF(SUMIF($R$16:$R$55,">="&R35)/SUM($R$16:$R$55)<=0.95,"B","C")))
H36: =IF(A36="","",SUMIFS('Stock Moves'!$E$5:$E$604,'Stock Moves'!$B$5:$B$604,A36,'Stock Moves'!$D$5:$D$604,INDEX($V$12:$V$13,1),'Stock Moves'!$A$5:$A$604,"<="&$D$5)) | I36: =IF(A36="","",SUMIFS('Stock Moves'!$E$5:$E$604,'Stock Moves'!$B$5:$B$604,A36,'Stock Moves'!$D$5:$D$604,INDEX($V$12:$V$13,2),'Stock Moves'!$A$5:$A$604,"<="&$D$5)) | J36: =IF(A36="","",N(G36)+H36-I36) | K36: =IF(A36="","",SUMIFS('Stock Moves'!$E$5:$E$604,'Stock Moves'!$B$5:$B$604,A36,'Stock Moves'!$D$5:$D$604,INDEX($V$12:$V$13,2),'Stock Moves'!$A$5:$A$604,">"&($D$5-$D$6),'Stock Moves'!$A$5:$A$604,"<="&$D$5)/$D$6) | N36: =IF(A36="","",ROUNDUP(K36*N(L36)+N(M36),0)) | O36: =IF(A36="","",IF(K36=0,"∞",J36/K36)) | P36: =IF(A36="","",IF(J36<=0,"Out",IF(J36<=N36,"Reorder",IF(COUNTIFS('Stock Moves'!$B$5:$B$604,A36,'Stock Moves'!$D$5:$D$604,INDEX($V$12:$V$13,2),'Stock Moves'!$A$5:$A$604,">"&($D$5-$D$7),'Stock Moves'!$A$5:$A$604,"<="&$D$5)=0,"Dead","OK")))) | Q36: =IF(A36="","",IF(OR(P36="Out",P36="Reorder"),MAX(0,ROUNDUP(K36*(N(L36)+$D$8)+N(M36)-J36,0)),0)) | R36: =IF(A36="","",J36*N(E36)) | S36: =IF(OR(A36="",N(F36)=0),"",(F36-N(E36))/F36) | T36: =IF(OR(A36="",N(R36)=0),"",IF(SUMIF($R$16:$R$55,">="&R36)/SUM($R$16:$R$55)<=0.8,"A",IF(SUMIF($R$16:$R$55,">="&R36)/SUM($R$16:$R$55)<=0.95,"B","C")))
H37: =IF(A37="","",SUMIFS('Stock Moves'!$E$5:$E$604,'Stock Moves'!$B$5:$B$604,A37,'Stock Moves'!$D$5:$D$604,INDEX($V$12:$V$13,1),'Stock Moves'!$A$5:$A$604,"<="&$D$5)) | I37: =IF(A37="","",SUMIFS('Stock Moves'!$E$5:$E$604,'Stock Moves'!$B$5:$B$604,A37,'Stock Moves'!$D$5:$D$604,INDEX($V$12:$V$13,2),'Stock Moves'!$A$5:$A$604,"<="&$D$5)) | J37: =IF(A37="","",N(G37)+H37-I37) | K37: =IF(A37="","",SUMIFS('Stock Moves'!$E$5:$E$604,'Stock Moves'!$B$5:$B$604,A37,'Stock Moves'!$D$5:$D$604,INDEX($V$12:$V$13,2),'Stock Moves'!$A$5:$A$604,">"&($D$5-$D$6),'Stock Moves'!$A$5:$A$604,"<="&$D$5)/$D$6) | N37: =IF(A37="","",ROUNDUP(K37*N(L37)+N(M37),0)) | O37: =IF(A37="","",IF(K37=0,"∞",J37/K37)) | P37: =IF(A37="","",IF(J37<=0,"Out",IF(J37<=N37,"Reorder",IF(COUNTIFS('Stock Moves'!$B$5:$B$604,A37,'Stock Moves'!$D$5:$D$604,INDEX($V$12:$V$13,2),'Stock Moves'!$A$5:$A$604,">"&($D$5-$D$7),'Stock Moves'!$A$5:$A$604,"<="&$D$5)=0,"Dead","OK")))) | Q37: =IF(A37="","",IF(OR(P37="Out",P37="Reorder"),MAX(0,ROUNDUP(K37*(N(L37)+$D$8)+N(M37)-J37,0)),0)) | R37: =IF(A37="","",J37*N(E37)) | S37: =IF(OR(A37="",N(F37)=0),"",(F37-N(E37))/F37) | T37: =IF(OR(A37="",N(R37)=0),"",IF(SUMIF($R$16:$R$55,">="&R37)/SUM($R$16:$R$55)<=0.8,"A",IF(SUMIF($R$16:$R$55,">="&R37)/SUM($R$16:$R$55)<=0.95,"B","C")))
H38: =IF(A38="","",SUMIFS('Stock Moves'!$E$5:$E$604,'Stock Moves'!$B$5:$B$604,A38,'Stock Moves'!$D$5:$D$604,INDEX($V$12:$V$13,1),'Stock Moves'!$A$5:$A$604,"<="&$D$5)) | I38: =IF(A38="","",SUMIFS('Stock Moves'!$E$5:$E$604,'Stock Moves'!$B$5:$B$604,A38,'Stock Moves'!$D$5:$D$604,INDEX($V$12:$V$13,2),'Stock Moves'!$A$5:$A$604,"<="&$D$5)) | J38: =IF(A38="","",N(G38)+H38-I38) | K38: =IF(A38="","",SUMIFS('Stock Moves'!$E$5:$E$604,'Stock Moves'!$B$5:$B$604,A38,'Stock Moves'!$D$5:$D$604,INDEX($V$12:$V$13,2),'Stock Moves'!$A$5:$A$604,">"&($D$5-$D$6),'Stock Moves'!$A$5:$A$604,"<="&$D$5)/$D$6) | N38: =IF(A38="","",ROUNDUP(K38*N(L38)+N(M38),0)) | O38: =IF(A38="","",IF(K38=0,"∞",J38/K38)) | P38: =IF(A38="","",IF(J38<=0,"Out",IF(J38<=N38,"Reorder",IF(COUNTIFS('Stock Moves'!$B$5:$B$604,A38,'Stock Moves'!$D$5:$D$604,INDEX($V$12:$V$13,2),'Stock Moves'!$A$5:$A$604,">"&($D$5-$D$7),'Stock Moves'!$A$5:$A$604,"<="&$D$5)=0,"Dead","OK")))) | Q38: =IF(A38="","",IF(OR(P38="Out",P38="Reorder"),MAX(0,ROUNDUP(K38*(N(L38)+$D$8)+N(M38)-J38,0)),0)) | R38: =IF(A38="","",J38*N(E38)) | S38: =IF(OR(A38="",N(F38)=0),"",(F38-N(E38))/F38) | T38: =IF(OR(A38="",N(R38)=0),"",IF(SUMIF($R$16:$R$55,">="&R38)/SUM($R$16:$R$55)<=0.8,"A",IF(SUMIF($R$16:$R$55,">="&R38)/SUM($R$16:$R$55)<=0.95,"B","C")))
H39: =IF(A39="","",SUMIFS('Stock Moves'!$E$5:$E$604,'Stock Moves'!$B$5:$B$604,A39,'Stock Moves'!$D$5:$D$604,INDEX($V$12:$V$13,1),'Stock Moves'!$A$5:$A$604,"<="&$D$5)) | I39: =IF(A39="","",SUMIFS('Stock Moves'!$E$5:$E$604,'Stock Moves'!$B$5:$B$604,A39,'Stock Moves'!$D$5:$D$604,INDEX($V$12:$V$13,2),'Stock Moves'!$A$5:$A$604,"<="&$D$5)) | J39: =IF(A39="","",N(G39)+H39-I39) | K39: =IF(A39="","",SUMIFS('Stock Moves'!$E$5:$E$604,'Stock Moves'!$B$5:$B$604,A39,'Stock Moves'!$D$5:$D$604,INDEX($V$12:$V$13,2),'Stock Moves'!$A$5:$A$604,">"&($D$5-$D$6),'Stock Moves'!$A$5:$A$604,"<="&$D$5)/$D$6) | N39: =IF(A39="","",ROUNDUP(K39*N(L39)+N(M39),0)) | O39: =IF(A39="","",IF(K39=0,"∞",J39/K39)) | P39: =IF(A39="","",IF(J39<=0,"Out",IF(J39<=N39,"Reorder",IF(COUNTIFS('Stock Moves'!$B$5:$B$604,A39,'Stock Moves'!$D$5:$D$604,INDEX($V$12:$V$13,2),'Stock Moves'!$A$5:$A$604,">"&($D$5-$D$7),'Stock Moves'!$A$5:$A$604,"<="&$D$5)=0,"Dead","OK")))) | Q39: =IF(A39="","",IF(OR(P39="Out",P39="Reorder"),MAX(0,ROUNDUP(K39*(N(L39)+$D$8)+N(M39)-J39,0)),0)) | R39: =IF(A39="","",J39*N(E39)) | S39: =IF(OR(A39="",N(F39)=0),"",(F39-N(E39))/F39) | T39: =IF(OR(A39="",N(R39)=0),"",IF(SUMIF($R$16:$R$55,">="&R39)/SUM($R$16:$R$55)<=0.8,"A",IF(SUMIF($R$16:$R$55,">="&R39)/SUM($R$16:$R$55)<=0.95,"B","C")))
H40: =IF(A40="","",SUMIFS('Stock Moves'!$E$5:$E$604,'Stock Moves'!$B$5:$B$604,A40,'Stock Moves'!$D$5:$D$604,INDEX($V$12:$V$13,1),'Stock Moves'!$A$5:$A$604,"<="&$D$5)) | I40: =IF(A40="","",SUMIFS('Stock Moves'!$E$5:$E$604,'Stock Moves'!$B$5:$B$604,A40,'Stock Moves'!$D$5:$D$604,INDEX($V$12:$V$13,2),'Stock Moves'!$A$5:$A$604,"<="&$D$5)) | J40: =IF(A40="","",N(G40)+H40-I40) | K40: =IF(A40="","",SUMIFS('Stock Moves'!$E$5:$E$604,'Stock Moves'!$B$5:$B$604,A40,'Stock Moves'!$D$5:$D$604,INDEX($V$12:$V$13,2),'Stock Moves'!$A$5:$A$604,">"&($D$5-$D$6),'Stock Moves'!$A$5:$A$604,"<="&$D$5)/$D$6) | N40: =IF(A40="","",ROUNDUP(K40*N(L40)+N(M40),0)) | O40: =IF(A40="","",IF(K40=0,"∞",J40/K40)) | P40: =IF(A40="","",IF(J40<=0,"Out",IF(J40<=N40,"Reorder",IF(COUNTIFS('Stock Moves'!$B$5:$B$604,A40,'Stock Moves'!$D$5:$D$604,INDEX($V$12:$V$13,2),'Stock Moves'!$A$5:$A$604,">"&($D$5-$D$7),'Stock Moves'!$A$5:$A$604,"<="&$D$5)=0,"Dead","OK")))) | Q40: =IF(A40="","",IF(OR(P40="Out",P40="Reorder"),MAX(0,ROUNDUP(K40*(N(L40)+$D$8)+N(M40)-J40,0)),0)) | R40: =IF(A40="","",J40*N(E40)) | S40: =IF(OR(A40="",N(F40)=0),"",(F40-N(E40))/F40) | T40: =IF(OR(A40="",N(R40)=0),"",IF(SUMIF($R$16:$R$55,">="&R40)/SUM($R$16:$R$55)<=0.8,"A",IF(SUMIF($R$16:$R$55,">="&R40)/SUM($R$16:$R$55)<=0.95,"B","C")))
H41: =IF(A41="","",SUMIFS('Stock Moves'!$E$5:$E$604,'Stock Moves'!$B$5:$B$604,A41,'Stock Moves'!$D$5:$D$604,INDEX($V$12:$V$13,1),'Stock Moves'!$A$5:$A$604,"<="&$D$5)) | I41: =IF(A41="","",SUMIFS('Stock Moves'!$E$5:$E$604,'Stock Moves'!$B$5:$B$604,A41,'Stock Moves'!$D$5:$D$604,INDEX($V$12:$V$13,2),'Stock Moves'!$A$5:$A$604,"<="&$D$5)) | J41: =IF(A41="","",N(G41)+H41-I41) | K41: =IF(A41="","",SUMIFS('Stock Moves'!$E$5:$E$604,'Stock Moves'!$B$5:$B$604,A41,'Stock Moves'!$D$5:$D$604,INDEX($V$12:$V$13,2),'Stock Moves'!$A$5:$A$604,">"&($D$5-$D$6),'Stock Moves'!$A$5:$A$604,"<="&$D$5)/$D$6) | N41: =IF(A41="","",ROUNDUP(K41*N(L41)+N(M41),0)) | O41: =IF(A41="","",IF(K41=0,"∞",J41/K41)) | P41: =IF(A41="","",IF(J41<=0,"Out",IF(J41<=N41,"Reorder",IF(COUNTIFS('Stock Moves'!$B$5:$B$604,A41,'Stock Moves'!$D$5:$D$604,INDEX($V$12:$V$13,2),'Stock Moves'!$A$5:$A$604,">"&($D$5-$D$7),'Stock Moves'!$A$5:$A$604,"<="&$D$5)=0,"Dead","OK")))) | Q41: =IF(A41="","",IF(OR(P41="Out",P41="Reorder"),MAX(0,ROUNDUP(K41*(N(L41)+$D$8)+N(M41)-J41,0)),0)) | R41: =IF(A41="","",J41*N(E41)) | S41: =IF(OR(A41="",N(F41)=0),"",(F41-N(E41))/F41) | T41: =IF(OR(A41="",N(R41)=0),"",IF(SUMIF($R$16:$R$55,">="&R41)/SUM($R$16:$R$55)<=0.8,"A",IF(SUMIF($R$16:$R$55,">="&R41)/SUM($R$16:$R$55)<=0.95,"B","C")))
...

Sheet Stock Moves
A1: Stock Moves: Receipts and Sales
A2: Log every receipt and sale with its date; the items sheet updates automatically
A4: Date | B4: SKU | C4: Item name | D4: Type | E4: Qty | F4: Unit price | G4: Note
A5: 46246 | B5: CB-025 | C5: =IF(B5="","",IFERROR(INDEX('Inventory'!$B$16:$B$55,MATCH(B5,'Inventory'!$A$16:$A$55,0)),"?")) | D5: Out | E5: 1 | F5: 265
A6: 46246 | B6: CB-040 | C6: =IF(B6="","",IFERROR(INDEX('Inventory'!$B$16:$B$55,MATCH(B6,'Inventory'!$A$16:$A$55,0)),"?")) | D6: Out | E6: 1 | F6: 410
A7: 46246 | B7: CB-060 | C7: =IF(B7="","",IFERROR(INDEX('Inventory'!$B$16:$B$55,MATCH(B7,'Inventory'!$A$16:$A$55,0)),"?")) | D7: Out | E7: 1 | F7: 600
A8: 46246 | B8: BR-016 | C8: =IF(B8="","",IFERROR(INDEX('Inventory'!$B$16:$B$55,MATCH(B8,'Inventory'!$A$16:$A$55,0)),"?")) | D8: Out | E8: 22 | F8: 22
A9: 46246 | B9: BR-032 | C9: =IF(B9="","",IFERROR(INDEX('Inventory'!$B$16:$B$55,MATCH(B9,'Inventory'!$A$16:$A$55,0)),"?")) | D9: Out | E9: 14 | F9: 27
A10: 46246 | B10: BR-063 | C10: =IF(B10="","",IFERROR(INDEX('Inventory'!$B$16:$B$55,MATCH(B10,'Inventory'!$A$16:$A$55,0)),"?")) | D10: Out | E10: 1 | F10: 165
A11: 46246 | B11: RC-040 | C11: =IF(B11="","",IFERROR(INDEX('Inventory'!$B$16:$B$55,MATCH(B11,'Inventory'!$A$16:$A$55,0)),"?")) | D11: Out | E11: 1 | F11: 140
A12: 46246 | B12: LD-009 | C12: =IF(B12="","",IFERROR(INDEX('Inventory'!$B$16:$B$55,MATCH(B12,'Inventory'!$A$16:$A$55,0)),"?")) | D12: Out | E12: 55 | F12: 7
A13: 46246 | B13: LD-018 | C13: =IF(B13="","",IFERROR(INDEX('Inventory'!$B$16:$B$55,MATCH(B13,'Inventory'!$A$16:$A$55,0)),"?")) | D13: Out | E13: 20 | F13: 28
A14: 46246 | B14: LD-050 | C14: =IF(B14="","",IFERROR(INDEX('Inventory'!$B$16:$B$55,MATCH(B14,'Inventory'!$A$16:$A$55,0)),"?")) | D14: Out | E14: 1 | F14: 75
A15: 46246 | B15: SW-001 | C15: =IF(B15="","",IFERROR(INDEX('Inventory'!$B$16:$B$55,MATCH(B15,'Inventory'!$A$16:$A$55,0)),"?")) | D15: Out | E15: 38 | F15: 9
A16: 46246 | B16: SW-002 | C16: =IF(B16="","",IFERROR(INDEX('Inventory'!$B$16:$B$55,MATCH(B16,'Inventory'!$A$16:$A$55,0)),"?")) | D16: Out | E16: 27 | F16: 12
... A206: 46316 | B206: TL-002 | C206: =IF(B206="","",IFERROR(INDEX('Inventory'!$B$16:$B$55,MATCH(B206,'Inventory'!$A$16:$A$55,0)),"?")) | D206: Out | E206: 1 | F206: 99
C207: =IF(B207="","",IFERROR(INDEX('Inventory'!$B$16:$B$55,MATCH(B207,'Inventory'!$A$16:$A$55,0)),"?"))
C208: =IF(B208="","",IFERROR(INDEX('Inventory'!$B$16:$B$55,MATCH(B208,'Inventory'!$A$16:$A$55,0)),"?"))
C209: =IF(B209="","",IFERROR(INDEX('Inventory'!$B$16:$B$55,MATCH(B209,'Inventory'!$A$16:$A$55,0)),"?"))
C210: =IF(B210="","",IFERROR(INDEX('Inventory'!$B$16:$B$55,MATCH(B210,'Inventory'!$A$16:$A$55,0)),"?"))
C211: =IF(B211="","",IFERROR(INDEX('Inventory'!$B$16:$B$55,MATCH(B211,'Inventory'!$A$16:$A$55,0)),"?"))
C212: =IF(B212="","",IFERROR(INDEX('Inventory'!$B$16:$B$55,MATCH(B212,'Inventory'!$A$16:$A$55,0)),"?"))
C213: =IF(B213="","",IFERROR(INDEX('Inventory'!$B$16:$B$55,MATCH(B213,'Inventory'!$A$16:$A$55,0)),"?"))
C214: =IF(B214="","",IFERROR(INDEX('Inventory'!$B$16:$B$55,MATCH(B214,'Inventory'!$A$16:$A$55,0)),"?"))
C215: =IF(B215="","",IFERROR(INDEX('Inventory'!$B$16:$B$55,MATCH(B215,'Inventory'!$A$16:$A$55,0)),"?"))
C216: =IF(B216="","",IFERROR(INDEX('Inventory'!$B$16:$B$55,MATCH(B216,'Inventory'!$A$16:$A$55,0)),"?"))
C217: =IF(B217="","",IFERROR(INDEX('Inventory'!$B$16:$B$55,MATCH(B217,'Inventory'!$A$16:$A$55,0)),"?"))
C218: =IF(B218="","",IFERROR(INDEX('Inventory'!$B$16:$B$55,MATCH(B218,'Inventory'!$A$16:$A$55,0)),"?"))
... C604: =IF(B604="","",IFERROR(INDEX('Inventory'!$B$16:$B$55,MATCH(B604,'Inventory'!$A$16:$A$55,0)),"?"))

Sheet Guide
A1: How to use: Inventory management
A2: Sheetaky.com · Ready Excel sheets in Arabic and English
A4: What is this sheet?
A5: Tracks each item stock from receipts and sales, computes average daily sales, reorder point and suggested quantity, flags out-of-stock and dead items and classifies stock ABC.
A7: Steps
A8: 1 | B8: On the items sheet enter SKU, name, cost, price, opening stock, lead time and safety stock.
A9: 2 | B9: Log every receipt and sale on the moves sheet with its date.
A10: 3 | B10: Set the report date, average window, dead-stock days and cover days.
A11: 4 | B11: Read the items to reorder and the suggested quantities.
A13: Color legend
B14: Input cell: type or choose your value here (blue text on yellow).
B15: Calculated cell: automatic formula, protected from accidental edits.
B16: Table and section headers.
A18: Important notes
A19: • | B19: Reorder point = average daily sales × lead time + safety stock.
A20: • | B20: ABC: class A makes up 80% of stock value, B to 95%, and the rest C.
A21: • | B21: Type =TODAY() in the report date for daily updating.
A22: • | B22: Sheets are protected without a password to keep formulas safe. To unprotect: Review → Unprotect Sheet.
A23: • | B23: The data shown is a worked example. Clear it and type your own data in the yellow cells only.
A24: • | B24: More free sheets in Arabic and English at Sheetaky.com
