Workbook

Sheet Summary
A1: Car Fuel & Expense Log
A2: Real consumption, cost per kilometer and the next oil change
A4: Car details
A5: Car | B5: Toyota Camry 2022
A6: Oil change interval | B6: 10000 | C6: km
A8: Consumption and cost
A9: Latest odometer reading | B9: =MAX(Fuel!B6:B305,Maintenance!B6:B155) -> 49360 | C9: km
A10: Distance logged in the fuel log | B10: =IF(COUNT(Fuel!B6:B305)<2,0,MAX(Fuel!B6:B305)-MIN(Fuel!B6:B305)) -> 4160 | C10: km
A11: Total liters | B11: =SUM(Fuel!C6:C305) -> 397.5 | C11: L
A12: Total fuel cost | B12: =SUM(Fuel!E6:E305) -> 926.175
A13: Average consumption | B13: =IFERROR(SUM(Fuel!F6:F305)/SUMIF(Fuel!F6:F305,">0",Fuel!C6:C305),0) -> 12.040521 | C13: km/L
A14: Consumption per 100 km | B14: =IF($B$13>0,100/$B$13,0) -> 8.3052885 | C14: L
A15: Total maintenance and expenses | B15: =SUM(Maintenance!D6:D155) -> 2070
A16: Cost per km (fuel + maintenance) | B16: =IF($B$10>0,(SUM(Fuel!E7:E305)+$B$15)/$B$10,0) -> 0.69110938
A18: Oil change
A19: Odometer at last oil change | B19: =IFERROR(LOOKUP(2,1/(Maintenance!C6:C155="Oil change"),Maintenance!B6:B155),0) -> 48950 | C19: km
A20: Next oil change at | B20: =IF($B$19>0,$B$19+$B$6,"") -> 58950 | C20: km
A21: Remaining | B21: =IF($B$19>0,$B$19+$B$6-$B$9,"") -> 9590 | C21: km
A23: Expenses by type
A24: Oil change | B24: =SUMIF(Maintenance!C6:C155,A24,Maintenance!D6:D155) -> 440
A25: Tires | B25: =SUMIF(Maintenance!C6:C155,A25,Maintenance!D6:D155) -> 1600
A26: Battery | B26: =SUMIF(Maintenance!C6:C155,A26,Maintenance!D6:D155) -> 0
A27: Service | B27: =SUMIF(Maintenance!C6:C155,A27,Maintenance!D6:D155) -> 0
A28: Repair | B28: =SUMIF(Maintenance!C6:C155,A28,Maintenance!D6:D155) -> 0
A29: Insurance | B29: =SUMIF(Maintenance!C6:C155,A29,Maintenance!D6:D155) -> 0
A30: Registration & inspection | B30: =SUMIF(Maintenance!C6:C155,A30,Maintenance!D6:D155) -> 0
A31: Car wash | B31: =SUMIF(Maintenance!C6:C155,A31,Maintenance!D6:D155) -> 30
A32: Other | B32: =SUMIF(Maintenance!C6:C155,A32,Maintenance!D6:D155) -> 0
A33: Consumption uses the full-tank method: distance between two fills ÷ liters of the second fill. The first fill is excluded from consumption and cost per km.

Sheet Fuel
A1: Fuel log
A2: Fill the tank completely each time for accurate consumption
A5: Date | B5: Odometer km | C5: Liters | D5: Price/liter | E5: Cost | F5: Distance since last fill | G5: km per liter | H5: Station / notes
A6: 46235 | B6: 45200 | C6: 52 | D6: 2.33 | E6: =IF(AND(N(C6)>0,N(D6)>0),C6*D6,"") -> 121.16 | F6: ="" | G6: =IF(AND(ISNUMBER(F6),N(C6)>0),F6/C6,"")
A7: 46243 | B7: 45780 | C7: 48.5 | D7: 2.33 | E7: =IF(AND(N(C7)>0,N(D7)>0),C7*D7,"") -> 113.005 | F7: =IF(AND(N(B7)>0,N(B6)>0),B7-B6,"") -> 580 | G7: =IF(AND(ISNUMBER(F7),N(C7)>0),F7/C7,"") -> 11.958763
A8: 46252 | B8: 46395 | C8: 51 | D8: 2.33 | E8: =IF(AND(N(C8)>0,N(D8)>0),C8*D8,"") -> 118.83 | F8: =IF(AND(N(B8)>0,N(B7)>0),B8-B7,"") -> 615 | G8: =IF(AND(ISNUMBER(F8),N(C8)>0),F8/C8,"") -> 12.058824
A9: 46261 | B9: 46960 | C9: 47 | D9: 2.33 | E9: =IF(AND(N(C9)>0,N(D9)>0),C9*D9,"") -> 109.51 | F9: =IF(AND(N(B9)>0,N(B8)>0),B9-B8,"") -> 565 | G9: =IF(AND(ISNUMBER(F9),N(C9)>0),F9/C9,"") -> 12.021277
A10: 46270 | B10: 47580 | C10: 50.5 | D10: 2.33 | E10: =IF(AND(N(C10)>0,N(D10)>0),C10*D10,"") -> 117.665 | F10: =IF(AND(N(B10)>0,N(B9)>0),B10-B9,"") -> 620 | G10: =IF(AND(ISNUMBER(F10),N(C10)>0),F10/C10,"") -> 12.277228
A11: 46279 | B11: 48150 | C11: 47.5 | D11: 2.33 | E11: =IF(AND(N(C11)>0,N(D11)>0),C11*D11,"") -> 110.675 | F11: =IF(AND(N(B11)>0,N(B10)>0),B11-B10,"") -> 570 | G11: =IF(AND(ISNUMBER(F11),N(C11)>0),F11/C11,"") -> 12
A12: 46289 | B12: 48790 | C12: 53 | D12: 2.33 | E12: =IF(AND(N(C12)>0,N(D12)>0),C12*D12,"") -> 123.49 | F12: =IF(AND(N(B12)>0,N(B11)>0),B12-B11,"") -> 640 | G12: =IF(AND(ISNUMBER(F12),N(C12)>0),F12/C12,"") -> 12.075472
A13: 46298 | B13: 49360 | C13: 48 | D13: 2.33 | E13: =IF(AND(N(C13)>0,N(D13)>0),C13*D13,"") -> 111.84 | F13: =IF(AND(N(B13)>0,N(B12)>0),B13-B12,"") -> 570 | G13: =IF(AND(ISNUMBER(F13),N(C13)>0),F13/C13,"") -> 11.875
E14: =IF(AND(N(C14)>0,N(D14)>0),C14*D14,"") | F14: =IF(AND(N(B14)>0,N(B13)>0),B14-B13,"") | G14: =IF(AND(ISNUMBER(F14),N(C14)>0),F14/C14,"")
E15: =IF(AND(N(C15)>0,N(D15)>0),C15*D15,"") | F15: =IF(AND(N(B15)>0,N(B14)>0),B15-B14,"") | G15: =IF(AND(ISNUMBER(F15),N(C15)>0),F15/C15,"")
E16: =IF(AND(N(C16)>0,N(D16)>0),C16*D16,"") | F16: =IF(AND(N(B16)>0,N(B15)>0),B16-B15,"") | G16: =IF(AND(ISNUMBER(F16),N(C16)>0),F16/C16,"")
E17: =IF(AND(N(C17)>0,N(D17)>0),C17*D17,"") | F17: =IF(AND(N(B17)>0,N(B16)>0),B17-B16,"") | G17: =IF(AND(ISNUMBER(F17),N(C17)>0),F17/C17,"")
E18: =IF(AND(N(C18)>0,N(D18)>0),C18*D18,"") | F18: =IF(AND(N(B18)>0,N(B17)>0),B18-B17,"") | G18: =IF(AND(ISNUMBER(F18),N(C18)>0),F18/C18,"")
E19: =IF(AND(N(C19)>0,N(D19)>0),C19*D19,"") | F19: =IF(AND(N(B19)>0,N(B18)>0),B19-B18,"") | G19: =IF(AND(ISNUMBER(F19),N(C19)>0),F19/C19,"")
E20: =IF(AND(N(C20)>0,N(D20)>0),C20*D20,"") | F20: =IF(AND(N(B20)>0,N(B19)>0),B20-B19,"") | G20: =IF(AND(ISNUMBER(F20),N(C20)>0),F20/C20,"")
E21: =IF(AND(N(C21)>0,N(D21)>0),C21*D21,"") | F21: =IF(AND(N(B21)>0,N(B20)>0),B21-B20,"") | G21: =IF(AND(ISNUMBER(F21),N(C21)>0),F21/C21,"")
E22: =IF(AND(N(C22)>0,N(D22)>0),C22*D22,"") | F22: =IF(AND(N(B22)>0,N(B21)>0),B22-B21,"") | G22: =IF(AND(ISNUMBER(F22),N(C22)>0),F22/C22,"")
E23: =IF(AND(N(C23)>0,N(D23)>0),C23*D23,"") | F23: =IF(AND(N(B23)>0,N(B22)>0),B23-B22,"") | G23: =IF(AND(ISNUMBER(F23),N(C23)>0),F23/C23,"")
E24: =IF(AND(N(C24)>0,N(D24)>0),C24*D24,"") | F24: =IF(AND(N(B24)>0,N(B23)>0),B24-B23,"") | G24: =IF(AND(ISNUMBER(F24),N(C24)>0),F24/C24,"")
E25: =IF(AND(N(C25)>0,N(D25)>0),C25*D25,"") | F25: =IF(AND(N(B25)>0,N(B24)>0),B25-B24,"") | G25: =IF(AND(ISNUMBER(F25),N(C25)>0),F25/C25,"")
... E305: =IF(AND(N(C305)>0,N(D305)>0),C305*D305,"") | F305: =IF(AND(N(B305)>0,N(B304)>0),B305-B304,"") | G305: =IF(AND(ISNUMBER(F305),N(C305)>0),F305/C305,"")

Sheet Maintenance
A1: Maintenance and expenses
A2: Every non-fuel expense: service, tires, insurance, registration...
A5: Date | B5: Odometer km | C5: Type | D5: Cost | E5: Details
A6: 46237 | B6: 45300 | C6: Oil change | D6: 220 | E6: 5W-30 oil with filter
A7: 46254 | B7: 46450 | C7: Car wash | D7: 30
A8: 46275 | B8: 47900 | C8: Tires | D8: 1600 | E8: Four tires
A9: 46293 | B9: 48950 | C9: Oil change | D9: 220 | E9: 5W-30 oil with filter

Sheet Guide
A1: How to use: Car Fuel & Expense Log
A2: Sheetaky.com · Ready Excel sheets in Arabic and English
A4: What is this sheet?
A5: The sheet calculates your real fuel consumption (km/L and L/100 km) from the fill log, the cost per kilometer including fuel and maintenance, and reminds you of the next oil change.
A7: Steps
A8: 1 | B8: In the Fuel sheet log every fill: date, odometer, liters and price per liter.
A9: 2 | B9: Fill the tank completely each time and log fills in order.
A10: 3 | B10: In the Maintenance sheet log every other expense and pick its type, including "Oil change".
A11: 4 | B11: Check the Summary for consumption, cost per km and the next oil change.
A13: Color legend
B14: Input cell: type or choose your value here (blue text on yellow).
B15: Calculated cell: automatic formula, protected from accidental edits.
B16: Table and section headers.
A18: Important notes
A19: • | B19: A negative distance in red means the odometer readings are out of order.
A20: • | B20: Sheets are protected without a password to keep formulas safe. To unprotect: Review → Unprotect Sheet.
A21: • | B21: The data shown is a worked example. Clear it and type your own data in the yellow cells only.
A22: • | B22: More free sheets in Arabic and English at Sheetaky.com
