Workbook

Sheet Breaker & Cable
A1: Breaker and Cable Size Selection with Derating and Voltage Drop
A2: Enter the load and installation conditions; the sheet finds design current, standard breaker and the smallest cable that meets ampacity and voltage drop
A4: Load
A5: Phases | B5: 3-phase | E5: Design current Ib (A) | G5: Breaker In (A)
A6: System voltage (V) | B6: 400 | C6: line-to-line for 3-ph | E6: =IF($B$5="3-phase",$B$7*1000/(SQRT(3)*$B$6*$B$8*$B$9),$B$7*1000/($B$6*$B$8*$B$9)) | G6: =IF(IF($B$5="3-phase",$B$7*1000/(SQRT(3)*$B$6*$B$8*$B$9),$B$7*1000/($B$6*$B$8*$B$9))<=0,0,IF(IF($B$5="3-phase",$B$7*1000/(SQRT(3)*$B$6*$B$8*$B$9),$B$7*1000/($B$6*$B$8*$B$9))>MAX('Tables'!$Q$4:$Q$26),"—",INDEX('Tables'!$Q$4:$Q$26,COUNTIF('Tables'!$Q$4:$Q$26,"<"&IF($B$5="3-phase",$B$7*1000/(SQRT(3)*$B$6*$B$8*$B$9),$B$7*1000/($B$6*$B$8*$B$9)))+1)))
A7: Load power (kW) | B7: 22 | C7: kW
A8: Power factor | B8: 0.86 | E8: Cable size (mm²) | G8: Voltage drop
A9: Efficiency (motors) | B9: 0.92 | E9: =IFERROR(INDEX($A$24:$A$39,MATCH("OK",$H$24:$H$39,0)),"Too big: use parallel cables") | G9: =IFERROR(INDEX($E$24:$E$39,MATCH("OK",$H$24:$H$39,0)),"")
A10: Load type | B10: Motor | H10: =INDEX(IF($B$13="PVC 70°C",'Tables'!$H$4:$H$18,'Tables'!$I$4:$I$18),(COUNTIF('Tables'!$G$4:$G$18,"<"&MAX(10,MIN(80,$B$15)))+1))*INDEX('Tables'!$L$4:$L$15,MIN(COUNTIF('Tables'!$K$4:$K$15,"<"&$B$16)+1,12))*INDEX('Tables'!$O$4:$O$7,MATCH($B$14,'Tables'!$N$4:$N$7,0))
A11: Cable and installation | E11: Cable Iz (A) | G11: Breaking capacity (kA)
A12: Conductor | B12: Copper | E12: =IFERROR(INDEX($C$24:$C$39,MATCH("OK",$H$24:$H$39,0)),"") | G12: =IF($B$19<=0,0,IF($B$19>MAX('Tables'!$S$4:$S$13),"—",INDEX('Tables'!$S$4:$S$13,COUNTIF('Tables'!$S$4:$S$13,"<"&$B$19)+1)))
A13: Insulation | B13: XLPE 90°C
A14: Installation method | B14: On perforated tray (E) | E14: Total derating factor | H14: =H10
A15: Ambient temperature (°C) | B15: 45 | C15: °C | E15: Suggested breaker curve | H15: =IF($B$10="Motor","C or D with motor protection",IF($B$10="Heater / lighting","B or C","C"))
A16: Grouped circuits | B16: 3 | E16: Earth conductor PE (mm²) | H16: =IFERROR(IF($E$9<=16,$E$9,IF($E$9<=35,16,IF($E$9/2<=0,0,IF($E$9/2>MAX($A$24:$A$39),"—",INDEX($A$24:$A$39,COUNTIF($A$24:$A$39,"<"&$E$9/2)+1))))),"")
A17: Cable length (m) | B17: 120 | C17: m | E17: Check Ib ≤ In ≤ Iz | H17: =IFERROR(IF(AND($E$6<=$G$6,$G$6<=INDEX($C$24:$C$39,MATCH("OK",$H$24:$H$39,0))),"OK","✗"),"✗")
A18: Max voltage drop | B18: 0.04 | E18: Required base ampacity (A) | H18: =IFERROR($G$6/H10,"")
A19: Fault current at board (kA) | B19: 15 | C19: kA
A22: Cable size comparison
A23: Size mm² | B23: Base ampacity A | C23: Derated Iz | D23: Drop V | E23: Drop % | F23: Ampacity | G23: Drop | H23: Status
A24: =INDEX('Tables'!$A$4:$A$19,1) | B24: =IF($B$12="Copper",IF($B$13="PVC 70°C",INDEX('Tables'!$B$4:$B$19,1),INDEX('Tables'!$C$4:$C$19,1)),IF($B$13="PVC 70°C",INDEX('Tables'!$D$4:$D$19,1),INDEX('Tables'!$E$4:$E$19,1))) | C24: =B24*$H$10 | D24: =IF(B24>0,IF($B$5="3-phase",SQRT(3),2)*$E$6*$B$17*(IF($B$12="Copper",'Tables'!$E$21,'Tables'!$E$22)/A24*$B$8+'Tables'!$E$23*SQRT(1-$B$8^2)),"") | E24: =IF(B24>0,D24/$B$6,"") | F24: =IF(B24<=0,"—",IF(C24>=$G$6,"OK","✗")) | G24: =IF(B24<=0,"—",IF(E24<=$B$18,"OK","✗")) | H24: =IF(AND(F24="OK",G24="OK"),"OK",IF(B24<=0,"n/a","Fail"))
A25: =INDEX('Tables'!$A$4:$A$19,2) | B25: =IF($B$12="Copper",IF($B$13="PVC 70°C",INDEX('Tables'!$B$4:$B$19,2),INDEX('Tables'!$C$4:$C$19,2)),IF($B$13="PVC 70°C",INDEX('Tables'!$D$4:$D$19,2),INDEX('Tables'!$E$4:$E$19,2))) | C25: =B25*$H$10 | D25: =IF(B25>0,IF($B$5="3-phase",SQRT(3),2)*$E$6*$B$17*(IF($B$12="Copper",'Tables'!$E$21,'Tables'!$E$22)/A25*$B$8+'Tables'!$E$23*SQRT(1-$B$8^2)),"") | E25: =IF(B25>0,D25/$B$6,"") | F25: =IF(B25<=0,"—",IF(C25>=$G$6,"OK","✗")) | G25: =IF(B25<=0,"—",IF(E25<=$B$18,"OK","✗")) | H25: =IF(AND(F25="OK",G25="OK"),"OK",IF(B25<=0,"n/a","Fail"))
A26: =INDEX('Tables'!$A$4:$A$19,3) | B26: =IF($B$12="Copper",IF($B$13="PVC 70°C",INDEX('Tables'!$B$4:$B$19,3),INDEX('Tables'!$C$4:$C$19,3)),IF($B$13="PVC 70°C",INDEX('Tables'!$D$4:$D$19,3),INDEX('Tables'!$E$4:$E$19,3))) | C26: =B26*$H$10 | D26: =IF(B26>0,IF($B$5="3-phase",SQRT(3),2)*$E$6*$B$17*(IF($B$12="Copper",'Tables'!$E$21,'Tables'!$E$22)/A26*$B$8+'Tables'!$E$23*SQRT(1-$B$8^2)),"") | E26: =IF(B26>0,D26/$B$6,"") | F26: =IF(B26<=0,"—",IF(C26>=$G$6,"OK","✗")) | G26: =IF(B26<=0,"—",IF(E26<=$B$18,"OK","✗")) | H26: =IF(AND(F26="OK",G26="OK"),"OK",IF(B26<=0,"n/a","Fail"))
A27: =INDEX('Tables'!$A$4:$A$19,4) | B27: =IF($B$12="Copper",IF($B$13="PVC 70°C",INDEX('Tables'!$B$4:$B$19,4),INDEX('Tables'!$C$4:$C$19,4)),IF($B$13="PVC 70°C",INDEX('Tables'!$D$4:$D$19,4),INDEX('Tables'!$E$4:$E$19,4))) | C27: =B27*$H$10 | D27: =IF(B27>0,IF($B$5="3-phase",SQRT(3),2)*$E$6*$B$17*(IF($B$12="Copper",'Tables'!$E$21,'Tables'!$E$22)/A27*$B$8+'Tables'!$E$23*SQRT(1-$B$8^2)),"") | E27: =IF(B27>0,D27/$B$6,"") | F27: =IF(B27<=0,"—",IF(C27>=$G$6,"OK","✗")) | G27: =IF(B27<=0,"—",IF(E27<=$B$18,"OK","✗")) | H27: =IF(AND(F27="OK",G27="OK"),"OK",IF(B27<=0,"n/a","Fail"))
A28: =INDEX('Tables'!$A$4:$A$19,5) | B28: =IF($B$12="Copper",IF($B$13="PVC 70°C",INDEX('Tables'!$B$4:$B$19,5),INDEX('Tables'!$C$4:$C$19,5)),IF($B$13="PVC 70°C",INDEX('Tables'!$D$4:$D$19,5),INDEX('Tables'!$E$4:$E$19,5))) | C28: =B28*$H$10 | D28: =IF(B28>0,IF($B$5="3-phase",SQRT(3),2)*$E$6*$B$17*(IF($B$12="Copper",'Tables'!$E$21,'Tables'!$E$22)/A28*$B$8+'Tables'!$E$23*SQRT(1-$B$8^2)),"") | E28: =IF(B28>0,D28/$B$6,"") | F28: =IF(B28<=0,"—",IF(C28>=$G$6,"OK","✗")) | G28: =IF(B28<=0,"—",IF(E28<=$B$18,"OK","✗")) | H28: =IF(AND(F28="OK",G28="OK"),"OK",IF(B28<=0,"n/a","Fail"))
A29: =INDEX('Tables'!$A$4:$A$19,6) | B29: =IF($B$12="Copper",IF($B$13="PVC 70°C",INDEX('Tables'!$B$4:$B$19,6),INDEX('Tables'!$C$4:$C$19,6)),IF($B$13="PVC 70°C",INDEX('Tables'!$D$4:$D$19,6),INDEX('Tables'!$E$4:$E$19,6))) | C29: =B29*$H$10 | D29: =IF(B29>0,IF($B$5="3-phase",SQRT(3),2)*$E$6*$B$17*(IF($B$12="Copper",'Tables'!$E$21,'Tables'!$E$22)/A29*$B$8+'Tables'!$E$23*SQRT(1-$B$8^2)),"") | E29: =IF(B29>0,D29/$B$6,"") | F29: =IF(B29<=0,"—",IF(C29>=$G$6,"OK","✗")) | G29: =IF(B29<=0,"—",IF(E29<=$B$18,"OK","✗")) | H29: =IF(AND(F29="OK",G29="OK"),"OK",IF(B29<=0,"n/a","Fail"))
A30: =INDEX('Tables'!$A$4:$A$19,7) | B30: =IF($B$12="Copper",IF($B$13="PVC 70°C",INDEX('Tables'!$B$4:$B$19,7),INDEX('Tables'!$C$4:$C$19,7)),IF($B$13="PVC 70°C",INDEX('Tables'!$D$4:$D$19,7),INDEX('Tables'!$E$4:$E$19,7))) | C30: =B30*$H$10 | D30: =IF(B30>0,IF($B$5="3-phase",SQRT(3),2)*$E$6*$B$17*(IF($B$12="Copper",'Tables'!$E$21,'Tables'!$E$22)/A30*$B$8+'Tables'!$E$23*SQRT(1-$B$8^2)),"") | E30: =IF(B30>0,D30/$B$6,"") | F30: =IF(B30<=0,"—",IF(C30>=$G$6,"OK","✗")) | G30: =IF(B30<=0,"—",IF(E30<=$B$18,"OK","✗")) | H30: =IF(AND(F30="OK",G30="OK"),"OK",IF(B30<=0,"n/a","Fail"))
A31: =INDEX('Tables'!$A$4:$A$19,8) | B31: =IF($B$12="Copper",IF($B$13="PVC 70°C",INDEX('Tables'!$B$4:$B$19,8),INDEX('Tables'!$C$4:$C$19,8)),IF($B$13="PVC 70°C",INDEX('Tables'!$D$4:$D$19,8),INDEX('Tables'!$E$4:$E$19,8))) | C31: =B31*$H$10 | D31: =IF(B31>0,IF($B$5="3-phase",SQRT(3),2)*$E$6*$B$17*(IF($B$12="Copper",'Tables'!$E$21,'Tables'!$E$22)/A31*$B$8+'Tables'!$E$23*SQRT(1-$B$8^2)),"") | E31: =IF(B31>0,D31/$B$6,"") | F31: =IF(B31<=0,"—",IF(C31>=$G$6,"OK","✗")) | G31: =IF(B31<=0,"—",IF(E31<=$B$18,"OK","✗")) | H31: =IF(AND(F31="OK",G31="OK"),"OK",IF(B31<=0,"n/a","Fail"))
A32: =INDEX('Tables'!$A$4:$A$19,9) | B32: =IF($B$12="Copper",IF($B$13="PVC 70°C",INDEX('Tables'!$B$4:$B$19,9),INDEX('Tables'!$C$4:$C$19,9)),IF($B$13="PVC 70°C",INDEX('Tables'!$D$4:$D$19,9),INDEX('Tables'!$E$4:$E$19,9))) | C32: =B32*$H$10 | D32: =IF(B32>0,IF($B$5="3-phase",SQRT(3),2)*$E$6*$B$17*(IF($B$12="Copper",'Tables'!$E$21,'Tables'!$E$22)/A32*$B$8+'Tables'!$E$23*SQRT(1-$B$8^2)),"") | E32: =IF(B32>0,D32/$B$6,"") | F32: =IF(B32<=0,"—",IF(C32>=$G$6,"OK","✗")) | G32: =IF(B32<=0,"—",IF(E32<=$B$18,"OK","✗")) | H32: =IF(AND(F32="OK",G32="OK"),"OK",IF(B32<=0,"n/a","Fail"))
A33: =INDEX('Tables'!$A$4:$A$19,10) | B33: =IF($B$12="Copper",IF($B$13="PVC 70°C",INDEX('Tables'!$B$4:$B$19,10),INDEX('Tables'!$C$4:$C$19,10)),IF($B$13="PVC 70°C",INDEX('Tables'!$D$4:$D$19,10),INDEX('Tables'!$E$4:$E$19,10))) | C33: =B33*$H$10 | D33: =IF(B33>0,IF($B$5="3-phase",SQRT(3),2)*$E$6*$B$17*(IF($B$12="Copper",'Tables'!$E$21,'Tables'!$E$22)/A33*$B$8+'Tables'!$E$23*SQRT(1-$B$8^2)),"") | E33: =IF(B33>0,D33/$B$6,"") | F33: =IF(B33<=0,"—",IF(C33>=$G$6,"OK","✗")) | G33: =IF(B33<=0,"—",IF(E33<=$B$18,"OK","✗")) | H33: =IF(AND(F33="OK",G33="OK"),"OK",IF(B33<=0,"n/a","Fail"))
A34: =INDEX('Tables'!$A$4:$A$19,11) | B34: =IF($B$12="Copper",IF($B$13="PVC 70°C",INDEX('Tables'!$B$4:$B$19,11),INDEX('Tables'!$C$4:$C$19,11)),IF($B$13="PVC 70°C",INDEX('Tables'!$D$4:$D$19,11),INDEX('Tables'!$E$4:$E$19,11))) | C34: =B34*$H$10 | D34: =IF(B34>0,IF($B$5="3-phase",SQRT(3),2)*$E$6*$B$17*(IF($B$12="Copper",'Tables'!$E$21,'Tables'!$E$22)/A34*$B$8+'Tables'!$E$23*SQRT(1-$B$8^2)),"") | E34: =IF(B34>0,D34/$B$6,"") | F34: =IF(B34<=0,"—",IF(C34>=$G$6,"OK","✗")) | G34: =IF(B34<=0,"—",IF(E34<=$B$18,"OK","✗")) | H34: =IF(AND(F34="OK",G34="OK"),"OK",IF(B34<=0,"n/a","Fail"))
A35: =INDEX('Tables'!$A$4:$A$19,12) | B35: =IF($B$12="Copper",IF($B$13="PVC 70°C",INDEX('Tables'!$B$4:$B$19,12),INDEX('Tables'!$C$4:$C$19,12)),IF($B$13="PVC 70°C",INDEX('Tables'!$D$4:$D$19,12),INDEX('Tables'!$E$4:$E$19,12))) | C35: =B35*$H$10 | D35: =IF(B35>0,IF($B$5="3-phase",SQRT(3),2)*$E$6*$B$17*(IF($B$12="Copper",'Tables'!$E$21,'Tables'!$E$22)/A35*$B$8+'Tables'!$E$23*SQRT(1-$B$8^2)),"") | E35: =IF(B35>0,D35/$B$6,"") | F35: =IF(B35<=0,"—",IF(C35>=$G$6,"OK","✗")) | G35: =IF(B35<=0,"—",IF(E35<=$B$18,"OK","✗")) | H35: =IF(AND(F35="OK",G35="OK"),"OK",IF(B35<=0,"n/a","Fail"))
A36: =INDEX('Tables'!$A$4:$A$19,13) | B36: =IF($B$12="Copper",IF($B$13="PVC 70°C",INDEX('Tables'!$B$4:$B$19,13),INDEX('Tables'!$C$4:$C$19,13)),IF($B$13="PVC 70°C",INDEX('Tables'!$D$4:$D$19,13),INDEX('Tables'!$E$4:$E$19,13))) | C36: =B36*$H$10 | D36: =IF(B36>0,IF($B$5="3-phase",SQRT(3),2)*$E$6*$B$17*(IF($B$12="Copper",'Tables'!$E$21,'Tables'!$E$22)/A36*$B$8+'Tables'!$E$23*SQRT(1-$B$8^2)),"") | E36: =IF(B36>0,D36/$B$6,"") | F36: =IF(B36<=0,"—",IF(C36>=$G$6,"OK","✗")) | G36: =IF(B36<=0,"—",IF(E36<=$B$18,"OK","✗")) | H36: =IF(AND(F36="OK",G36="OK"),"OK",IF(B36<=0,"n/a","Fail"))
A37: =INDEX('Tables'!$A$4:$A$19,14) | B37: =IF($B$12="Copper",IF($B$13="PVC 70°C",INDEX('Tables'!$B$4:$B$19,14),INDEX('Tables'!$C$4:$C$19,14)),IF($B$13="PVC 70°C",INDEX('Tables'!$D$4:$D$19,14),INDEX('Tables'!$E$4:$E$19,14))) | C37: =B37*$H$10 | D37: =IF(B37>0,IF($B$5="3-phase",SQRT(3),2)*$E$6*$B$17*(IF($B$12="Copper",'Tables'!$E$21,'Tables'!$E$22)/A37*$B$8+'Tables'!$E$23*SQRT(1-$B$8^2)),"") | E37: =IF(B37>0,D37/$B$6,"") | F37: =IF(B37<=0,"—",IF(C37>=$G$6,"OK","✗")) | G37: =IF(B37<=0,"—",IF(E37<=$B$18,"OK","✗")) | H37: =IF(AND(F37="OK",G37="OK"),"OK",IF(B37<=0,"n/a","Fail"))
A38: =INDEX('Tables'!$A$4:$A$19,15) | B38: =IF($B$12="Copper",IF($B$13="PVC 70°C",INDEX('Tables'!$B$4:$B$19,15),INDEX('Tables'!$C$4:$C$19,15)),IF($B$13="PVC 70°C",INDEX('Tables'!$D$4:$D$19,15),INDEX('Tables'!$E$4:$E$19,15))) | C38: =B38*$H$10 | D38: =IF(B38>0,IF($B$5="3-phase",SQRT(3),2)*$E$6*$B$17*(IF($B$12="Copper",'Tables'!$E$21,'Tables'!$E$22)/A38*$B$8+'Tables'!$E$23*SQRT(1-$B$8^2)),"") | E38: =IF(B38>0,D38/$B$6,"") | F38: =IF(B38<=0,"—",IF(C38>=$G$6,"OK","✗")) | G38: =IF(B38<=0,"—",IF(E38<=$B$18,"OK","✗")) | H38: =IF(AND(F38="OK",G38="OK"),"OK",IF(B38<=0,"n/a","Fail"))
A39: =INDEX('Tables'!$A$4:$A$19,16) | B39: =IF($B$12="Copper",IF($B$13="PVC 70°C",INDEX('Tables'!$B$4:$B$19,16),INDEX('Tables'!$C$4:$C$19,16)),IF($B$13="PVC 70°C",INDEX('Tables'!$D$4:$D$19,16),INDEX('Tables'!$E$4:$E$19,16))) | C39: =B39*$H$10 | D39: =IF(B39>0,IF($B$5="3-phase",SQRT(3),2)*$E$6*$B$17*(IF($B$12="Copper",'Tables'!$E$21,'Tables'!$E$22)/A39*$B$8+'Tables'!$E$23*SQRT(1-$B$8^2)),"") | E39: =IF(B39>0,D39/$B$6,"") | F39: =IF(B39<=0,"—",IF(C39>=$G$6,"OK","✗")) | G39: =IF(B39<=0,"—",IF(E39<=$B$18,"OK","✗")) | H39: =IF(AND(F39="OK",G39="OK"),"OK",IF(B39<=0,"n/a","Fail"))

Sheet Tables
A1: Reference tables (editable)
A2: Approximate reference values in the style of IEC 60364-5-52 method C; match them to your local code and manufacturer data
A3: Size mm² | B3: Cu PVC | C3: Cu XLPE | D3: Al PVC | E3: Al XLPE | G3: Temp °C | H3: PVC | I3: XLPE | K3: Circuits | L3: Factor | N3: Installation method | O3: Factor | Q3: Breakers A | S3: Breaking kA
A4: 1.5 | B4: 17.5 | C4: 23 | D4: 0 | E4: 0 | G4: 10 | H4: 1.22 | I4: 1.15 | K4: 1 | L4: 1 | N4: Clipped direct on wall (C) | O4: 1 | Q4: 6 | S4: 3
A5: 2.5 | B5: 24 | C5: 31 | D5: 0 | E5: 0 | G5: 15 | H5: 1.17 | I5: 1.12 | K5: 2 | L5: 0.8 | N5: On perforated tray (E) | O5: 1.1 | Q5: 10 | S5: 4.5
A6: 4 | B6: 32 | C6: 42 | D6: 0 | E6: 0 | G6: 20 | H6: 1.12 | I6: 1.08 | K6: 3 | L6: 0.7 | N6: In conduit on wall (B1) | O6: 0.88 | Q6: 16 | S6: 6
A7: 6 | B7: 41 | C7: 54 | D7: 0 | E7: 0 | G7: 25 | H7: 1.06 | I7: 1.04 | K7: 4 | L7: 0.65 | N7: Buried direct (D) | O7: 0.92 | Q7: 20 | S7: 10
A8: 10 | B8: 57 | C8: 75 | D8: 0 | E8: 0 | G8: 30 | H8: 1 | I8: 1 | K8: 5 | L8: 0.6 | Q8: 25 | S8: 15
A9: 16 | B9: 76 | C9: 100 | D9: 59 | E9: 77 | G9: 35 | H9: 0.94 | I9: 0.96 | K9: 6 | L9: 0.57 | Q9: 32 | S9: 25
A10: 25 | B10: 96 | C10: 127 | D10: 73 | E10: 98 | G10: 40 | H10: 0.87 | I10: 0.91 | K10: 7 | L10: 0.54 | Q10: 40 | S10: 36
A11: 35 | B11: 119 | C11: 158 | D11: 90 | E11: 122 | G11: 45 | H11: 0.79 | I11: 0.87 | K11: 8 | L11: 0.52 | Q11: 50 | S11: 50
A12: 50 | B12: 144 | C12: 192 | D12: 110 | E12: 149 | G12: 50 | H12: 0.71 | I12: 0.82 | K12: 9 | L12: 0.5 | Q12: 63 | S12: 70
A13: 70 | B13: 184 | C13: 246 | D13: 140 | E13: 192 | G13: 55 | H13: 0.61 | I13: 0.76 | K13: 12 | L13: 0.45 | Q13: 80 | S13: 100
A14: 95 | B14: 223 | C14: 298 | D14: 170 | E14: 235 | G14: 60 | H14: 0.5 | I14: 0.71 | K14: 16 | L14: 0.41 | Q14: 100
A15: 120 | B15: 259 | C15: 346 | D15: 197 | E15: 273 | G15: 65 | H15: 0 | I15: 0.65 | K15: 20 | L15: 0.38 | Q15: 125
A16: 150 | B16: 299 | C16: 395 | D16: 227 | E16: 316 | G16: 70 | H16: 0 | I16: 0.58 | Q16: 160
A17: 185 | B17: 341 | C17: 450 | D17: 259 | E17: 363 | G17: 75 | H17: 0 | I17: 0.5 | Q17: 200
A18: 240 | B18: 403 | C18: 538 | D18: 305 | E18: 430 | G18: 80 | H18: 0 | I18: 0.41 | Q18: 250
A19: 300 | B19: 464 | C19: 621 | D19: 351 | E19: 497 | Q19: 315
Q20: 400
A21: ρ copper (Ω·mm²/m at 70°C) | E21: 0.0225 | Q21: 500
A22: ρ aluminium | E22: 0.036 | Q22: 630
A23: Cable reactance (Ω/m) | E23: 8e-05 | Q23: 800
Q24: 1000
Q25: 1250
Q26: 1600

Sheet Guide
A1: How to use: Breaker and Cable Size Selection with Derating and Voltage Drop
A2: Sheetaky.com · Ready Excel sheets in Arabic and English
A4: What is this sheet?
A5: The sheet computes the design current, picks the next standard breaker, applies temperature, grouping and installation factors to cable ampacity and checks voltage drop over the length, showing the smallest size that passes both.
A7: Steps
A8: 1 | B8: Pick phases and voltage, then enter load power and power factor.
A9: 2 | B9: Pick conductor, insulation, installation method, temperature and grouped circuits.
A10: 3 | B10: Enter cable length, voltage-drop limit and the fault level at the board.
A11: 4 | B11: Read the breaker, cable and checks, and review the size comparison table.
A13: Color legend
B14: Input cell: type or choose your value here (blue text on yellow).
B15: Calculated cell: automatic formula, protected from accidental edits.
B16: Table and section headers.
A18: Important notes
A19: • | B19: Ampacity values on the Tables sheet are approximate references in the style of IEC 60364-5-52 (method C); match them to your local code and certified cable data before installing.
A20: • | B20: The sheet is a preliminary selection tool and does not replace a certified engineer calculation covering short-circuit withstand and protection discrimination.
A21: • | B21: Sheets are protected without a password to keep formulas safe. To unprotect: Review → Unprotect Sheet.
A22: • | B22: The data shown is a worked example. Clear it and type your own data in the yellow cells only.
A23: • | B23: More free sheets in Arabic and English at Sheetaky.com
