Workbook

Sheet Boundary
A1: Land Boundary: Area, Perimeter and AutoCAD Polyline
A2: Enter the plot corner coordinates in order to get area, perimeter, side lengths, azimuths and AutoCAD commands
A4: Corners in order | E4: Settings
A5: Point | B5: Northing N | C5: Easting E | E5: Closed line? | F5: Yes
A6: 1 | B6: 2845100 | C6: 512300 | E6: Text height | F6: 1
A7: 2 | B7: 2845100 | C7: 512360.25 | E7: Boundary layer | F7: SK_BOUNDARY
A8: 3 | B8: 2845128.4 | C8: 512392.1 | E8: Lengths layer | F8: SK_LEN
A9: 4 | B9: 2845165.3 | C9: 512385.7 | E9: Results
A10: 5 | B10: 2845172.8 | C10: 512330.4 | E10: Corners | F10: =SUMPRODUCT(--ISNUMBER($B$6:$B$35),--ISNUMBER($C$6:$C$35))
A11: 6 | B11: 2845140.1 | C11: 512298.2 | E11: Row sequence | F11: =IF(AND($F$10>=3,COUNT(B6:B6)>0,SUMPRODUCT(--ISNUMBER(B6:INDEX($B$6:$B$35,$F$10)))=$F$10),"OK ✓","Enter at least 3 corners with no empty rows")
E12: Area (m²) | F12: =IF($F$10>=3,ABS(SUM('Sides'!$F$6:$F$35))/2,0)
E13: Perimeter (m) | F13: =SUM('Sides'!$B$6:$B$35)
E14: Area in hectares | F14: =$F$12/10000
E15: Area in feddan | F15: =$F$12/4200.833
E16: Area in dunum (1000 m²) | F16: =$F$12/1000
E17: Centroid E | F17: =IF($F$12>0,SUM('Sides'!$L$6:$L$35)/(3*SUM('Sides'!$F$6:$F$35)),0)
E18: Centroid N | F18: =IF($F$12>0,SUM('Sides'!$M$6:$M$35)/(3*SUM('Sides'!$F$6:$F$35)),0)
E19: Order direction | F19: =IF(SUM('Sides'!$F$6:$F$35)<0,"Clockwise","Anticlockwise")

Sheet Sides
A1: Side calculations
A2: Calculated automatically from the Boundary sheet
A5: From | B5: Length | C5: Azimuth | D5: Az D°M'S" | E5: CAD text angle | F5: Cross (helper) | G5: Mid E | H5: Mid N | I5: Label E | J5: Label N | K5: Cumulative | L5: Cx help | M5: Cy help
A6: =IF(1<='Boundary'!$F$10,'Boundary'!A6,"") | B6: =IF(AND(1<='Boundary'!$F$10,OR('Boundary'!$F$5="Yes",1<'Boundary'!$F$10)),SQRT((INDEX('Boundary'!$B$6:$B$35,IF(1='Boundary'!$F$10,1,1+1))-'Boundary'!B6)^2+(INDEX('Boundary'!$C$6:$C$35,IF(1='Boundary'!$F$10,1,1+1))-'Boundary'!C6)^2),"") | C6: =IF(AND(1<='Boundary'!$F$10,OR('Boundary'!$F$5="Yes",1<'Boundary'!$F$10)),MOD(DEGREES(ATAN2((INDEX('Boundary'!$B$6:$B$35,IF(1='Boundary'!$F$10,1,1+1))-'Boundary'!B6),(INDEX('Boundary'!$C$6:$C$35,IF(1='Boundary'!$F$10,1,1+1))-'Boundary'!C6))),360),"") | D6: =IF(AND(1<='Boundary'!$F$10,OR('Boundary'!$F$5="Yes",1<'Boundary'!$F$10)),INT(MOD(ROUND(MOD(C6,360)*3600,0),1296000)/3600)&"°"&TEXT(INT(MOD(MOD(ROUND(MOD(C6,360)*3600,0),1296000),3600)/60),"00")&"'"&TEXT(MOD(MOD(ROUND(MOD(C6,360)*3600,0),1296000),60),"00")&"""","") | E6: =IF(AND(1<='Boundary'!$F$10,OR('Boundary'!$F$5="Yes",1<'Boundary'!$F$10)),IF(AND(MOD(DEGREES(ATAN2((INDEX('Boundary'!$C$6:$C$35,IF(1='Boundary'!$F$10,1,1+1))-'Boundary'!C6),(INDEX('Boundary'!$B$6:$B$35,IF(1='Boundary'!$F$10,1,1+1))-'Boundary'!B6))),360)>90,MOD(DEGREES(ATAN2((INDEX('Boundary'!$C$6:$C$35,IF(1='Boundary'!$F$10,1,1+1))-'Boundary'!C6),(INDEX('Boundary'!$B$6:$B$35,IF(1='Boundary'!$F$10,1,1+1))-'Boundary'!B6))),360)<=270),MOD(DEGREES(ATAN2((INDEX('Boundary'!$C$6:$C$35,IF(1='Boundary'!$F$10,1,1+1))-'Boundary'!C6),(INDEX('Boundary'!$B$6:$B$35,IF(1='Boundary'!$F$10,1,1+1))-'Boundary'!B6))),360)-180,MOD(DEGREES(ATAN2((INDEX('Boundary'!$C$6:$C$35,IF(1='Boundary'!$F$10,1,1+1))-'Boundary'!C6),(INDEX('Boundary'!$B$6:$B$35,IF(1='Boundary'!$F$10,1,1+1))-'Boundary'!B6))),360)),"") | F6: =IF(1<='Boundary'!$F$10,'Boundary'!C6*INDEX('Boundary'!$B$6:$B$35,IF(1='Boundary'!$F$10,1,1+1))-INDEX('Boundary'!$C$6:$C$35,IF(1='Boundary'!$F$10,1,1+1))*'Boundary'!B6,0) | G6: =IF(AND(1<='Boundary'!$F$10,OR('Boundary'!$F$5="Yes",1<'Boundary'!$F$10)),('Boundary'!C6+INDEX('Boundary'!$C$6:$C$35,IF(1='Boundary'!$F$10,1,1+1)))/2,"") | H6: =IF(AND(1<='Boundary'!$F$10,OR('Boundary'!$F$5="Yes",1<'Boundary'!$F$10)),('Boundary'!B6+INDEX('Boundary'!$B$6:$B$35,IF(1='Boundary'!$F$10,1,1+1)))/2,"") | I6: =IF(AND(1<='Boundary'!$F$10,OR('Boundary'!$F$5="Yes",1<'Boundary'!$F$10)),G6-0.8*'Boundary'!$F$6*SIN(RADIANS(E6)),"") | J6: =IF(AND(1<='Boundary'!$F$10,OR('Boundary'!$F$5="Yes",1<'Boundary'!$F$10)),H6+0.8*'Boundary'!$F$6*COS(RADIANS(E6)),"") | K6: =IF(1<='Boundary'!$F$10,""&" "&SUBSTITUTE(ROUND('Boundary'!C6,3)&"",",",".")&","&SUBSTITUTE(ROUND('Boundary'!B6,3)&"",",","."),"") | L6: =IF(1<='Boundary'!$F$10,('Boundary'!C6+INDEX('Boundary'!$C$6:$C$35,IF(1='Boundary'!$F$10,1,1+1)))*F6,0) | M6: =IF(1<='Boundary'!$F$10,('Boundary'!B6+INDEX('Boundary'!$B$6:$B$35,IF(1='Boundary'!$F$10,1,1+1)))*F6,0)
A7: =IF(2<='Boundary'!$F$10,'Boundary'!A7,"") | B7: =IF(AND(2<='Boundary'!$F$10,OR('Boundary'!$F$5="Yes",2<'Boundary'!$F$10)),SQRT((INDEX('Boundary'!$B$6:$B$35,IF(2='Boundary'!$F$10,1,2+1))-'Boundary'!B7)^2+(INDEX('Boundary'!$C$6:$C$35,IF(2='Boundary'!$F$10,1,2+1))-'Boundary'!C7)^2),"") | C7: =IF(AND(2<='Boundary'!$F$10,OR('Boundary'!$F$5="Yes",2<'Boundary'!$F$10)),MOD(DEGREES(ATAN2((INDEX('Boundary'!$B$6:$B$35,IF(2='Boundary'!$F$10,1,2+1))-'Boundary'!B7),(INDEX('Boundary'!$C$6:$C$35,IF(2='Boundary'!$F$10,1,2+1))-'Boundary'!C7))),360),"") | D7: =IF(AND(2<='Boundary'!$F$10,OR('Boundary'!$F$5="Yes",2<'Boundary'!$F$10)),INT(MOD(ROUND(MOD(C7,360)*3600,0),1296000)/3600)&"°"&TEXT(INT(MOD(MOD(ROUND(MOD(C7,360)*3600,0),1296000),3600)/60),"00")&"'"&TEXT(MOD(MOD(ROUND(MOD(C7,360)*3600,0),1296000),60),"00")&"""","") | E7: =IF(AND(2<='Boundary'!$F$10,OR('Boundary'!$F$5="Yes",2<'Boundary'!$F$10)),IF(AND(MOD(DEGREES(ATAN2((INDEX('Boundary'!$C$6:$C$35,IF(2='Boundary'!$F$10,1,2+1))-'Boundary'!C7),(INDEX('Boundary'!$B$6:$B$35,IF(2='Boundary'!$F$10,1,2+1))-'Boundary'!B7))),360)>90,MOD(DEGREES(ATAN2((INDEX('Boundary'!$C$6:$C$35,IF(2='Boundary'!$F$10,1,2+1))-'Boundary'!C7),(INDEX('Boundary'!$B$6:$B$35,IF(2='Boundary'!$F$10,1,2+1))-'Boundary'!B7))),360)<=270),MOD(DEGREES(ATAN2((INDEX('Boundary'!$C$6:$C$35,IF(2='Boundary'!$F$10,1,2+1))-'Boundary'!C7),(INDEX('Boundary'!$B$6:$B$35,IF(2='Boundary'!$F$10,1,2+1))-'Boundary'!B7))),360)-180,MOD(DEGREES(ATAN2((INDEX('Boundary'!$C$6:$C$35,IF(2='Boundary'!$F$10,1,2+1))-'Boundary'!C7),(INDEX('Boundary'!$B$6:$B$35,IF(2='Boundary'!$F$10,1,2+1))-'Boundary'!B7))),360)),"") | F7: =IF(2<='Boundary'!$F$10,'Boundary'!C7*INDEX('Boundary'!$B$6:$B$35,IF(2='Boundary'!$F$10,1,2+1))-INDEX('Boundary'!$C$6:$C$35,IF(2='Boundary'!$F$10,1,2+1))*'Boundary'!B7,0) | G7: =IF(AND(2<='Boundary'!$F$10,OR('Boundary'!$F$5="Yes",2<'Boundary'!$F$10)),('Boundary'!C7+INDEX('Boundary'!$C$6:$C$35,IF(2='Boundary'!$F$10,1,2+1)))/2,"") | H7: =IF(AND(2<='Boundary'!$F$10,OR('Boundary'!$F$5="Yes",2<'Boundary'!$F$10)),('Boundary'!B7+INDEX('Boundary'!$B$6:$B$35,IF(2='Boundary'!$F$10,1,2+1)))/2,"") | I7: =IF(AND(2<='Boundary'!$F$10,OR('Boundary'!$F$5="Yes",2<'Boundary'!$F$10)),G7-0.8*'Boundary'!$F$6*SIN(RADIANS(E7)),"") | J7: =IF(AND(2<='Boundary'!$F$10,OR('Boundary'!$F$5="Yes",2<'Boundary'!$F$10)),H7+0.8*'Boundary'!$F$6*COS(RADIANS(E7)),"") | K7: =IF(2<='Boundary'!$F$10,K6&" "&SUBSTITUTE(ROUND('Boundary'!C7,3)&"",",",".")&","&SUBSTITUTE(ROUND('Boundary'!B7,3)&"",",","."),K6) | L7: =IF(2<='Boundary'!$F$10,('Boundary'!C7+INDEX('Boundary'!$C$6:$C$35,IF(2='Boundary'!$F$10,1,2+1)))*F7,0) | M7: =IF(2<='Boundary'!$F$10,('Boundary'!B7+INDEX('Boundary'!$B$6:$B$35,IF(2='Boundary'!$F$10,1,2+1)))*F7,0)
A8: =IF(3<='Boundary'!$F$10,'Boundary'!A8,"") | B8: =IF(AND(3<='Boundary'!$F$10,OR('Boundary'!$F$5="Yes",3<'Boundary'!$F$10)),SQRT((INDEX('Boundary'!$B$6:$B$35,IF(3='Boundary'!$F$10,1,3+1))-'Boundary'!B8)^2+(INDEX('Boundary'!$C$6:$C$35,IF(3='Boundary'!$F$10,1,3+1))-'Boundary'!C8)^2),"") | C8: =IF(AND(3<='Boundary'!$F$10,OR('Boundary'!$F$5="Yes",3<'Boundary'!$F$10)),MOD(DEGREES(ATAN2((INDEX('Boundary'!$B$6:$B$35,IF(3='Boundary'!$F$10,1,3+1))-'Boundary'!B8),(INDEX('Boundary'!$C$6:$C$35,IF(3='Boundary'!$F$10,1,3+1))-'Boundary'!C8))),360),"") | D8: =IF(AND(3<='Boundary'!$F$10,OR('Boundary'!$F$5="Yes",3<'Boundary'!$F$10)),INT(MOD(ROUND(MOD(C8,360)*3600,0),1296000)/3600)&"°"&TEXT(INT(MOD(MOD(ROUND(MOD(C8,360)*3600,0),1296000),3600)/60),"00")&"'"&TEXT(MOD(MOD(ROUND(MOD(C8,360)*3600,0),1296000),60),"00")&"""","") | E8: =IF(AND(3<='Boundary'!$F$10,OR('Boundary'!$F$5="Yes",3<'Boundary'!$F$10)),IF(AND(MOD(DEGREES(ATAN2((INDEX('Boundary'!$C$6:$C$35,IF(3='Boundary'!$F$10,1,3+1))-'Boundary'!C8),(INDEX('Boundary'!$B$6:$B$35,IF(3='Boundary'!$F$10,1,3+1))-'Boundary'!B8))),360)>90,MOD(DEGREES(ATAN2((INDEX('Boundary'!$C$6:$C$35,IF(3='Boundary'!$F$10,1,3+1))-'Boundary'!C8),(INDEX('Boundary'!$B$6:$B$35,IF(3='Boundary'!$F$10,1,3+1))-'Boundary'!B8))),360)<=270),MOD(DEGREES(ATAN2((INDEX('Boundary'!$C$6:$C$35,IF(3='Boundary'!$F$10,1,3+1))-'Boundary'!C8),(INDEX('Boundary'!$B$6:$B$35,IF(3='Boundary'!$F$10,1,3+1))-'Boundary'!B8))),360)-180,MOD(DEGREES(ATAN2((INDEX('Boundary'!$C$6:$C$35,IF(3='Boundary'!$F$10,1,3+1))-'Boundary'!C8),(INDEX('Boundary'!$B$6:$B$35,IF(3='Boundary'!$F$10,1,3+1))-'Boundary'!B8))),360)),"") | F8: =IF(3<='Boundary'!$F$10,'Boundary'!C8*INDEX('Boundary'!$B$6:$B$35,IF(3='Boundary'!$F$10,1,3+1))-INDEX('Boundary'!$C$6:$C$35,IF(3='Boundary'!$F$10,1,3+1))*'Boundary'!B8,0) | G8: =IF(AND(3<='Boundary'!$F$10,OR('Boundary'!$F$5="Yes",3<'Boundary'!$F$10)),('Boundary'!C8+INDEX('Boundary'!$C$6:$C$35,IF(3='Boundary'!$F$10,1,3+1)))/2,"") | H8: =IF(AND(3<='Boundary'!$F$10,OR('Boundary'!$F$5="Yes",3<'Boundary'!$F$10)),('Boundary'!B8+INDEX('Boundary'!$B$6:$B$35,IF(3='Boundary'!$F$10,1,3+1)))/2,"") | I8: =IF(AND(3<='Boundary'!$F$10,OR('Boundary'!$F$5="Yes",3<'Boundary'!$F$10)),G8-0.8*'Boundary'!$F$6*SIN(RADIANS(E8)),"") | J8: =IF(AND(3<='Boundary'!$F$10,OR('Boundary'!$F$5="Yes",3<'Boundary'!$F$10)),H8+0.8*'Boundary'!$F$6*COS(RADIANS(E8)),"") | K8: =IF(3<='Boundary'!$F$10,K7&" "&SUBSTITUTE(ROUND('Boundary'!C8,3)&"",",",".")&","&SUBSTITUTE(ROUND('Boundary'!B8,3)&"",",","."),K7) | L8: =IF(3<='Boundary'!$F$10,('Boundary'!C8+INDEX('Boundary'!$C$6:$C$35,IF(3='Boundary'!$F$10,1,3+1)))*F8,0) | M8: =IF(3<='Boundary'!$F$10,('Boundary'!B8+INDEX('Boundary'!$B$6:$B$35,IF(3='Boundary'!$F$10,1,3+1)))*F8,0)
A9: =IF(4<='Boundary'!$F$10,'Boundary'!A9,"") | B9: =IF(AND(4<='Boundary'!$F$10,OR('Boundary'!$F$5="Yes",4<'Boundary'!$F$10)),SQRT((INDEX('Boundary'!$B$6:$B$35,IF(4='Boundary'!$F$10,1,4+1))-'Boundary'!B9)^2+(INDEX('Boundary'!$C$6:$C$35,IF(4='Boundary'!$F$10,1,4+1))-'Boundary'!C9)^2),"") | C9: =IF(AND(4<='Boundary'!$F$10,OR('Boundary'!$F$5="Yes",4<'Boundary'!$F$10)),MOD(DEGREES(ATAN2((INDEX('Boundary'!$B$6:$B$35,IF(4='Boundary'!$F$10,1,4+1))-'Boundary'!B9),(INDEX('Boundary'!$C$6:$C$35,IF(4='Boundary'!$F$10,1,4+1))-'Boundary'!C9))),360),"") | D9: =IF(AND(4<='Boundary'!$F$10,OR('Boundary'!$F$5="Yes",4<'Boundary'!$F$10)),INT(MOD(ROUND(MOD(C9,360)*3600,0),1296000)/3600)&"°"&TEXT(INT(MOD(MOD(ROUND(MOD(C9,360)*3600,0),1296000),3600)/60),"00")&"'"&TEXT(MOD(MOD(ROUND(MOD(C9,360)*3600,0),1296000),60),"00")&"""","") | E9: =IF(AND(4<='Boundary'!$F$10,OR('Boundary'!$F$5="Yes",4<'Boundary'!$F$10)),IF(AND(MOD(DEGREES(ATAN2((INDEX('Boundary'!$C$6:$C$35,IF(4='Boundary'!$F$10,1,4+1))-'Boundary'!C9),(INDEX('Boundary'!$B$6:$B$35,IF(4='Boundary'!$F$10,1,4+1))-'Boundary'!B9))),360)>90,MOD(DEGREES(ATAN2((INDEX('Boundary'!$C$6:$C$35,IF(4='Boundary'!$F$10,1,4+1))-'Boundary'!C9),(INDEX('Boundary'!$B$6:$B$35,IF(4='Boundary'!$F$10,1,4+1))-'Boundary'!B9))),360)<=270),MOD(DEGREES(ATAN2((INDEX('Boundary'!$C$6:$C$35,IF(4='Boundary'!$F$10,1,4+1))-'Boundary'!C9),(INDEX('Boundary'!$B$6:$B$35,IF(4='Boundary'!$F$10,1,4+1))-'Boundary'!B9))),360)-180,MOD(DEGREES(ATAN2((INDEX('Boundary'!$C$6:$C$35,IF(4='Boundary'!$F$10,1,4+1))-'Boundary'!C9),(INDEX('Boundary'!$B$6:$B$35,IF(4='Boundary'!$F$10,1,4+1))-'Boundary'!B9))),360)),"") | F9: =IF(4<='Boundary'!$F$10,'Boundary'!C9*INDEX('Boundary'!$B$6:$B$35,IF(4='Boundary'!$F$10,1,4+1))-INDEX('Boundary'!$C$6:$C$35,IF(4='Boundary'!$F$10,1,4+1))*'Boundary'!B9,0) | G9: =IF(AND(4<='Boundary'!$F$10,OR('Boundary'!$F$5="Yes",4<'Boundary'!$F$10)),('Boundary'!C9+INDEX('Boundary'!$C$6:$C$35,IF(4='Boundary'!$F$10,1,4+1)))/2,"") | H9: =IF(AND(4<='Boundary'!$F$10,OR('Boundary'!$F$5="Yes",4<'Boundary'!$F$10)),('Boundary'!B9+INDEX('Boundary'!$B$6:$B$35,IF(4='Boundary'!$F$10,1,4+1)))/2,"") | I9: =IF(AND(4<='Boundary'!$F$10,OR('Boundary'!$F$5="Yes",4<'Boundary'!$F$10)),G9-0.8*'Boundary'!$F$6*SIN(RADIANS(E9)),"") | J9: =IF(AND(4<='Boundary'!$F$10,OR('Boundary'!$F$5="Yes",4<'Boundary'!$F$10)),H9+0.8*'Boundary'!$F$6*COS(RADIANS(E9)),"") | K9: =IF(4<='Boundary'!$F$10,K8&" "&SUBSTITUTE(ROUND('Boundary'!C9,3)&"",",",".")&","&SUBSTITUTE(ROUND('Boundary'!B9,3)&"",",","."),K8) | L9: =IF(4<='Boundary'!$F$10,('Boundary'!C9+INDEX('Boundary'!$C$6:$C$35,IF(4='Boundary'!$F$10,1,4+1)))*F9,0) | M9: =IF(4<='Boundary'!$F$10,('Boundary'!B9+INDEX('Boundary'!$B$6:$B$35,IF(4='Boundary'!$F$10,1,4+1)))*F9,0)
A10: =IF(5<='Boundary'!$F$10,'Boundary'!A10,"") | B10: =IF(AND(5<='Boundary'!$F$10,OR('Boundary'!$F$5="Yes",5<'Boundary'!$F$10)),SQRT((INDEX('Boundary'!$B$6:$B$35,IF(5='Boundary'!$F$10,1,5+1))-'Boundary'!B10)^2+(INDEX('Boundary'!$C$6:$C$35,IF(5='Boundary'!$F$10,1,5+1))-'Boundary'!C10)^2),"") | C10: =IF(AND(5<='Boundary'!$F$10,OR('Boundary'!$F$5="Yes",5<'Boundary'!$F$10)),MOD(DEGREES(ATAN2((INDEX('Boundary'!$B$6:$B$35,IF(5='Boundary'!$F$10,1,5+1))-'Boundary'!B10),(INDEX('Boundary'!$C$6:$C$35,IF(5='Boundary'!$F$10,1,5+1))-'Boundary'!C10))),360),"") | D10: =IF(AND(5<='Boundary'!$F$10,OR('Boundary'!$F$5="Yes",5<'Boundary'!$F$10)),INT(MOD(ROUND(MOD(C10,360)*3600,0),1296000)/3600)&"°"&TEXT(INT(MOD(MOD(ROUND(MOD(C10,360)*3600,0),1296000),3600)/60),"00")&"'"&TEXT(MOD(MOD(ROUND(MOD(C10,360)*3600,0),1296000),60),"00")&"""","") | E10: =IF(AND(5<='Boundary'!$F$10,OR('Boundary'!$F$5="Yes",5<'Boundary'!$F$10)),IF(AND(MOD(DEGREES(ATAN2((INDEX('Boundary'!$C$6:$C$35,IF(5='Boundary'!$F$10,1,5+1))-'Boundary'!C10),(INDEX('Boundary'!$B$6:$B$35,IF(5='Boundary'!$F$10,1,5+1))-'Boundary'!B10))),360)>90,MOD(DEGREES(ATAN2((INDEX('Boundary'!$C$6:$C$35,IF(5='Boundary'!$F$10,1,5+1))-'Boundary'!C10),(INDEX('Boundary'!$B$6:$B$35,IF(5='Boundary'!$F$10,1,5+1))-'Boundary'!B10))),360)<=270),MOD(DEGREES(ATAN2((INDEX('Boundary'!$C$6:$C$35,IF(5='Boundary'!$F$10,1,5+1))-'Boundary'!C10),(INDEX('Boundary'!$B$6:$B$35,IF(5='Boundary'!$F$10,1,5+1))-'Boundary'!B10))),360)-180,MOD(DEGREES(ATAN2((INDEX('Boundary'!$C$6:$C$35,IF(5='Boundary'!$F$10,1,5+1))-'Boundary'!C10),(INDEX('Boundary'!$B$6:$B$35,IF(5='Boundary'!$F$10,1,5+1))-'Boundary'!B10))),360)),"") | F10: =IF(5<='Boundary'!$F$10,'Boundary'!C10*INDEX('Boundary'!$B$6:$B$35,IF(5='Boundary'!$F$10,1,5+1))-INDEX('Boundary'!$C$6:$C$35,IF(5='Boundary'!$F$10,1,5+1))*'Boundary'!B10,0) | G10: =IF(AND(5<='Boundary'!$F$10,OR('Boundary'!$F$5="Yes",5<'Boundary'!$F$10)),('Boundary'!C10+INDEX('Boundary'!$C$6:$C$35,IF(5='Boundary'!$F$10,1,5+1)))/2,"") | H10: =IF(AND(5<='Boundary'!$F$10,OR('Boundary'!$F$5="Yes",5<'Boundary'!$F$10)),('Boundary'!B10+INDEX('Boundary'!$B$6:$B$35,IF(5='Boundary'!$F$10,1,5+1)))/2,"") | I10: =IF(AND(5<='Boundary'!$F$10,OR('Boundary'!$F$5="Yes",5<'Boundary'!$F$10)),G10-0.8*'Boundary'!$F$6*SIN(RADIANS(E10)),"") | J10: =IF(AND(5<='Boundary'!$F$10,OR('Boundary'!$F$5="Yes",5<'Boundary'!$F$10)),H10+0.8*'Boundary'!$F$6*COS(RADIANS(E10)),"") | K10: =IF(5<='Boundary'!$F$10,K9&" "&SUBSTITUTE(ROUND('Boundary'!C10,3)&"",",",".")&","&SUBSTITUTE(ROUND('Boundary'!B10,3)&"",",","."),K9) | L10: =IF(5<='Boundary'!$F$10,('Boundary'!C10+INDEX('Boundary'!$C$6:$C$35,IF(5='Boundary'!$F$10,1,5+1)))*F10,0) | M10: =IF(5<='Boundary'!$F$10,('Boundary'!B10+INDEX('Boundary'!$B$6:$B$35,IF(5='Boundary'!$F$10,1,5+1)))*F10,0)
A11: =IF(6<='Boundary'!$F$10,'Boundary'!A11,"") | B11: =IF(AND(6<='Boundary'!$F$10,OR('Boundary'!$F$5="Yes",6<'Boundary'!$F$10)),SQRT((INDEX('Boundary'!$B$6:$B$35,IF(6='Boundary'!$F$10,1,6+1))-'Boundary'!B11)^2+(INDEX('Boundary'!$C$6:$C$35,IF(6='Boundary'!$F$10,1,6+1))-'Boundary'!C11)^2),"") | C11: =IF(AND(6<='Boundary'!$F$10,OR('Boundary'!$F$5="Yes",6<'Boundary'!$F$10)),MOD(DEGREES(ATAN2((INDEX('Boundary'!$B$6:$B$35,IF(6='Boundary'!$F$10,1,6+1))-'Boundary'!B11),(INDEX('Boundary'!$C$6:$C$35,IF(6='Boundary'!$F$10,1,6+1))-'Boundary'!C11))),360),"") | D11: =IF(AND(6<='Boundary'!$F$10,OR('Boundary'!$F$5="Yes",6<'Boundary'!$F$10)),INT(MOD(ROUND(MOD(C11,360)*3600,0),1296000)/3600)&"°"&TEXT(INT(MOD(MOD(ROUND(MOD(C11,360)*3600,0),1296000),3600)/60),"00")&"'"&TEXT(MOD(MOD(ROUND(MOD(C11,360)*3600,0),1296000),60),"00")&"""","") | E11: =IF(AND(6<='Boundary'!$F$10,OR('Boundary'!$F$5="Yes",6<'Boundary'!$F$10)),IF(AND(MOD(DEGREES(ATAN2((INDEX('Boundary'!$C$6:$C$35,IF(6='Boundary'!$F$10,1,6+1))-'Boundary'!C11),(INDEX('Boundary'!$B$6:$B$35,IF(6='Boundary'!$F$10,1,6+1))-'Boundary'!B11))),360)>90,MOD(DEGREES(ATAN2((INDEX('Boundary'!$C$6:$C$35,IF(6='Boundary'!$F$10,1,6+1))-'Boundary'!C11),(INDEX('Boundary'!$B$6:$B$35,IF(6='Boundary'!$F$10,1,6+1))-'Boundary'!B11))),360)<=270),MOD(DEGREES(ATAN2((INDEX('Boundary'!$C$6:$C$35,IF(6='Boundary'!$F$10,1,6+1))-'Boundary'!C11),(INDEX('Boundary'!$B$6:$B$35,IF(6='Boundary'!$F$10,1,6+1))-'Boundary'!B11))),360)-180,MOD(DEGREES(ATAN2((INDEX('Boundary'!$C$6:$C$35,IF(6='Boundary'!$F$10,1,6+1))-'Boundary'!C11),(INDEX('Boundary'!$B$6:$B$35,IF(6='Boundary'!$F$10,1,6+1))-'Boundary'!B11))),360)),"") | F11: =IF(6<='Boundary'!$F$10,'Boundary'!C11*INDEX('Boundary'!$B$6:$B$35,IF(6='Boundary'!$F$10,1,6+1))-INDEX('Boundary'!$C$6:$C$35,IF(6='Boundary'!$F$10,1,6+1))*'Boundary'!B11,0) | G11: =IF(AND(6<='Boundary'!$F$10,OR('Boundary'!$F$5="Yes",6<'Boundary'!$F$10)),('Boundary'!C11+INDEX('Boundary'!$C$6:$C$35,IF(6='Boundary'!$F$10,1,6+1)))/2,"") | H11: =IF(AND(6<='Boundary'!$F$10,OR('Boundary'!$F$5="Yes",6<'Boundary'!$F$10)),('Boundary'!B11+INDEX('Boundary'!$B$6:$B$35,IF(6='Boundary'!$F$10,1,6+1)))/2,"") | I11: =IF(AND(6<='Boundary'!$F$10,OR('Boundary'!$F$5="Yes",6<'Boundary'!$F$10)),G11-0.8*'Boundary'!$F$6*SIN(RADIANS(E11)),"") | J11: =IF(AND(6<='Boundary'!$F$10,OR('Boundary'!$F$5="Yes",6<'Boundary'!$F$10)),H11+0.8*'Boundary'!$F$6*COS(RADIANS(E11)),"") | K11: =IF(6<='Boundary'!$F$10,K10&" "&SUBSTITUTE(ROUND('Boundary'!C11,3)&"",",",".")&","&SUBSTITUTE(ROUND('Boundary'!B11,3)&"",",","."),K10) | L11: =IF(6<='Boundary'!$F$10,('Boundary'!C11+INDEX('Boundary'!$C$6:$C$35,IF(6='Boundary'!$F$10,1,6+1)))*F11,0) | M11: =IF(6<='Boundary'!$F$10,('Boundary'!B11+INDEX('Boundary'!$B$6:$B$35,IF(6='Boundary'!$F$10,1,6+1)))*F11,0)
A12: =IF(7<='Boundary'!$F$10,'Boundary'!A12,"") | B12: =IF(AND(7<='Boundary'!$F$10,OR('Boundary'!$F$5="Yes",7<'Boundary'!$F$10)),SQRT((INDEX('Boundary'!$B$6:$B$35,IF(7='Boundary'!$F$10,1,7+1))-'Boundary'!B12)^2+(INDEX('Boundary'!$C$6:$C$35,IF(7='Boundary'!$F$10,1,7+1))-'Boundary'!C12)^2),"") | C12: =IF(AND(7<='Boundary'!$F$10,OR('Boundary'!$F$5="Yes",7<'Boundary'!$F$10)),MOD(DEGREES(ATAN2((INDEX('Boundary'!$B$6:$B$35,IF(7='Boundary'!$F$10,1,7+1))-'Boundary'!B12),(INDEX('Boundary'!$C$6:$C$35,IF(7='Boundary'!$F$10,1,7+1))-'Boundary'!C12))),360),"") | D12: =IF(AND(7<='Boundary'!$F$10,OR('Boundary'!$F$5="Yes",7<'Boundary'!$F$10)),INT(MOD(ROUND(MOD(C12,360)*3600,0),1296000)/3600)&"°"&TEXT(INT(MOD(MOD(ROUND(MOD(C12,360)*3600,0),1296000),3600)/60),"00")&"'"&TEXT(MOD(MOD(ROUND(MOD(C12,360)*3600,0),1296000),60),"00")&"""","") | E12: =IF(AND(7<='Boundary'!$F$10,OR('Boundary'!$F$5="Yes",7<'Boundary'!$F$10)),IF(AND(MOD(DEGREES(ATAN2((INDEX('Boundary'!$C$6:$C$35,IF(7='Boundary'!$F$10,1,7+1))-'Boundary'!C12),(INDEX('Boundary'!$B$6:$B$35,IF(7='Boundary'!$F$10,1,7+1))-'Boundary'!B12))),360)>90,MOD(DEGREES(ATAN2((INDEX('Boundary'!$C$6:$C$35,IF(7='Boundary'!$F$10,1,7+1))-'Boundary'!C12),(INDEX('Boundary'!$B$6:$B$35,IF(7='Boundary'!$F$10,1,7+1))-'Boundary'!B12))),360)<=270),MOD(DEGREES(ATAN2((INDEX('Boundary'!$C$6:$C$35,IF(7='Boundary'!$F$10,1,7+1))-'Boundary'!C12),(INDEX('Boundary'!$B$6:$B$35,IF(7='Boundary'!$F$10,1,7+1))-'Boundary'!B12))),360)-180,MOD(DEGREES(ATAN2((INDEX('Boundary'!$C$6:$C$35,IF(7='Boundary'!$F$10,1,7+1))-'Boundary'!C12),(INDEX('Boundary'!$B$6:$B$35,IF(7='Boundary'!$F$10,1,7+1))-'Boundary'!B12))),360)),"") | F12: =IF(7<='Boundary'!$F$10,'Boundary'!C12*INDEX('Boundary'!$B$6:$B$35,IF(7='Boundary'!$F$10,1,7+1))-INDEX('Boundary'!$C$6:$C$35,IF(7='Boundary'!$F$10,1,7+1))*'Boundary'!B12,0) | G12: =IF(AND(7<='Boundary'!$F$10,OR('Boundary'!$F$5="Yes",7<'Boundary'!$F$10)),('Boundary'!C12+INDEX('Boundary'!$C$6:$C$35,IF(7='Boundary'!$F$10,1,7+1)))/2,"") | H12: =IF(AND(7<='Boundary'!$F$10,OR('Boundary'!$F$5="Yes",7<'Boundary'!$F$10)),('Boundary'!B12+INDEX('Boundary'!$B$6:$B$35,IF(7='Boundary'!$F$10,1,7+1)))/2,"") | I12: =IF(AND(7<='Boundary'!$F$10,OR('Boundary'!$F$5="Yes",7<'Boundary'!$F$10)),G12-0.8*'Boundary'!$F$6*SIN(RADIANS(E12)),"") | J12: =IF(AND(7<='Boundary'!$F$10,OR('Boundary'!$F$5="Yes",7<'Boundary'!$F$10)),H12+0.8*'Boundary'!$F$6*COS(RADIANS(E12)),"") | K12: =IF(7<='Boundary'!$F$10,K11&" "&SUBSTITUTE(ROUND('Boundary'!C12,3)&"",",",".")&","&SUBSTITUTE(ROUND('Boundary'!B12,3)&"",",","."),K11) | L12: =IF(7<='Boundary'!$F$10,('Boundary'!C12+INDEX('Boundary'!$C$6:$C$35,IF(7='Boundary'!$F$10,1,7+1)))*F12,0) | M12: =IF(7<='Boundary'!$F$10,('Boundary'!B12+INDEX('Boundary'!$B$6:$B$35,IF(7='Boundary'!$F$10,1,7+1)))*F12,0)
A13: =IF(8<='Boundary'!$F$10,'Boundary'!A13,"") | B13: =IF(AND(8<='Boundary'!$F$10,OR('Boundary'!$F$5="Yes",8<'Boundary'!$F$10)),SQRT((INDEX('Boundary'!$B$6:$B$35,IF(8='Boundary'!$F$10,1,8+1))-'Boundary'!B13)^2+(INDEX('Boundary'!$C$6:$C$35,IF(8='Boundary'!$F$10,1,8+1))-'Boundary'!C13)^2),"") | C13: =IF(AND(8<='Boundary'!$F$10,OR('Boundary'!$F$5="Yes",8<'Boundary'!$F$10)),MOD(DEGREES(ATAN2((INDEX('Boundary'!$B$6:$B$35,IF(8='Boundary'!$F$10,1,8+1))-'Boundary'!B13),(INDEX('Boundary'!$C$6:$C$35,IF(8='Boundary'!$F$10,1,8+1))-'Boundary'!C13))),360),"") | D13: =IF(AND(8<='Boundary'!$F$10,OR('Boundary'!$F$5="Yes",8<'Boundary'!$F$10)),INT(MOD(ROUND(MOD(C13,360)*3600,0),1296000)/3600)&"°"&TEXT(INT(MOD(MOD(ROUND(MOD(C13,360)*3600,0),1296000),3600)/60),"00")&"'"&TEXT(MOD(MOD(ROUND(MOD(C13,360)*3600,0),1296000),60),"00")&"""","") | E13: =IF(AND(8<='Boundary'!$F$10,OR('Boundary'!$F$5="Yes",8<'Boundary'!$F$10)),IF(AND(MOD(DEGREES(ATAN2((INDEX('Boundary'!$C$6:$C$35,IF(8='Boundary'!$F$10,1,8+1))-'Boundary'!C13),(INDEX('Boundary'!$B$6:$B$35,IF(8='Boundary'!$F$10,1,8+1))-'Boundary'!B13))),360)>90,MOD(DEGREES(ATAN2((INDEX('Boundary'!$C$6:$C$35,IF(8='Boundary'!$F$10,1,8+1))-'Boundary'!C13),(INDEX('Boundary'!$B$6:$B$35,IF(8='Boundary'!$F$10,1,8+1))-'Boundary'!B13))),360)<=270),MOD(DEGREES(ATAN2((INDEX('Boundary'!$C$6:$C$35,IF(8='Boundary'!$F$10,1,8+1))-'Boundary'!C13),(INDEX('Boundary'!$B$6:$B$35,IF(8='Boundary'!$F$10,1,8+1))-'Boundary'!B13))),360)-180,MOD(DEGREES(ATAN2((INDEX('Boundary'!$C$6:$C$35,IF(8='Boundary'!$F$10,1,8+1))-'Boundary'!C13),(INDEX('Boundary'!$B$6:$B$35,IF(8='Boundary'!$F$10,1,8+1))-'Boundary'!B13))),360)),"") | F13: =IF(8<='Boundary'!$F$10,'Boundary'!C13*INDEX('Boundary'!$B$6:$B$35,IF(8='Boundary'!$F$10,1,8+1))-INDEX('Boundary'!$C$6:$C$35,IF(8='Boundary'!$F$10,1,8+1))*'Boundary'!B13,0) | G13: =IF(AND(8<='Boundary'!$F$10,OR('Boundary'!$F$5="Yes",8<'Boundary'!$F$10)),('Boundary'!C13+INDEX('Boundary'!$C$6:$C$35,IF(8='Boundary'!$F$10,1,8+1)))/2,"") | H13: =IF(AND(8<='Boundary'!$F$10,OR('Boundary'!$F$5="Yes",8<'Boundary'!$F$10)),('Boundary'!B13+INDEX('Boundary'!$B$6:$B$35,IF(8='Boundary'!$F$10,1,8+1)))/2,"") | I13: =IF(AND(8<='Boundary'!$F$10,OR('Boundary'!$F$5="Yes",8<'Boundary'!$F$10)),G13-0.8*'Boundary'!$F$6*SIN(RADIANS(E13)),"") | J13: =IF(AND(8<='Boundary'!$F$10,OR('Boundary'!$F$5="Yes",8<'Boundary'!$F$10)),H13+0.8*'Boundary'!$F$6*COS(RADIANS(E13)),"") | K13: =IF(8<='Boundary'!$F$10,K12&" "&SUBSTITUTE(ROUND('Boundary'!C13,3)&"",",",".")&","&SUBSTITUTE(ROUND('Boundary'!B13,3)&"",",","."),K12) | L13: =IF(8<='Boundary'!$F$10,('Boundary'!C13+INDEX('Boundary'!$C$6:$C$35,IF(8='Boundary'!$F$10,1,8+1)))*F13,0) | M13: =IF(8<='Boundary'!$F$10,('Boundary'!B13+INDEX('Boundary'!$B$6:$B$35,IF(8='Boundary'!$F$10,1,8+1)))*F13,0)
A14: =IF(9<='Boundary'!$F$10,'Boundary'!A14,"") | B14: =IF(AND(9<='Boundary'!$F$10,OR('Boundary'!$F$5="Yes",9<'Boundary'!$F$10)),SQRT((INDEX('Boundary'!$B$6:$B$35,IF(9='Boundary'!$F$10,1,9+1))-'Boundary'!B14)^2+(INDEX('Boundary'!$C$6:$C$35,IF(9='Boundary'!$F$10,1,9+1))-'Boundary'!C14)^2),"") | C14: =IF(AND(9<='Boundary'!$F$10,OR('Boundary'!$F$5="Yes",9<'Boundary'!$F$10)),MOD(DEGREES(ATAN2((INDEX('Boundary'!$B$6:$B$35,IF(9='Boundary'!$F$10,1,9+1))-'Boundary'!B14),(INDEX('Boundary'!$C$6:$C$35,IF(9='Boundary'!$F$10,1,9+1))-'Boundary'!C14))),360),"") | D14: =IF(AND(9<='Boundary'!$F$10,OR('Boundary'!$F$5="Yes",9<'Boundary'!$F$10)),INT(MOD(ROUND(MOD(C14,360)*3600,0),1296000)/3600)&"°"&TEXT(INT(MOD(MOD(ROUND(MOD(C14,360)*3600,0),1296000),3600)/60),"00")&"'"&TEXT(MOD(MOD(ROUND(MOD(C14,360)*3600,0),1296000),60),"00")&"""","") | E14: =IF(AND(9<='Boundary'!$F$10,OR('Boundary'!$F$5="Yes",9<'Boundary'!$F$10)),IF(AND(MOD(DEGREES(ATAN2((INDEX('Boundary'!$C$6:$C$35,IF(9='Boundary'!$F$10,1,9+1))-'Boundary'!C14),(INDEX('Boundary'!$B$6:$B$35,IF(9='Boundary'!$F$10,1,9+1))-'Boundary'!B14))),360)>90,MOD(DEGREES(ATAN2((INDEX('Boundary'!$C$6:$C$35,IF(9='Boundary'!$F$10,1,9+1))-'Boundary'!C14),(INDEX('Boundary'!$B$6:$B$35,IF(9='Boundary'!$F$10,1,9+1))-'Boundary'!B14))),360)<=270),MOD(DEGREES(ATAN2((INDEX('Boundary'!$C$6:$C$35,IF(9='Boundary'!$F$10,1,9+1))-'Boundary'!C14),(INDEX('Boundary'!$B$6:$B$35,IF(9='Boundary'!$F$10,1,9+1))-'Boundary'!B14))),360)-180,MOD(DEGREES(ATAN2((INDEX('Boundary'!$C$6:$C$35,IF(9='Boundary'!$F$10,1,9+1))-'Boundary'!C14),(INDEX('Boundary'!$B$6:$B$35,IF(9='Boundary'!$F$10,1,9+1))-'Boundary'!B14))),360)),"") | F14: =IF(9<='Boundary'!$F$10,'Boundary'!C14*INDEX('Boundary'!$B$6:$B$35,IF(9='Boundary'!$F$10,1,9+1))-INDEX('Boundary'!$C$6:$C$35,IF(9='Boundary'!$F$10,1,9+1))*'Boundary'!B14,0) | G14: =IF(AND(9<='Boundary'!$F$10,OR('Boundary'!$F$5="Yes",9<'Boundary'!$F$10)),('Boundary'!C14+INDEX('Boundary'!$C$6:$C$35,IF(9='Boundary'!$F$10,1,9+1)))/2,"") | H14: =IF(AND(9<='Boundary'!$F$10,OR('Boundary'!$F$5="Yes",9<'Boundary'!$F$10)),('Boundary'!B14+INDEX('Boundary'!$B$6:$B$35,IF(9='Boundary'!$F$10,1,9+1)))/2,"") | I14: =IF(AND(9<='Boundary'!$F$10,OR('Boundary'!$F$5="Yes",9<'Boundary'!$F$10)),G14-0.8*'Boundary'!$F$6*SIN(RADIANS(E14)),"") | J14: =IF(AND(9<='Boundary'!$F$10,OR('Boundary'!$F$5="Yes",9<'Boundary'!$F$10)),H14+0.8*'Boundary'!$F$6*COS(RADIANS(E14)),"") | K14: =IF(9<='Boundary'!$F$10,K13&" "&SUBSTITUTE(ROUND('Boundary'!C14,3)&"",",",".")&","&SUBSTITUTE(ROUND('Boundary'!B14,3)&"",",","."),K13) | L14: =IF(9<='Boundary'!$F$10,('Boundary'!C14+INDEX('Boundary'!$C$6:$C$35,IF(9='Boundary'!$F$10,1,9+1)))*F14,0) | M14: =IF(9<='Boundary'!$F$10,('Boundary'!B14+INDEX('Boundary'!$B$6:$B$35,IF(9='Boundary'!$F$10,1,9+1)))*F14,0)
A15: =IF(10<='Boundary'!$F$10,'Boundary'!A15,"") | B15: =IF(AND(10<='Boundary'!$F$10,OR('Boundary'!$F$5="Yes",10<'Boundary'!$F$10)),SQRT((INDEX('Boundary'!$B$6:$B$35,IF(10='Boundary'!$F$10,1,10+1))-'Boundary'!B15)^2+(INDEX('Boundary'!$C$6:$C$35,IF(10='Boundary'!$F$10,1,10+1))-'Boundary'!C15)^2),"") | C15: =IF(AND(10<='Boundary'!$F$10,OR('Boundary'!$F$5="Yes",10<'Boundary'!$F$10)),MOD(DEGREES(ATAN2((INDEX('Boundary'!$B$6:$B$35,IF(10='Boundary'!$F$10,1,10+1))-'Boundary'!B15),(INDEX('Boundary'!$C$6:$C$35,IF(10='Boundary'!$F$10,1,10+1))-'Boundary'!C15))),360),"") | D15: =IF(AND(10<='Boundary'!$F$10,OR('Boundary'!$F$5="Yes",10<'Boundary'!$F$10)),INT(MOD(ROUND(MOD(C15,360)*3600,0),1296000)/3600)&"°"&TEXT(INT(MOD(MOD(ROUND(MOD(C15,360)*3600,0),1296000),3600)/60),"00")&"'"&TEXT(MOD(MOD(ROUND(MOD(C15,360)*3600,0),1296000),60),"00")&"""","") | E15: =IF(AND(10<='Boundary'!$F$10,OR('Boundary'!$F$5="Yes",10<'Boundary'!$F$10)),IF(AND(MOD(DEGREES(ATAN2((INDEX('Boundary'!$C$6:$C$35,IF(10='Boundary'!$F$10,1,10+1))-'Boundary'!C15),(INDEX('Boundary'!$B$6:$B$35,IF(10='Boundary'!$F$10,1,10+1))-'Boundary'!B15))),360)>90,MOD(DEGREES(ATAN2((INDEX('Boundary'!$C$6:$C$35,IF(10='Boundary'!$F$10,1,10+1))-'Boundary'!C15),(INDEX('Boundary'!$B$6:$B$35,IF(10='Boundary'!$F$10,1,10+1))-'Boundary'!B15))),360)<=270),MOD(DEGREES(ATAN2((INDEX('Boundary'!$C$6:$C$35,IF(10='Boundary'!$F$10,1,10+1))-'Boundary'!C15),(INDEX('Boundary'!$B$6:$B$35,IF(10='Boundary'!$F$10,1,10+1))-'Boundary'!B15))),360)-180,MOD(DEGREES(ATAN2((INDEX('Boundary'!$C$6:$C$35,IF(10='Boundary'!$F$10,1,10+1))-'Boundary'!C15),(INDEX('Boundary'!$B$6:$B$35,IF(10='Boundary'!$F$10,1,10+1))-'Boundary'!B15))),360)),"") | F15: =IF(10<='Boundary'!$F$10,'Boundary'!C15*INDEX('Boundary'!$B$6:$B$35,IF(10='Boundary'!$F$10,1,10+1))-INDEX('Boundary'!$C$6:$C$35,IF(10='Boundary'!$F$10,1,10+1))*'Boundary'!B15,0) | G15: =IF(AND(10<='Boundary'!$F$10,OR('Boundary'!$F$5="Yes",10<'Boundary'!$F$10)),('Boundary'!C15+INDEX('Boundary'!$C$6:$C$35,IF(10='Boundary'!$F$10,1,10+1)))/2,"") | H15: =IF(AND(10<='Boundary'!$F$10,OR('Boundary'!$F$5="Yes",10<'Boundary'!$F$10)),('Boundary'!B15+INDEX('Boundary'!$B$6:$B$35,IF(10='Boundary'!$F$10,1,10+1)))/2,"") | I15: =IF(AND(10<='Boundary'!$F$10,OR('Boundary'!$F$5="Yes",10<'Boundary'!$F$10)),G15-0.8*'Boundary'!$F$6*SIN(RADIANS(E15)),"") | J15: =IF(AND(10<='Boundary'!$F$10,OR('Boundary'!$F$5="Yes",10<'Boundary'!$F$10)),H15+0.8*'Boundary'!$F$6*COS(RADIANS(E15)),"") | K15: =IF(10<='Boundary'!$F$10,K14&" "&SUBSTITUTE(ROUND('Boundary'!C15,3)&"",",",".")&","&SUBSTITUTE(ROUND('Boundary'!B15,3)&"",",","."),K14) | L15: =IF(10<='Boundary'!$F$10,('Boundary'!C15+INDEX('Boundary'!$C$6:$C$35,IF(10='Boundary'!$F$10,1,10+1)))*F15,0) | M15: =IF(10<='Boundary'!$F$10,('Boundary'!B15+INDEX('Boundary'!$B$6:$B$35,IF(10='Boundary'!$F$10,1,10+1)))*F15,0)
A16: =IF(11<='Boundary'!$F$10,'Boundary'!A16,"") | B16: =IF(AND(11<='Boundary'!$F$10,OR('Boundary'!$F$5="Yes",11<'Boundary'!$F$10)),SQRT((INDEX('Boundary'!$B$6:$B$35,IF(11='Boundary'!$F$10,1,11+1))-'Boundary'!B16)^2+(INDEX('Boundary'!$C$6:$C$35,IF(11='Boundary'!$F$10,1,11+1))-'Boundary'!C16)^2),"") | C16: =IF(AND(11<='Boundary'!$F$10,OR('Boundary'!$F$5="Yes",11<'Boundary'!$F$10)),MOD(DEGREES(ATAN2((INDEX('Boundary'!$B$6:$B$35,IF(11='Boundary'!$F$10,1,11+1))-'Boundary'!B16),(INDEX('Boundary'!$C$6:$C$35,IF(11='Boundary'!$F$10,1,11+1))-'Boundary'!C16))),360),"") | D16: =IF(AND(11<='Boundary'!$F$10,OR('Boundary'!$F$5="Yes",11<'Boundary'!$F$10)),INT(MOD(ROUND(MOD(C16,360)*3600,0),1296000)/3600)&"°"&TEXT(INT(MOD(MOD(ROUND(MOD(C16,360)*3600,0),1296000),3600)/60),"00")&"'"&TEXT(MOD(MOD(ROUND(MOD(C16,360)*3600,0),1296000),60),"00")&"""","") | E16: =IF(AND(11<='Boundary'!$F$10,OR('Boundary'!$F$5="Yes",11<'Boundary'!$F$10)),IF(AND(MOD(DEGREES(ATAN2((INDEX('Boundary'!$C$6:$C$35,IF(11='Boundary'!$F$10,1,11+1))-'Boundary'!C16),(INDEX('Boundary'!$B$6:$B$35,IF(11='Boundary'!$F$10,1,11+1))-'Boundary'!B16))),360)>90,MOD(DEGREES(ATAN2((INDEX('Boundary'!$C$6:$C$35,IF(11='Boundary'!$F$10,1,11+1))-'Boundary'!C16),(INDEX('Boundary'!$B$6:$B$35,IF(11='Boundary'!$F$10,1,11+1))-'Boundary'!B16))),360)<=270),MOD(DEGREES(ATAN2((INDEX('Boundary'!$C$6:$C$35,IF(11='Boundary'!$F$10,1,11+1))-'Boundary'!C16),(INDEX('Boundary'!$B$6:$B$35,IF(11='Boundary'!$F$10,1,11+1))-'Boundary'!B16))),360)-180,MOD(DEGREES(ATAN2((INDEX('Boundary'!$C$6:$C$35,IF(11='Boundary'!$F$10,1,11+1))-'Boundary'!C16),(INDEX('Boundary'!$B$6:$B$35,IF(11='Boundary'!$F$10,1,11+1))-'Boundary'!B16))),360)),"") | F16: =IF(11<='Boundary'!$F$10,'Boundary'!C16*INDEX('Boundary'!$B$6:$B$35,IF(11='Boundary'!$F$10,1,11+1))-INDEX('Boundary'!$C$6:$C$35,IF(11='Boundary'!$F$10,1,11+1))*'Boundary'!B16,0) | G16: =IF(AND(11<='Boundary'!$F$10,OR('Boundary'!$F$5="Yes",11<'Boundary'!$F$10)),('Boundary'!C16+INDEX('Boundary'!$C$6:$C$35,IF(11='Boundary'!$F$10,1,11+1)))/2,"") | H16: =IF(AND(11<='Boundary'!$F$10,OR('Boundary'!$F$5="Yes",11<'Boundary'!$F$10)),('Boundary'!B16+INDEX('Boundary'!$B$6:$B$35,IF(11='Boundary'!$F$10,1,11+1)))/2,"") | I16: =IF(AND(11<='Boundary'!$F$10,OR('Boundary'!$F$5="Yes",11<'Boundary'!$F$10)),G16-0.8*'Boundary'!$F$6*SIN(RADIANS(E16)),"") | J16: =IF(AND(11<='Boundary'!$F$10,OR('Boundary'!$F$5="Yes",11<'Boundary'!$F$10)),H16+0.8*'Boundary'!$F$6*COS(RADIANS(E16)),"") | K16: =IF(11<='Boundary'!$F$10,K15&" "&SUBSTITUTE(ROUND('Boundary'!C16,3)&"",",",".")&","&SUBSTITUTE(ROUND('Boundary'!B16,3)&"",",","."),K15) | L16: =IF(11<='Boundary'!$F$10,('Boundary'!C16+INDEX('Boundary'!$C$6:$C$35,IF(11='Boundary'!$F$10,1,11+1)))*F16,0) | M16: =IF(11<='Boundary'!$F$10,('Boundary'!B16+INDEX('Boundary'!$B$6:$B$35,IF(11='Boundary'!$F$10,1,11+1)))*F16,0)
A17: =IF(12<='Boundary'!$F$10,'Boundary'!A17,"") | B17: =IF(AND(12<='Boundary'!$F$10,OR('Boundary'!$F$5="Yes",12<'Boundary'!$F$10)),SQRT((INDEX('Boundary'!$B$6:$B$35,IF(12='Boundary'!$F$10,1,12+1))-'Boundary'!B17)^2+(INDEX('Boundary'!$C$6:$C$35,IF(12='Boundary'!$F$10,1,12+1))-'Boundary'!C17)^2),"") | C17: =IF(AND(12<='Boundary'!$F$10,OR('Boundary'!$F$5="Yes",12<'Boundary'!$F$10)),MOD(DEGREES(ATAN2((INDEX('Boundary'!$B$6:$B$35,IF(12='Boundary'!$F$10,1,12+1))-'Boundary'!B17),(INDEX('Boundary'!$C$6:$C$35,IF(12='Boundary'!$F$10,1,12+1))-'Boundary'!C17))),360),"") | D17: =IF(AND(12<='Boundary'!$F$10,OR('Boundary'!$F$5="Yes",12<'Boundary'!$F$10)),INT(MOD(ROUND(MOD(C17,360)*3600,0),1296000)/3600)&"°"&TEXT(INT(MOD(MOD(ROUND(MOD(C17,360)*3600,0),1296000),3600)/60),"00")&"'"&TEXT(MOD(MOD(ROUND(MOD(C17,360)*3600,0),1296000),60),"00")&"""","") | E17: =IF(AND(12<='Boundary'!$F$10,OR('Boundary'!$F$5="Yes",12<'Boundary'!$F$10)),IF(AND(MOD(DEGREES(ATAN2((INDEX('Boundary'!$C$6:$C$35,IF(12='Boundary'!$F$10,1,12+1))-'Boundary'!C17),(INDEX('Boundary'!$B$6:$B$35,IF(12='Boundary'!$F$10,1,12+1))-'Boundary'!B17))),360)>90,MOD(DEGREES(ATAN2((INDEX('Boundary'!$C$6:$C$35,IF(12='Boundary'!$F$10,1,12+1))-'Boundary'!C17),(INDEX('Boundary'!$B$6:$B$35,IF(12='Boundary'!$F$10,1,12+1))-'Boundary'!B17))),360)<=270),MOD(DEGREES(ATAN2((INDEX('Boundary'!$C$6:$C$35,IF(12='Boundary'!$F$10,1,12+1))-'Boundary'!C17),(INDEX('Boundary'!$B$6:$B$35,IF(12='Boundary'!$F$10,1,12+1))-'Boundary'!B17))),360)-180,MOD(DEGREES(ATAN2((INDEX('Boundary'!$C$6:$C$35,IF(12='Boundary'!$F$10,1,12+1))-'Boundary'!C17),(INDEX('Boundary'!$B$6:$B$35,IF(12='Boundary'!$F$10,1,12+1))-'Boundary'!B17))),360)),"") | F17: =IF(12<='Boundary'!$F$10,'Boundary'!C17*INDEX('Boundary'!$B$6:$B$35,IF(12='Boundary'!$F$10,1,12+1))-INDEX('Boundary'!$C$6:$C$35,IF(12='Boundary'!$F$10,1,12+1))*'Boundary'!B17,0) | G17: =IF(AND(12<='Boundary'!$F$10,OR('Boundary'!$F$5="Yes",12<'Boundary'!$F$10)),('Boundary'!C17+INDEX('Boundary'!$C$6:$C$35,IF(12='Boundary'!$F$10,1,12+1)))/2,"") | H17: =IF(AND(12<='Boundary'!$F$10,OR('Boundary'!$F$5="Yes",12<'Boundary'!$F$10)),('Boundary'!B17+INDEX('Boundary'!$B$6:$B$35,IF(12='Boundary'!$F$10,1,12+1)))/2,"") | I17: =IF(AND(12<='Boundary'!$F$10,OR('Boundary'!$F$5="Yes",12<'Boundary'!$F$10)),G17-0.8*'Boundary'!$F$6*SIN(RADIANS(E17)),"") | J17: =IF(AND(12<='Boundary'!$F$10,OR('Boundary'!$F$5="Yes",12<'Boundary'!$F$10)),H17+0.8*'Boundary'!$F$6*COS(RADIANS(E17)),"") | K17: =IF(12<='Boundary'!$F$10,K16&" "&SUBSTITUTE(ROUND('Boundary'!C17,3)&"",",",".")&","&SUBSTITUTE(ROUND('Boundary'!B17,3)&"",",","."),K16) | L17: =IF(12<='Boundary'!$F$10,('Boundary'!C17+INDEX('Boundary'!$C$6:$C$35,IF(12='Boundary'!$F$10,1,12+1)))*F17,0) | M17: =IF(12<='Boundary'!$F$10,('Boundary'!B17+INDEX('Boundary'!$B$6:$B$35,IF(12='Boundary'!$F$10,1,12+1)))*F17,0)
A18: =IF(13<='Boundary'!$F$10,'Boundary'!A18,"") | B18: =IF(AND(13<='Boundary'!$F$10,OR('Boundary'!$F$5="Yes",13<'Boundary'!$F$10)),SQRT((INDEX('Boundary'!$B$6:$B$35,IF(13='Boundary'!$F$10,1,13+1))-'Boundary'!B18)^2+(INDEX('Boundary'!$C$6:$C$35,IF(13='Boundary'!$F$10,1,13+1))-'Boundary'!C18)^2),"") | C18: =IF(AND(13<='Boundary'!$F$10,OR('Boundary'!$F$5="Yes",13<'Boundary'!$F$10)),MOD(DEGREES(ATAN2((INDEX('Boundary'!$B$6:$B$35,IF(13='Boundary'!$F$10,1,13+1))-'Boundary'!B18),(INDEX('Boundary'!$C$6:$C$35,IF(13='Boundary'!$F$10,1,13+1))-'Boundary'!C18))),360),"") | D18: =IF(AND(13<='Boundary'!$F$10,OR('Boundary'!$F$5="Yes",13<'Boundary'!$F$10)),INT(MOD(ROUND(MOD(C18,360)*3600,0),1296000)/3600)&"°"&TEXT(INT(MOD(MOD(ROUND(MOD(C18,360)*3600,0),1296000),3600)/60),"00")&"'"&TEXT(MOD(MOD(ROUND(MOD(C18,360)*3600,0),1296000),60),"00")&"""","") | E18: =IF(AND(13<='Boundary'!$F$10,OR('Boundary'!$F$5="Yes",13<'Boundary'!$F$10)),IF(AND(MOD(DEGREES(ATAN2((INDEX('Boundary'!$C$6:$C$35,IF(13='Boundary'!$F$10,1,13+1))-'Boundary'!C18),(INDEX('Boundary'!$B$6:$B$35,IF(13='Boundary'!$F$10,1,13+1))-'Boundary'!B18))),360)>90,MOD(DEGREES(ATAN2((INDEX('Boundary'!$C$6:$C$35,IF(13='Boundary'!$F$10,1,13+1))-'Boundary'!C18),(INDEX('Boundary'!$B$6:$B$35,IF(13='Boundary'!$F$10,1,13+1))-'Boundary'!B18))),360)<=270),MOD(DEGREES(ATAN2((INDEX('Boundary'!$C$6:$C$35,IF(13='Boundary'!$F$10,1,13+1))-'Boundary'!C18),(INDEX('Boundary'!$B$6:$B$35,IF(13='Boundary'!$F$10,1,13+1))-'Boundary'!B18))),360)-180,MOD(DEGREES(ATAN2((INDEX('Boundary'!$C$6:$C$35,IF(13='Boundary'!$F$10,1,13+1))-'Boundary'!C18),(INDEX('Boundary'!$B$6:$B$35,IF(13='Boundary'!$F$10,1,13+1))-'Boundary'!B18))),360)),"") | F18: =IF(13<='Boundary'!$F$10,'Boundary'!C18*INDEX('Boundary'!$B$6:$B$35,IF(13='Boundary'!$F$10,1,13+1))-INDEX('Boundary'!$C$6:$C$35,IF(13='Boundary'!$F$10,1,13+1))*'Boundary'!B18,0) | G18: =IF(AND(13<='Boundary'!$F$10,OR('Boundary'!$F$5="Yes",13<'Boundary'!$F$10)),('Boundary'!C18+INDEX('Boundary'!$C$6:$C$35,IF(13='Boundary'!$F$10,1,13+1)))/2,"") | H18: =IF(AND(13<='Boundary'!$F$10,OR('Boundary'!$F$5="Yes",13<'Boundary'!$F$10)),('Boundary'!B18+INDEX('Boundary'!$B$6:$B$35,IF(13='Boundary'!$F$10,1,13+1)))/2,"") | I18: =IF(AND(13<='Boundary'!$F$10,OR('Boundary'!$F$5="Yes",13<'Boundary'!$F$10)),G18-0.8*'Boundary'!$F$6*SIN(RADIANS(E18)),"") | J18: =IF(AND(13<='Boundary'!$F$10,OR('Boundary'!$F$5="Yes",13<'Boundary'!$F$10)),H18+0.8*'Boundary'!$F$6*COS(RADIANS(E18)),"") | K18: =IF(13<='Boundary'!$F$10,K17&" "&SUBSTITUTE(ROUND('Boundary'!C18,3)&"",",",".")&","&SUBSTITUTE(ROUND('Boundary'!B18,3)&"",",","."),K17) | L18: =IF(13<='Boundary'!$F$10,('Boundary'!C18+INDEX('Boundary'!$C$6:$C$35,IF(13='Boundary'!$F$10,1,13+1)))*F18,0) | M18: =IF(13<='Boundary'!$F$10,('Boundary'!B18+INDEX('Boundary'!$B$6:$B$35,IF(13='Boundary'!$F$10,1,13+1)))*F18,0)
A19: =IF(14<='Boundary'!$F$10,'Boundary'!A19,"") | B19: =IF(AND(14<='Boundary'!$F$10,OR('Boundary'!$F$5="Yes",14<'Boundary'!$F$10)),SQRT((INDEX('Boundary'!$B$6:$B$35,IF(14='Boundary'!$F$10,1,14+1))-'Boundary'!B19)^2+(INDEX('Boundary'!$C$6:$C$35,IF(14='Boundary'!$F$10,1,14+1))-'Boundary'!C19)^2),"") | C19: =IF(AND(14<='Boundary'!$F$10,OR('Boundary'!$F$5="Yes",14<'Boundary'!$F$10)),MOD(DEGREES(ATAN2((INDEX('Boundary'!$B$6:$B$35,IF(14='Boundary'!$F$10,1,14+1))-'Boundary'!B19),(INDEX('Boundary'!$C$6:$C$35,IF(14='Boundary'!$F$10,1,14+1))-'Boundary'!C19))),360),"") | D19: =IF(AND(14<='Boundary'!$F$10,OR('Boundary'!$F$5="Yes",14<'Boundary'!$F$10)),INT(MOD(ROUND(MOD(C19,360)*3600,0),1296000)/3600)&"°"&TEXT(INT(MOD(MOD(ROUND(MOD(C19,360)*3600,0),1296000),3600)/60),"00")&"'"&TEXT(MOD(MOD(ROUND(MOD(C19,360)*3600,0),1296000),60),"00")&"""","") | E19: =IF(AND(14<='Boundary'!$F$10,OR('Boundary'!$F$5="Yes",14<'Boundary'!$F$10)),IF(AND(MOD(DEGREES(ATAN2((INDEX('Boundary'!$C$6:$C$35,IF(14='Boundary'!$F$10,1,14+1))-'Boundary'!C19),(INDEX('Boundary'!$B$6:$B$35,IF(14='Boundary'!$F$10,1,14+1))-'Boundary'!B19))),360)>90,MOD(DEGREES(ATAN2((INDEX('Boundary'!$C$6:$C$35,IF(14='Boundary'!$F$10,1,14+1))-'Boundary'!C19),(INDEX('Boundary'!$B$6:$B$35,IF(14='Boundary'!$F$10,1,14+1))-'Boundary'!B19))),360)<=270),MOD(DEGREES(ATAN2((INDEX('Boundary'!$C$6:$C$35,IF(14='Boundary'!$F$10,1,14+1))-'Boundary'!C19),(INDEX('Boundary'!$B$6:$B$35,IF(14='Boundary'!$F$10,1,14+1))-'Boundary'!B19))),360)-180,MOD(DEGREES(ATAN2((INDEX('Boundary'!$C$6:$C$35,IF(14='Boundary'!$F$10,1,14+1))-'Boundary'!C19),(INDEX('Boundary'!$B$6:$B$35,IF(14='Boundary'!$F$10,1,14+1))-'Boundary'!B19))),360)),"") | F19: =IF(14<='Boundary'!$F$10,'Boundary'!C19*INDEX('Boundary'!$B$6:$B$35,IF(14='Boundary'!$F$10,1,14+1))-INDEX('Boundary'!$C$6:$C$35,IF(14='Boundary'!$F$10,1,14+1))*'Boundary'!B19,0) | G19: =IF(AND(14<='Boundary'!$F$10,OR('Boundary'!$F$5="Yes",14<'Boundary'!$F$10)),('Boundary'!C19+INDEX('Boundary'!$C$6:$C$35,IF(14='Boundary'!$F$10,1,14+1)))/2,"") | H19: =IF(AND(14<='Boundary'!$F$10,OR('Boundary'!$F$5="Yes",14<'Boundary'!$F$10)),('Boundary'!B19+INDEX('Boundary'!$B$6:$B$35,IF(14='Boundary'!$F$10,1,14+1)))/2,"") | I19: =IF(AND(14<='Boundary'!$F$10,OR('Boundary'!$F$5="Yes",14<'Boundary'!$F$10)),G19-0.8*'Boundary'!$F$6*SIN(RADIANS(E19)),"") | J19: =IF(AND(14<='Boundary'!$F$10,OR('Boundary'!$F$5="Yes",14<'Boundary'!$F$10)),H19+0.8*'Boundary'!$F$6*COS(RADIANS(E19)),"") | K19: =IF(14<='Boundary'!$F$10,K18&" "&SUBSTITUTE(ROUND('Boundary'!C19,3)&"",",",".")&","&SUBSTITUTE(ROUND('Boundary'!B19,3)&"",",","."),K18) | L19: =IF(14<='Boundary'!$F$10,('Boundary'!C19+INDEX('Boundary'!$C$6:$C$35,IF(14='Boundary'!$F$10,1,14+1)))*F19,0) | M19: =IF(14<='Boundary'!$F$10,('Boundary'!B19+INDEX('Boundary'!$B$6:$B$35,IF(14='Boundary'!$F$10,1,14+1)))*F19,0)
A20: =IF(15<='Boundary'!$F$10,'Boundary'!A20,"") | B20: =IF(AND(15<='Boundary'!$F$10,OR('Boundary'!$F$5="Yes",15<'Boundary'!$F$10)),SQRT((INDEX('Boundary'!$B$6:$B$35,IF(15='Boundary'!$F$10,1,15+1))-'Boundary'!B20)^2+(INDEX('Boundary'!$C$6:$C$35,IF(15='Boundary'!$F$10,1,15+1))-'Boundary'!C20)^2),"") | C20: =IF(AND(15<='Boundary'!$F$10,OR('Boundary'!$F$5="Yes",15<'Boundary'!$F$10)),MOD(DEGREES(ATAN2((INDEX('Boundary'!$B$6:$B$35,IF(15='Boundary'!$F$10,1,15+1))-'Boundary'!B20),(INDEX('Boundary'!$C$6:$C$35,IF(15='Boundary'!$F$10,1,15+1))-'Boundary'!C20))),360),"") | D20: =IF(AND(15<='Boundary'!$F$10,OR('Boundary'!$F$5="Yes",15<'Boundary'!$F$10)),INT(MOD(ROUND(MOD(C20,360)*3600,0),1296000)/3600)&"°"&TEXT(INT(MOD(MOD(ROUND(MOD(C20,360)*3600,0),1296000),3600)/60),"00")&"'"&TEXT(MOD(MOD(ROUND(MOD(C20,360)*3600,0),1296000),60),"00")&"""","") | E20: =IF(AND(15<='Boundary'!$F$10,OR('Boundary'!$F$5="Yes",15<'Boundary'!$F$10)),IF(AND(MOD(DEGREES(ATAN2((INDEX('Boundary'!$C$6:$C$35,IF(15='Boundary'!$F$10,1,15+1))-'Boundary'!C20),(INDEX('Boundary'!$B$6:$B$35,IF(15='Boundary'!$F$10,1,15+1))-'Boundary'!B20))),360)>90,MOD(DEGREES(ATAN2((INDEX('Boundary'!$C$6:$C$35,IF(15='Boundary'!$F$10,1,15+1))-'Boundary'!C20),(INDEX('Boundary'!$B$6:$B$35,IF(15='Boundary'!$F$10,1,15+1))-'Boundary'!B20))),360)<=270),MOD(DEGREES(ATAN2((INDEX('Boundary'!$C$6:$C$35,IF(15='Boundary'!$F$10,1,15+1))-'Boundary'!C20),(INDEX('Boundary'!$B$6:$B$35,IF(15='Boundary'!$F$10,1,15+1))-'Boundary'!B20))),360)-180,MOD(DEGREES(ATAN2((INDEX('Boundary'!$C$6:$C$35,IF(15='Boundary'!$F$10,1,15+1))-'Boundary'!C20),(INDEX('Boundary'!$B$6:$B$35,IF(15='Boundary'!$F$10,1,15+1))-'Boundary'!B20))),360)),"") | F20: =IF(15<='Boundary'!$F$10,'Boundary'!C20*INDEX('Boundary'!$B$6:$B$35,IF(15='Boundary'!$F$10,1,15+1))-INDEX('Boundary'!$C$6:$C$35,IF(15='Boundary'!$F$10,1,15+1))*'Boundary'!B20,0) | G20: =IF(AND(15<='Boundary'!$F$10,OR('Boundary'!$F$5="Yes",15<'Boundary'!$F$10)),('Boundary'!C20+INDEX('Boundary'!$C$6:$C$35,IF(15='Boundary'!$F$10,1,15+1)))/2,"") | H20: =IF(AND(15<='Boundary'!$F$10,OR('Boundary'!$F$5="Yes",15<'Boundary'!$F$10)),('Boundary'!B20+INDEX('Boundary'!$B$6:$B$35,IF(15='Boundary'!$F$10,1,15+1)))/2,"") | I20: =IF(AND(15<='Boundary'!$F$10,OR('Boundary'!$F$5="Yes",15<'Boundary'!$F$10)),G20-0.8*'Boundary'!$F$6*SIN(RADIANS(E20)),"") | J20: =IF(AND(15<='Boundary'!$F$10,OR('Boundary'!$F$5="Yes",15<'Boundary'!$F$10)),H20+0.8*'Boundary'!$F$6*COS(RADIANS(E20)),"") | K20: =IF(15<='Boundary'!$F$10,K19&" "&SUBSTITUTE(ROUND('Boundary'!C20,3)&"",",",".")&","&SUBSTITUTE(ROUND('Boundary'!B20,3)&"",",","."),K19) | L20: =IF(15<='Boundary'!$F$10,('Boundary'!C20+INDEX('Boundary'!$C$6:$C$35,IF(15='Boundary'!$F$10,1,15+1)))*F20,0) | M20: =IF(15<='Boundary'!$F$10,('Boundary'!B20+INDEX('Boundary'!$B$6:$B$35,IF(15='Boundary'!$F$10,1,15+1)))*F20,0)
A21: =IF(16<='Boundary'!$F$10,'Boundary'!A21,"") | B21: =IF(AND(16<='Boundary'!$F$10,OR('Boundary'!$F$5="Yes",16<'Boundary'!$F$10)),SQRT((INDEX('Boundary'!$B$6:$B$35,IF(16='Boundary'!$F$10,1,16+1))-'Boundary'!B21)^2+(INDEX('Boundary'!$C$6:$C$35,IF(16='Boundary'!$F$10,1,16+1))-'Boundary'!C21)^2),"") | C21: =IF(AND(16<='Boundary'!$F$10,OR('Boundary'!$F$5="Yes",16<'Boundary'!$F$10)),MOD(DEGREES(ATAN2((INDEX('Boundary'!$B$6:$B$35,IF(16='Boundary'!$F$10,1,16+1))-'Boundary'!B21),(INDEX('Boundary'!$C$6:$C$35,IF(16='Boundary'!$F$10,1,16+1))-'Boundary'!C21))),360),"") | D21: =IF(AND(16<='Boundary'!$F$10,OR('Boundary'!$F$5="Yes",16<'Boundary'!$F$10)),INT(MOD(ROUND(MOD(C21,360)*3600,0),1296000)/3600)&"°"&TEXT(INT(MOD(MOD(ROUND(MOD(C21,360)*3600,0),1296000),3600)/60),"00")&"'"&TEXT(MOD(MOD(ROUND(MOD(C21,360)*3600,0),1296000),60),"00")&"""","") | E21: =IF(AND(16<='Boundary'!$F$10,OR('Boundary'!$F$5="Yes",16<'Boundary'!$F$10)),IF(AND(MOD(DEGREES(ATAN2((INDEX('Boundary'!$C$6:$C$35,IF(16='Boundary'!$F$10,1,16+1))-'Boundary'!C21),(INDEX('Boundary'!$B$6:$B$35,IF(16='Boundary'!$F$10,1,16+1))-'Boundary'!B21))),360)>90,MOD(DEGREES(ATAN2((INDEX('Boundary'!$C$6:$C$35,IF(16='Boundary'!$F$10,1,16+1))-'Boundary'!C21),(INDEX('Boundary'!$B$6:$B$35,IF(16='Boundary'!$F$10,1,16+1))-'Boundary'!B21))),360)<=270),MOD(DEGREES(ATAN2((INDEX('Boundary'!$C$6:$C$35,IF(16='Boundary'!$F$10,1,16+1))-'Boundary'!C21),(INDEX('Boundary'!$B$6:$B$35,IF(16='Boundary'!$F$10,1,16+1))-'Boundary'!B21))),360)-180,MOD(DEGREES(ATAN2((INDEX('Boundary'!$C$6:$C$35,IF(16='Boundary'!$F$10,1,16+1))-'Boundary'!C21),(INDEX('Boundary'!$B$6:$B$35,IF(16='Boundary'!$F$10,1,16+1))-'Boundary'!B21))),360)),"") | F21: =IF(16<='Boundary'!$F$10,'Boundary'!C21*INDEX('Boundary'!$B$6:$B$35,IF(16='Boundary'!$F$10,1,16+1))-INDEX('Boundary'!$C$6:$C$35,IF(16='Boundary'!$F$10,1,16+1))*'Boundary'!B21,0) | G21: =IF(AND(16<='Boundary'!$F$10,OR('Boundary'!$F$5="Yes",16<'Boundary'!$F$10)),('Boundary'!C21+INDEX('Boundary'!$C$6:$C$35,IF(16='Boundary'!$F$10,1,16+1)))/2,"") | H21: =IF(AND(16<='Boundary'!$F$10,OR('Boundary'!$F$5="Yes",16<'Boundary'!$F$10)),('Boundary'!B21+INDEX('Boundary'!$B$6:$B$35,IF(16='Boundary'!$F$10,1,16+1)))/2,"") | I21: =IF(AND(16<='Boundary'!$F$10,OR('Boundary'!$F$5="Yes",16<'Boundary'!$F$10)),G21-0.8*'Boundary'!$F$6*SIN(RADIANS(E21)),"") | J21: =IF(AND(16<='Boundary'!$F$10,OR('Boundary'!$F$5="Yes",16<'Boundary'!$F$10)),H21+0.8*'Boundary'!$F$6*COS(RADIANS(E21)),"") | K21: =IF(16<='Boundary'!$F$10,K20&" "&SUBSTITUTE(ROUND('Boundary'!C21,3)&"",",",".")&","&SUBSTITUTE(ROUND('Boundary'!B21,3)&"",",","."),K20) | L21: =IF(16<='Boundary'!$F$10,('Boundary'!C21+INDEX('Boundary'!$C$6:$C$35,IF(16='Boundary'!$F$10,1,16+1)))*F21,0) | M21: =IF(16<='Boundary'!$F$10,('Boundary'!B21+INDEX('Boundary'!$B$6:$B$35,IF(16='Boundary'!$F$10,1,16+1)))*F21,0)
A22: =IF(17<='Boundary'!$F$10,'Boundary'!A22,"") | B22: =IF(AND(17<='Boundary'!$F$10,OR('Boundary'!$F$5="Yes",17<'Boundary'!$F$10)),SQRT((INDEX('Boundary'!$B$6:$B$35,IF(17='Boundary'!$F$10,1,17+1))-'Boundary'!B22)^2+(INDEX('Boundary'!$C$6:$C$35,IF(17='Boundary'!$F$10,1,17+1))-'Boundary'!C22)^2),"") | C22: =IF(AND(17<='Boundary'!$F$10,OR('Boundary'!$F$5="Yes",17<'Boundary'!$F$10)),MOD(DEGREES(ATAN2((INDEX('Boundary'!$B$6:$B$35,IF(17='Boundary'!$F$10,1,17+1))-'Boundary'!B22),(INDEX('Boundary'!$C$6:$C$35,IF(17='Boundary'!$F$10,1,17+1))-'Boundary'!C22))),360),"") | D22: =IF(AND(17<='Boundary'!$F$10,OR('Boundary'!$F$5="Yes",17<'Boundary'!$F$10)),INT(MOD(ROUND(MOD(C22,360)*3600,0),1296000)/3600)&"°"&TEXT(INT(MOD(MOD(ROUND(MOD(C22,360)*3600,0),1296000),3600)/60),"00")&"'"&TEXT(MOD(MOD(ROUND(MOD(C22,360)*3600,0),1296000),60),"00")&"""","") | E22: =IF(AND(17<='Boundary'!$F$10,OR('Boundary'!$F$5="Yes",17<'Boundary'!$F$10)),IF(AND(MOD(DEGREES(ATAN2((INDEX('Boundary'!$C$6:$C$35,IF(17='Boundary'!$F$10,1,17+1))-'Boundary'!C22),(INDEX('Boundary'!$B$6:$B$35,IF(17='Boundary'!$F$10,1,17+1))-'Boundary'!B22))),360)>90,MOD(DEGREES(ATAN2((INDEX('Boundary'!$C$6:$C$35,IF(17='Boundary'!$F$10,1,17+1))-'Boundary'!C22),(INDEX('Boundary'!$B$6:$B$35,IF(17='Boundary'!$F$10,1,17+1))-'Boundary'!B22))),360)<=270),MOD(DEGREES(ATAN2((INDEX('Boundary'!$C$6:$C$35,IF(17='Boundary'!$F$10,1,17+1))-'Boundary'!C22),(INDEX('Boundary'!$B$6:$B$35,IF(17='Boundary'!$F$10,1,17+1))-'Boundary'!B22))),360)-180,MOD(DEGREES(ATAN2((INDEX('Boundary'!$C$6:$C$35,IF(17='Boundary'!$F$10,1,17+1))-'Boundary'!C22),(INDEX('Boundary'!$B$6:$B$35,IF(17='Boundary'!$F$10,1,17+1))-'Boundary'!B22))),360)),"") | F22: =IF(17<='Boundary'!$F$10,'Boundary'!C22*INDEX('Boundary'!$B$6:$B$35,IF(17='Boundary'!$F$10,1,17+1))-INDEX('Boundary'!$C$6:$C$35,IF(17='Boundary'!$F$10,1,17+1))*'Boundary'!B22,0) | G22: =IF(AND(17<='Boundary'!$F$10,OR('Boundary'!$F$5="Yes",17<'Boundary'!$F$10)),('Boundary'!C22+INDEX('Boundary'!$C$6:$C$35,IF(17='Boundary'!$F$10,1,17+1)))/2,"") | H22: =IF(AND(17<='Boundary'!$F$10,OR('Boundary'!$F$5="Yes",17<'Boundary'!$F$10)),('Boundary'!B22+INDEX('Boundary'!$B$6:$B$35,IF(17='Boundary'!$F$10,1,17+1)))/2,"") | I22: =IF(AND(17<='Boundary'!$F$10,OR('Boundary'!$F$5="Yes",17<'Boundary'!$F$10)),G22-0.8*'Boundary'!$F$6*SIN(RADIANS(E22)),"") | J22: =IF(AND(17<='Boundary'!$F$10,OR('Boundary'!$F$5="Yes",17<'Boundary'!$F$10)),H22+0.8*'Boundary'!$F$6*COS(RADIANS(E22)),"") | K22: =IF(17<='Boundary'!$F$10,K21&" "&SUBSTITUTE(ROUND('Boundary'!C22,3)&"",",",".")&","&SUBSTITUTE(ROUND('Boundary'!B22,3)&"",",","."),K21) | L22: =IF(17<='Boundary'!$F$10,('Boundary'!C22+INDEX('Boundary'!$C$6:$C$35,IF(17='Boundary'!$F$10,1,17+1)))*F22,0) | M22: =IF(17<='Boundary'!$F$10,('Boundary'!B22+INDEX('Boundary'!$B$6:$B$35,IF(17='Boundary'!$F$10,1,17+1)))*F22,0)
A23: =IF(18<='Boundary'!$F$10,'Boundary'!A23,"") | B23: =IF(AND(18<='Boundary'!$F$10,OR('Boundary'!$F$5="Yes",18<'Boundary'!$F$10)),SQRT((INDEX('Boundary'!$B$6:$B$35,IF(18='Boundary'!$F$10,1,18+1))-'Boundary'!B23)^2+(INDEX('Boundary'!$C$6:$C$35,IF(18='Boundary'!$F$10,1,18+1))-'Boundary'!C23)^2),"") | C23: =IF(AND(18<='Boundary'!$F$10,OR('Boundary'!$F$5="Yes",18<'Boundary'!$F$10)),MOD(DEGREES(ATAN2((INDEX('Boundary'!$B$6:$B$35,IF(18='Boundary'!$F$10,1,18+1))-'Boundary'!B23),(INDEX('Boundary'!$C$6:$C$35,IF(18='Boundary'!$F$10,1,18+1))-'Boundary'!C23))),360),"") | D23: =IF(AND(18<='Boundary'!$F$10,OR('Boundary'!$F$5="Yes",18<'Boundary'!$F$10)),INT(MOD(ROUND(MOD(C23,360)*3600,0),1296000)/3600)&"°"&TEXT(INT(MOD(MOD(ROUND(MOD(C23,360)*3600,0),1296000),3600)/60),"00")&"'"&TEXT(MOD(MOD(ROUND(MOD(C23,360)*3600,0),1296000),60),"00")&"""","") | E23: =IF(AND(18<='Boundary'!$F$10,OR('Boundary'!$F$5="Yes",18<'Boundary'!$F$10)),IF(AND(MOD(DEGREES(ATAN2((INDEX('Boundary'!$C$6:$C$35,IF(18='Boundary'!$F$10,1,18+1))-'Boundary'!C23),(INDEX('Boundary'!$B$6:$B$35,IF(18='Boundary'!$F$10,1,18+1))-'Boundary'!B23))),360)>90,MOD(DEGREES(ATAN2((INDEX('Boundary'!$C$6:$C$35,IF(18='Boundary'!$F$10,1,18+1))-'Boundary'!C23),(INDEX('Boundary'!$B$6:$B$35,IF(18='Boundary'!$F$10,1,18+1))-'Boundary'!B23))),360)<=270),MOD(DEGREES(ATAN2((INDEX('Boundary'!$C$6:$C$35,IF(18='Boundary'!$F$10,1,18+1))-'Boundary'!C23),(INDEX('Boundary'!$B$6:$B$35,IF(18='Boundary'!$F$10,1,18+1))-'Boundary'!B23))),360)-180,MOD(DEGREES(ATAN2((INDEX('Boundary'!$C$6:$C$35,IF(18='Boundary'!$F$10,1,18+1))-'Boundary'!C23),(INDEX('Boundary'!$B$6:$B$35,IF(18='Boundary'!$F$10,1,18+1))-'Boundary'!B23))),360)),"") | F23: =IF(18<='Boundary'!$F$10,'Boundary'!C23*INDEX('Boundary'!$B$6:$B$35,IF(18='Boundary'!$F$10,1,18+1))-INDEX('Boundary'!$C$6:$C$35,IF(18='Boundary'!$F$10,1,18+1))*'Boundary'!B23,0) | G23: =IF(AND(18<='Boundary'!$F$10,OR('Boundary'!$F$5="Yes",18<'Boundary'!$F$10)),('Boundary'!C23+INDEX('Boundary'!$C$6:$C$35,IF(18='Boundary'!$F$10,1,18+1)))/2,"") | H23: =IF(AND(18<='Boundary'!$F$10,OR('Boundary'!$F$5="Yes",18<'Boundary'!$F$10)),('Boundary'!B23+INDEX('Boundary'!$B$6:$B$35,IF(18='Boundary'!$F$10,1,18+1)))/2,"") | I23: =IF(AND(18<='Boundary'!$F$10,OR('Boundary'!$F$5="Yes",18<'Boundary'!$F$10)),G23-0.8*'Boundary'!$F$6*SIN(RADIANS(E23)),"") | J23: =IF(AND(18<='Boundary'!$F$10,OR('Boundary'!$F$5="Yes",18<'Boundary'!$F$10)),H23+0.8*'Boundary'!$F$6*COS(RADIANS(E23)),"") | K23: =IF(18<='Boundary'!$F$10,K22&" "&SUBSTITUTE(ROUND('Boundary'!C23,3)&"",",",".")&","&SUBSTITUTE(ROUND('Boundary'!B23,3)&"",",","."),K22) | L23: =IF(18<='Boundary'!$F$10,('Boundary'!C23+INDEX('Boundary'!$C$6:$C$35,IF(18='Boundary'!$F$10,1,18+1)))*F23,0) | M23: =IF(18<='Boundary'!$F$10,('Boundary'!B23+INDEX('Boundary'!$B$6:$B$35,IF(18='Boundary'!$F$10,1,18+1)))*F23,0)
A24: =IF(19<='Boundary'!$F$10,'Boundary'!A24,"") | B24: =IF(AND(19<='Boundary'!$F$10,OR('Boundary'!$F$5="Yes",19<'Boundary'!$F$10)),SQRT((INDEX('Boundary'!$B$6:$B$35,IF(19='Boundary'!$F$10,1,19+1))-'Boundary'!B24)^2+(INDEX('Boundary'!$C$6:$C$35,IF(19='Boundary'!$F$10,1,19+1))-'Boundary'!C24)^2),"") | C24: =IF(AND(19<='Boundary'!$F$10,OR('Boundary'!$F$5="Yes",19<'Boundary'!$F$10)),MOD(DEGREES(ATAN2((INDEX('Boundary'!$B$6:$B$35,IF(19='Boundary'!$F$10,1,19+1))-'Boundary'!B24),(INDEX('Boundary'!$C$6:$C$35,IF(19='Boundary'!$F$10,1,19+1))-'Boundary'!C24))),360),"") | D24: =IF(AND(19<='Boundary'!$F$10,OR('Boundary'!$F$5="Yes",19<'Boundary'!$F$10)),INT(MOD(ROUND(MOD(C24,360)*3600,0),1296000)/3600)&"°"&TEXT(INT(MOD(MOD(ROUND(MOD(C24,360)*3600,0),1296000),3600)/60),"00")&"'"&TEXT(MOD(MOD(ROUND(MOD(C24,360)*3600,0),1296000),60),"00")&"""","") | E24: =IF(AND(19<='Boundary'!$F$10,OR('Boundary'!$F$5="Yes",19<'Boundary'!$F$10)),IF(AND(MOD(DEGREES(ATAN2((INDEX('Boundary'!$C$6:$C$35,IF(19='Boundary'!$F$10,1,19+1))-'Boundary'!C24),(INDEX('Boundary'!$B$6:$B$35,IF(19='Boundary'!$F$10,1,19+1))-'Boundary'!B24))),360)>90,MOD(DEGREES(ATAN2((INDEX('Boundary'!$C$6:$C$35,IF(19='Boundary'!$F$10,1,19+1))-'Boundary'!C24),(INDEX('Boundary'!$B$6:$B$35,IF(19='Boundary'!$F$10,1,19+1))-'Boundary'!B24))),360)<=270),MOD(DEGREES(ATAN2((INDEX('Boundary'!$C$6:$C$35,IF(19='Boundary'!$F$10,1,19+1))-'Boundary'!C24),(INDEX('Boundary'!$B$6:$B$35,IF(19='Boundary'!$F$10,1,19+1))-'Boundary'!B24))),360)-180,MOD(DEGREES(ATAN2((INDEX('Boundary'!$C$6:$C$35,IF(19='Boundary'!$F$10,1,19+1))-'Boundary'!C24),(INDEX('Boundary'!$B$6:$B$35,IF(19='Boundary'!$F$10,1,19+1))-'Boundary'!B24))),360)),"") | F24: =IF(19<='Boundary'!$F$10,'Boundary'!C24*INDEX('Boundary'!$B$6:$B$35,IF(19='Boundary'!$F$10,1,19+1))-INDEX('Boundary'!$C$6:$C$35,IF(19='Boundary'!$F$10,1,19+1))*'Boundary'!B24,0) | G24: =IF(AND(19<='Boundary'!$F$10,OR('Boundary'!$F$5="Yes",19<'Boundary'!$F$10)),('Boundary'!C24+INDEX('Boundary'!$C$6:$C$35,IF(19='Boundary'!$F$10,1,19+1)))/2,"") | H24: =IF(AND(19<='Boundary'!$F$10,OR('Boundary'!$F$5="Yes",19<'Boundary'!$F$10)),('Boundary'!B24+INDEX('Boundary'!$B$6:$B$35,IF(19='Boundary'!$F$10,1,19+1)))/2,"") | I24: =IF(AND(19<='Boundary'!$F$10,OR('Boundary'!$F$5="Yes",19<'Boundary'!$F$10)),G24-0.8*'Boundary'!$F$6*SIN(RADIANS(E24)),"") | J24: =IF(AND(19<='Boundary'!$F$10,OR('Boundary'!$F$5="Yes",19<'Boundary'!$F$10)),H24+0.8*'Boundary'!$F$6*COS(RADIANS(E24)),"") | K24: =IF(19<='Boundary'!$F$10,K23&" "&SUBSTITUTE(ROUND('Boundary'!C24,3)&"",",",".")&","&SUBSTITUTE(ROUND('Boundary'!B24,3)&"",",","."),K23) | L24: =IF(19<='Boundary'!$F$10,('Boundary'!C24+INDEX('Boundary'!$C$6:$C$35,IF(19='Boundary'!$F$10,1,19+1)))*F24,0) | M24: =IF(19<='Boundary'!$F$10,('Boundary'!B24+INDEX('Boundary'!$B$6:$B$35,IF(19='Boundary'!$F$10,1,19+1)))*F24,0)
A25: =IF(20<='Boundary'!$F$10,'Boundary'!A25,"") | B25: =IF(AND(20<='Boundary'!$F$10,OR('Boundary'!$F$5="Yes",20<'Boundary'!$F$10)),SQRT((INDEX('Boundary'!$B$6:$B$35,IF(20='Boundary'!$F$10,1,20+1))-'Boundary'!B25)^2+(INDEX('Boundary'!$C$6:$C$35,IF(20='Boundary'!$F$10,1,20+1))-'Boundary'!C25)^2),"") | C25: =IF(AND(20<='Boundary'!$F$10,OR('Boundary'!$F$5="Yes",20<'Boundary'!$F$10)),MOD(DEGREES(ATAN2((INDEX('Boundary'!$B$6:$B$35,IF(20='Boundary'!$F$10,1,20+1))-'Boundary'!B25),(INDEX('Boundary'!$C$6:$C$35,IF(20='Boundary'!$F$10,1,20+1))-'Boundary'!C25))),360),"") | D25: =IF(AND(20<='Boundary'!$F$10,OR('Boundary'!$F$5="Yes",20<'Boundary'!$F$10)),INT(MOD(ROUND(MOD(C25,360)*3600,0),1296000)/3600)&"°"&TEXT(INT(MOD(MOD(ROUND(MOD(C25,360)*3600,0),1296000),3600)/60),"00")&"'"&TEXT(MOD(MOD(ROUND(MOD(C25,360)*3600,0),1296000),60),"00")&"""","") | E25: =IF(AND(20<='Boundary'!$F$10,OR('Boundary'!$F$5="Yes",20<'Boundary'!$F$10)),IF(AND(MOD(DEGREES(ATAN2((INDEX('Boundary'!$C$6:$C$35,IF(20='Boundary'!$F$10,1,20+1))-'Boundary'!C25),(INDEX('Boundary'!$B$6:$B$35,IF(20='Boundary'!$F$10,1,20+1))-'Boundary'!B25))),360)>90,MOD(DEGREES(ATAN2((INDEX('Boundary'!$C$6:$C$35,IF(20='Boundary'!$F$10,1,20+1))-'Boundary'!C25),(INDEX('Boundary'!$B$6:$B$35,IF(20='Boundary'!$F$10,1,20+1))-'Boundary'!B25))),360)<=270),MOD(DEGREES(ATAN2((INDEX('Boundary'!$C$6:$C$35,IF(20='Boundary'!$F$10,1,20+1))-'Boundary'!C25),(INDEX('Boundary'!$B$6:$B$35,IF(20='Boundary'!$F$10,1,20+1))-'Boundary'!B25))),360)-180,MOD(DEGREES(ATAN2((INDEX('Boundary'!$C$6:$C$35,IF(20='Boundary'!$F$10,1,20+1))-'Boundary'!C25),(INDEX('Boundary'!$B$6:$B$35,IF(20='Boundary'!$F$10,1,20+1))-'Boundary'!B25))),360)),"") | F25: =IF(20<='Boundary'!$F$10,'Boundary'!C25*INDEX('Boundary'!$B$6:$B$35,IF(20='Boundary'!$F$10,1,20+1))-INDEX('Boundary'!$C$6:$C$35,IF(20='Boundary'!$F$10,1,20+1))*'Boundary'!B25,0) | G25: =IF(AND(20<='Boundary'!$F$10,OR('Boundary'!$F$5="Yes",20<'Boundary'!$F$10)),('Boundary'!C25+INDEX('Boundary'!$C$6:$C$35,IF(20='Boundary'!$F$10,1,20+1)))/2,"") | H25: =IF(AND(20<='Boundary'!$F$10,OR('Boundary'!$F$5="Yes",20<'Boundary'!$F$10)),('Boundary'!B25+INDEX('Boundary'!$B$6:$B$35,IF(20='Boundary'!$F$10,1,20+1)))/2,"") | I25: =IF(AND(20<='Boundary'!$F$10,OR('Boundary'!$F$5="Yes",20<'Boundary'!$F$10)),G25-0.8*'Boundary'!$F$6*SIN(RADIANS(E25)),"") | J25: =IF(AND(20<='Boundary'!$F$10,OR('Boundary'!$F$5="Yes",20<'Boundary'!$F$10)),H25+0.8*'Boundary'!$F$6*COS(RADIANS(E25)),"") | K25: =IF(20<='Boundary'!$F$10,K24&" "&SUBSTITUTE(ROUND('Boundary'!C25,3)&"",",",".")&","&SUBSTITUTE(ROUND('Boundary'!B25,3)&"",",","."),K24) | L25: =IF(20<='Boundary'!$F$10,('Boundary'!C25+INDEX('Boundary'!$C$6:$C$35,IF(20='Boundary'!$F$10,1,20+1)))*F25,0) | M25: =IF(20<='Boundary'!$F$10,('Boundary'!B25+INDEX('Boundary'!$B$6:$B$35,IF(20='Boundary'!$F$10,1,20+1)))*F25,0)
